{"text_format":"1","workbook":"xlsx","n_sheets":4,"sheets":["BANCO DE DADOS","Padrão","Base","Relatorio"],"not_rendered":{"charts":0,"images":0,"macros":1,"external_links":1,"defined_names":22,"comments":1,"pivot_tables":0},"unopened":[],"bounds":{"document_bytes":16777216,"sheet_cells":100000,"rows_first":2000,"rows_last":500,"rows_between":2000,"halvings":0,"cell_chars":16384,"cell_head_chars":4096},"cells_cut":0,"cells_raw":0,"read":"whole","date_system":"1900"}

{"sheet":"BANCO DE DADOS","index":0,"n_rows":417,"n_cols":11,"rows_kept":417,"cut":false,"hidden":true,"merged":[]}
["MUNICÍPIO","AJUSTE ANTERIOR","ATUALIZACAO (KWH)","DIF PROX FAT (KWH)","PONTOS DE IP","DATA DA ATUALIZACAO","SOLICITANTE","MOTIVO","DATA DA SOLICITACAO"]
[{"$f":"IF(INDIRECT(\"RESUMO!\" & K2)=\"\",\"\",INDIRECT(\"RESUMO!\" & K2))","v":""},null,{"$f":"IF($A2<>\"\",VLOOKUP($A2,#REF!, 3, FALSE),\"\")","v":""},{"$f":"IF($A2<>\"\",VLOOKUP($A2,#REF!, 4, FALSE),\"\")","v":""},{"$f":"SUMIF(#REF!,'BANCO DE DADOS'!A2,#REF!)","v":{"$error":"#REF!"}},{"$f":"IF(A2=\"\",\"\",#REF!+24)","v":""},null,{"$f":"IF(OFFSET(INDIRECT(\"RESUMO!\" & K2),0,-1)=\"\",\"\",OFFSET(INDIRECT(\"RESUMO!\" & K2),0,-1))","v":{"$error":"#VALUE!"}},{"$f":"F2","v":""},null,"c12"]
[{"$f":"IF(INDIRECT(\"RESUMO!\" & K3)=\"\",\"\",INDIRECT(\"RESUMO!\" & K3))","v":""},null,{"$f":"IF($A3<>\"\",VLOOKUP($A3,#REF!, 3, FALSE),\"\")","v":""},{"$f":"IF($A3<>\"\",VLOOKUP($A3,#REF!, 4, FALSE),\"\")","v":""},{"$f":"SUMIF(#REF!,'BANCO DE DADOS'!A3,#REF!)","v":{"$error":"#REF!"}},{"$f":"IF(A3=\"\",\"\",#REF!+24)","v":""},null,{"$f":"IF(OFFSET(INDIRECT(\"RESUMO!\" & K3),0,-1)=\"\",\"\",OFFSET(INDIRECT(\"RESUMO!\" & K3),0,-1))","v":{"$error":"#VALUE!"}},{"$f":"F3","v":""},null,"c13"]
["",null,{"$f":"IF($A4<>\"\",VLOOKUP($A4,#REF!, 3, FALSE),\"\")","v":""},{"$f":"IF($A4<>\"\",VLOOKUP($A4,#REF!, 4, FALSE),\"\")","v":""},{"$f":"SUMIF(#REF!,'BANCO DE DADOS'!A4,#REF!)","v":{"$error":"#REF!"}},{"$f":"IF(A4=\"\",\"\",#REF!+24)","v":""},null,{"$error":"#VALUE!"},"",null,"c14"]
["",null,{"$f":"IF($A5<>\"\",VLOOKUP($A5,#REF!, 3, FALSE),\"\")","v":""},{"$f":"IF($A5<>\"\",VLOOKUP($A5,#REF!, 4, FALSE),\"\")","v":""},{"$f":"SUMIF(#REF!,'BANCO DE DADOS'!A5,#REF!)","v":{"$error":"#REF!"}},{"$f":"IF(A5=\"\",\"\",#REF!+24)","v":""},null,{"$error":"#VALUE!"},"",null,"c15"]
["",null,{"$f":"IF($A6<>\"\",VLOOKUP($A6,#REF!, 3, FALSE),\"\")","v":""},{"$f":"IF($A6<>\"\",VLOOKUP($A6,#REF!, 4, FALSE),\"\")","v":""},{"$f":"SUMIF(#REF!,'BANCO DE DADOS'!A6,#REF!)","v":{"$error":"#REF!"}},{"$f":"IF(A6=\"\",\"\",#REF!+24)","v":""},null,{"$error":"#VALUE!"},"",null,"c16"]
["",null,{"$f":"IF($A7<>\"\",VLOOKUP($A7,#REF!, 3, FALSE),\"\")","v":""},{"$f":"IF($A7<>\"\",VLOOKUP($A7,#REF!, 4, FALSE),\"\")","v":""},{"$f":"SUMIF(#REF!,'BANCO DE DADOS'!A7,#REF!)","v":{"$error":"#REF!"}},{"$f":"IF(A7=\"\",\"\",#REF!+24)","v":""},null,{"$error":"#VALUE!"},"",null,"c17"]
["",null,{"$f":"IF($A8<>\"\",VLOOKUP($A8,#REF!, 3, FALSE),\"\")","v":""},{"$f":"IF($A8<>\"\",VLOOKUP($A8,#REF!, 4, FALSE),\"\")","v":""},{"$f":"SUMIF(#REF!,'BANCO DE DADOS'!A8,#REF!)","v":{"$error":"#REF!"}},{"$f":"IF(A8=\"\",\"\",#REF!+24)","v":""},null,{"$error":"#VALUE!"},"",null,"c18"]
["",null,{"$f":"IF($A9<>\"\",VLOOKUP($A9,#REF!, 3, FALSE),\"\")","v":""},{"$f":"IF($A9<>\"\",VLOOKUP($A9,#REF!, 4, FALSE),\"\")","v":""},{"$f":"SUMIF(#REF!,'BANCO DE DADOS'!A9,#REF!)","v":{"$error":"#REF!"}},{"$f":"IF(A9=\"\",\"\",#REF!+24)","v":""},null,{"$error":"#VALUE!"},"",null,"c19"]
["",null,{"$f":"IF($A10<>\"\",VLOOKUP($A10,#REF!, 3, FALSE),\"\")","v":""},{"$f":"IF($A10<>\"\",VLOOKUP($A10,#REF!, 4, FALSE),\"\")","v":""},{"$f":"SUMIF(#REF!,'BANCO DE DADOS'!A10,#REF!)","v":{"$error":"#REF!"}},{"$f":"IF(A10=\"\",\"\",#REF!+24)","v":""},null,{"$error":"#VALUE!"},"",null,"c20"]
["",null,{"$f":"IF($A11<>\"\",VLOOKUP($A11,#REF!, 3, FALSE),\"\")","v":""},{"$f":"IF($A11<>\"\",VLOOKUP($A11,#REF!, 4, FALSE),\"\")","v":""},{"$f":"SUMIF(#REF!,'BANCO DE DADOS'!A11,#REF!)","v":{"$error":"#REF!"}},{"$f":"IF(A11=\"\",\"\",#REF!+24)","v":""},null,{"$error":"#VALUE!"},"",null,"c21"]
["",null,{"$f":"IF($A12<>\"\",VLOOKUP($A12,#REF!, 3, FALSE),\"\")","v":""},{"$f":"IF($A12<>\"\",VLOOKUP($A12,#REF!, 4, FALSE),\"\")","v":""},{"$f":"SUMIF(#REF!,'BANCO DE DADOS'!A12,#REF!)","v":{"$error":"#REF!"}},{"$f":"IF(A12=\"\",\"\",#REF!+24)","v":""},null,{"$error":"#VALUE!"},"",null,"c22"]
["",null,{"$f":"IF($A13<>\"\",VLOOKUP($A13,#REF!, 3, FALSE),\"\")","v":""},{"$f":"IF($A13<>\"\",VLOOKUP($A13,#REF!, 4, FALSE),\"\")","v":""},{"$f":"SUMIF(#REF!,'BANCO DE DADOS'!A13,#REF!)","v":{"$error":"#REF!"}},{"$f":"IF(A13=\"\",\"\",#REF!+24)","v":""},null,{"$error":"#VALUE!"},"",null,"c23"]
["",null,{"$f":"IF($A14<>\"\",VLOOKUP($A14,#REF!, 3, FALSE),\"\")","v":""},{"$f":"IF($A14<>\"\",VLOOKUP($A14,#REF!, 4, FALSE),\"\")","v":""},{"$f":"SUMIF(#REF!,'BANCO DE DADOS'!A14,#REF!)","v":{"$error":"#REF!"}},{"$f":"IF(A14=\"\",\"\",#REF!+24)","v":""},null,{"$error":"#VALUE!"},"",null,"c24"]
["",null,{"$f":"IF($A15<>\"\",VLOOKUP($A15,#REF!, 3, FALSE),\"\")","v":""},{"$f":"IF($A15<>\"\",VLOOKUP($A15,#REF!, 4, FALSE),\"\")","v":""},{"$f":"SUMIF(#REF!,'BANCO DE DADOS'!A15,#REF!)","v":{"$error":"#REF!"}},{"$f":"IF(A15=\"\",\"\",#REF!+24)","v":""},null,{"$error":"#VALUE!"},"",null,"c25"]
["",null,{"$f":"IF($A16<>\"\",VLOOKUP($A16,#REF!, 3, FALSE),\"\")","v":""},{"$f":"IF($A16<>\"\",VLOOKUP($A16,#REF!, 4, FALSE),\"\")","v":""},{"$f":"SUMIF(#REF!,'BANCO DE DADOS'!A16,#REF!)","v":{"$error":"#REF!"}},{"$f":"IF(A16=\"\",\"\",#REF!+24)","v":""},null,{"$error":"#VALUE!"},"",null,"c26"]
["",null,{"$f":"IF($A17<>\"\",VLOOKUP($A17,#REF!, 3, FALSE),\"\")","v":""},{"$f":"IF($A17<>\"\",VLOOKUP($A17,#REF!, 4, FALSE),\"\")","v":""},{"$f":"SUMIF(#REF!,'BANCO DE DADOS'!A17,#REF!)","v":{"$error":"#REF!"}},{"$f":"IF(A17=\"\",\"\",#REF!+24)","v":""},null,{"$error":"#VALUE!"},"",null,"c27"]
["",null,{"$f":"IF($A18<>\"\",VLOOKUP($A18,#REF!, 3, FALSE),\"\")","v":""},{"$f":"IF($A18<>\"\",VLOOKUP($A18,#REF!, 4, FALSE),\"\")","v":""},{"$f":"SUMIF(#REF!,'BANCO DE DADOS'!A18,#REF!)","v":{"$error":"#REF!"}},{"$f":"IF(A18=\"\",\"\",#REF!+24)","v":""},null,{"$error":"#VALUE!"},"",null,"c28"]
["",null,{"$f":"IF($A19<>\"\",VLOOKUP($A19,#REF!, 3, FALSE),\"\")","v":""},{"$f":"IF($A19<>\"\",VLOOKUP($A19,#REF!, 4, FALSE),\"\")","v":""},{"$f":"SUMIF(#REF!,'BANCO DE DADOS'!A19,#REF!)","v":{"$error":"#REF!"}},{"$f":"IF(A19=\"\",\"\",#REF!+24)","v":""},null,{"$error":"#VALUE!"},"",null,"c29"]
["",null,{"$f":"IF($A20<>\"\",VLOOKUP($A20,#REF!, 3, FALSE),\"\")","v":""},{"$f":"IF($A20<>\"\",VLOOKUP($A20,#REF!, 4, FALSE),\"\")","v":""},{"$f":"SUMIF(#REF!,'BANCO DE DADOS'!A20,#REF!)","v":{"$error":"#REF!"}},{"$f":"IF(A20=\"\",\"\",#REF!+24)","v":""},null,{"$error":"#VALUE!"},"",null,"c30"]
["",null,{"$f":"IF($A21<>\"\",VLOOKUP($A21,#REF!, 3, FALSE),\"\")","v":""},{"$f":"IF($A21<>\"\",VLOOKUP($A21,#REF!, 4, FALSE),\"\")","v":""},{"$f":"SUMIF(#REF!,'BANCO DE DADOS'!A21,#REF!)","v":{"$error":"#REF!"}},{"$f":"IF(A21=\"\",\"\",#REF!+24)","v":""},null,{"$error":"#VALUE!"},"",null,"c31"]
["",null,{"$f":"IF($A22<>\"\",VLOOKUP($A22,#REF!, 3, FALSE),\"\")","v":""},{"$f":"IF($A22<>\"\",VLOOKUP($A22,#REF!, 4, FALSE),\"\")","v":""},{"$f":"SUMIF(#REF!,'BANCO DE DADOS'!A22,#REF!)","v":{"$error":"#REF!"}},{"$f":"IF(A22=\"\",\"\",#REF!+24)","v":""},null,{"$error":"#VALUE!"},"",null,"c32"]
["",null,{"$f":"IF($A23<>\"\",VLOOKUP($A23,#REF!, 3, FALSE),\"\")","v":""},{"$f":"IF($A23<>\"\",VLOOKUP($A23,#REF!, 4, FALSE),\"\")","v":""},{"$f":"SUMIF(#REF!,'BANCO DE DADOS'!A23,#REF!)","v":{"$error":"#REF!"}},{"$f":"IF(A23=\"\",\"\",#REF!+24)","v":""},null,{"$error":"#VALUE!"},"",null,"c33"]
["",null,{"$f":"IF($A24<>\"\",VLOOKUP($A24,#REF!, 3, FALSE),\"\")","v":""},{"$f":"IF($A24<>\"\",VLOOKUP($A24,#REF!, 4, FALSE),\"\")","v":""},{"$f":"SUMIF(#REF!,'BANCO DE DADOS'!A24,#REF!)","v":{"$error":"#REF!"}},{"$f":"IF(A24=\"\",\"\",#REF!+24)","v":""},null,{"$error":"#VALUE!"},"",null,"c34"]
["",null,{"$f":"IF($A25<>\"\",VLOOKUP($A25,#REF!, 3, FALSE),\"\")","v":""},{"$f":"IF($A25<>\"\",VLOOKUP($A25,#REF!, 4, FALSE),\"\")","v":""},{"$f":"SUMIF(#REF!,'BANCO DE DADOS'!A25,#REF!)","v":{"$error":"#REF!"}},{"$f":"IF(A25=\"\",\"\",#REF!+24)","v":""},null,{"$error":"#VALUE!"},"",null,"c35"]
["",null,{"$f":"IF($A26<>\"\",VLOOKUP($A26,#REF!, 3, FALSE),\"\")","v":""},{"$f":"IF($A26<>\"\",VLOOKUP($A26,#REF!, 4, FALSE),\"\")","v":""},{"$f":"SUMIF(#REF!,'BANCO DE DADOS'!A26,#REF!)","v":{"$error":"#REF!"}},{"$f":"IF(A26=\"\",\"\",#REF!+24)","v":""},null,{"$error":"#VALUE!"},"",null,"c36"]
["",null,{"$f":"IF($A27<>\"\",VLOOKUP($A27,#REF!, 3, FALSE),\"\")","v":""},{"$f":"IF($A27<>\"\",VLOOKUP($A27,#REF!, 4, FALSE),\"\")","v":""},{"$f":"SUMIF(#REF!,'BANCO DE DADOS'!A27,#REF!)","v":{"$error":"#REF!"}},{"$f":"IF(A27=\"\",\"\",#REF!+24)","v":""},null,{"$error":"#VALUE!"},"",null,"c37"]
["",null,{"$f":"IF($A28<>\"\",VLOOKUP($A28,#REF!, 3, FALSE),\"\")","v":""},{"$f":"IF($A28<>\"\",VLOOKUP($A28,#REF!, 4, FALSE),\"\")","v":""},{"$f":"SUMIF(#REF!,'BANCO DE DADOS'!A28,#REF!)","v":{"$error":"#REF!"}},{"$f":"IF(A28=\"\",\"\",#REF!+24)","v":""},null,{"$error":"#VALUE!"},"",null,"c38"]
["",null,{"$f":"IF($A29<>\"\",VLOOKUP($A29,#REF!, 3, FALSE),\"\")","v":""},{"$f":"IF($A29<>\"\",VLOOKUP($A29,#REF!, 4, FALSE),\"\")","v":""},{"$f":"SUMIF(#REF!,'BANCO DE DADOS'!A29,#REF!)","v":{"$error":"#REF!"}},{"$f":"IF(A29=\"\",\"\",#REF!+24)","v":""},null,{"$error":"#VALUE!"},"",null,"c39"]
["",null,{"$f":"IF($A30<>\"\",VLOOKUP($A30,#REF!, 3, FALSE),\"\")","v":""},{"$f":"IF($A30<>\"\",VLOOKUP($A30,#REF!, 4, FALSE),\"\")","v":""},{"$f":"SUMIF(#REF!,'BANCO DE DADOS'!A30,#REF!)","v":{"$error":"#REF!"}},{"$f":"IF(A30=\"\",\"\",#REF!+24)","v":""},null,{"$error":"#VALUE!"},"",null,"c40"]
["",null,{"$f":"IF($A31<>\"\",VLOOKUP($A31,#REF!, 3, FALSE),\"\")","v":""},{"$f":"IF($A31<>\"\",VLOOKUP($A31,#REF!, 4, FALSE),\"\")","v":""},{"$f":"SUMIF(#REF!,'BANCO DE DADOS'!A31,#REF!)","v":{"$error":"#REF!"}},{"$f":"IF(A31=\"\",\"\",#REF!+24)","v":""},null,{"$error":"#VALUE!"},"",null,"c41"]
["",null,{"$f":"IF($A32<>\"\",VLOOKUP($A32,#REF!, 3, FALSE),\"\")","v":""},{"$f":"IF($A32<>\"\",VLOOKUP($A32,#REF!, 4, FALSE),\"\")","v":""},{"$f":"SUMIF(#REF!,'BANCO DE DADOS'!A32,#REF!)","v":{"$error":"#REF!"}},{"$f":"IF(A32=\"\",\"\",#REF!+24)","v":""},null,{"$error":"#VALUE!"},"",null,"c42"]
["",null,{"$f":"IF($A33<>\"\",VLOOKUP($A33,#REF!, 3, FALSE),\"\")","v":""},{"$f":"IF($A33<>\"\",VLOOKUP($A33,#REF!, 4, FALSE),\"\")","v":""},{"$f":"SUMIF(#REF!,'BANCO DE DADOS'!A33,#REF!)","v":{"$error":"#REF!"}},{"$f":"IF(A33=\"\",\"\",#REF!+24)","v":""},null,{"$error":"#VALUE!"},"",null,"c43"]
["",null,{"$f":"IF($A34<>\"\",VLOOKUP($A34,#REF!, 3, FALSE),\"\")","v":""},{"$f":"IF($A34<>\"\",VLOOKUP($A34,#REF!, 4, FALSE),\"\")","v":""},{"$f":"SUMIF(#REF!,'BANCO DE DADOS'!A34,#REF!)","v":{"$error":"#REF!"}},{"$f":"IF(A34=\"\",\"\",#REF!+24)","v":""},null,{"$error":"#VALUE!"},"",null,"c44"]
["",null,{"$f":"IF($A35<>\"\",VLOOKUP($A35,#REF!, 3, FALSE),\"\")","v":""},{"$f":"IF($A35<>\"\",VLOOKUP($A35,#REF!, 4, FALSE),\"\")","v":""},{"$f":"SUMIF(#REF!,'BANCO DE DADOS'!A35,#REF!)","v":{"$error":"#REF!"}},{"$f":"IF(A35=\"\",\"\",#REF!+24)","v":""},null,{"$error":"#VALUE!"},"",null,"c45"]
["",null,{"$f":"IF($A36<>\"\",VLOOKUP($A36,#REF!, 3, FALSE),\"\")","v":""},{"$f":"IF($A36<>\"\",VLOOKUP($A36,#REF!, 4, FALSE),\"\")","v":""},{"$f":"SUMIF(#REF!,'BANCO DE DADOS'!A36,#REF!)","v":{"$error":"#REF!"}},{"$f":"IF(A36=\"\",\"\",#REF!+24)","v":""},null,{"$error":"#VALUE!"},"",null,"c46"]
["",null,{"$f":"IF($A37<>\"\",VLOOKUP($A37,#REF!, 3, FALSE),\"\")","v":""},{"$f":"IF($A37<>\"\",VLOOKUP($A37,#REF!, 4, FALSE),\"\")","v":""},{"$f":"SUMIF(#REF!,'BANCO DE DADOS'!A37,#REF!)","v":{"$error":"#REF!"}},{"$f":"IF(A37=\"\",\"\",#REF!+24)","v":""},null,{"$error":"#VALUE!"},"",null,"c47"]
["",null,{"$f":"IF($A38<>\"\",VLOOKUP($A38,#REF!, 3, FALSE),\"\")","v":""},{"$f":"IF($A38<>\"\",VLOOKUP($A38,#REF!, 4, FALSE),\"\")","v":""},{"$f":"SUMIF(#REF!,'BANCO DE DADOS'!A38,#REF!)","v":{"$error":"#REF!"}},{"$f":"IF(A38=\"\",\"\",#REF!+24)","v":""},null,{"$error":"#VALUE!"},"",null,"c48"]
["",null,{"$f":"IF($A39<>\"\",VLOOKUP($A39,#REF!, 3, FALSE),\"\")","v":""},{"$f":"IF($A39<>\"\",VLOOKUP($A39,#REF!, 4, FALSE),\"\")","v":""},{"$f":"SUMIF(#REF!,'BANCO DE DADOS'!A39,#REF!)","v":{"$error":"#REF!"}},{"$f":"IF(A39=\"\",\"\",#REF!+24)","v":""},null,{"$error":"#VALUE!"},"",null,"c49"]
["",null,{"$f":"IF($A40<>\"\",VLOOKUP($A40,#REF!, 3, FALSE),\"\")","v":""},{"$f":"IF($A40<>\"\",VLOOKUP($A40,#REF!, 4, FALSE),\"\")","v":""},{"$f":"SUMIF(#REF!,'BANCO DE DADOS'!A40,#REF!)","v":{"$error":"#REF!"}},{"$f":"IF(A40=\"\",\"\",#REF!+24)","v":""},null,{"$error":"#VALUE!"},"",null,"c50"]
["",null,{"$f":"IF($A41<>\"\",VLOOKUP($A41,#REF!, 3, FALSE),\"\")","v":""},{"$f":"IF($A41<>\"\",VLOOKUP($A41,#REF!, 4, FALSE),\"\")","v":""},{"$f":"SUMIF(#REF!,'BANCO DE DADOS'!A41,#REF!)","v":{"$error":"#REF!"}},{"$f":"IF(A41=\"\",\"\",#REF!+24)","v":""},null,{"$error":"#VALUE!"},"",null,"c51"]
["",null,{"$f":"IF($A42<>\"\",VLOOKUP($A42,#REF!, 3, FALSE),\"\")","v":""},{"$f":"IF($A42<>\"\",VLOOKUP($A42,#REF!, 4, FALSE),\"\")","v":""},{"$f":"SUMIF(#REF!,'BANCO DE DADOS'!A42,#REF!)","v":{"$error":"#REF!"}},{"$f":"IF(A42=\"\",\"\",#REF!+24)","v":""},null,{"$error":"#VALUE!"},"",null,"c52"]
["",null,{"$f":"IF($A43<>\"\",VLOOKUP($A43,#REF!, 3, FALSE),\"\")","v":""},{"$f":"IF($A43<>\"\",VLOOKUP($A43,#REF!, 4, FALSE),\"\")","v":""},{"$f":"SUMIF(#REF!,'BANCO DE DADOS'!A43,#REF!)","v":{"$error":"#REF!"}},{"$f":"IF(A43=\"\",\"\",#REF!+24)","v":""},null,{"$error":"#VALUE!"},"",null,"c53"]
["",null,{"$f":"IF($A44<>\"\",VLOOKUP($A44,#REF!, 3, FALSE),\"\")","v":""},{"$f":"IF($A44<>\"\",VLOOKUP($A44,#REF!, 4, FALSE),\"\")","v":""},{"$f":"SUMIF(#REF!,'BANCO DE DADOS'!A44,#REF!)","v":{"$error":"#REF!"}},{"$f":"IF(A44=\"\",\"\",#REF!+24)","v":""},null,{"$error":"#VALUE!"},"",null,"c54"]
["",null,{"$f":"IF($A45<>\"\",VLOOKUP($A45,#REF!, 3, FALSE),\"\")","v":""},{"$f":"IF($A45<>\"\",VLOOKUP($A45,#REF!, 4, FALSE),\"\")","v":""},{"$f":"SUMIF(#REF!,'BANCO DE DADOS'!A45,#REF!)","v":{"$error":"#REF!"}},{"$f":"IF(A45=\"\",\"\",#REF!+24)","v":""},null,{"$error":"#VALUE!"},"",null,"c55"]
["",null,{"$f":"IF($A46<>\"\",VLOOKUP($A46,#REF!, 3, FALSE),\"\")","v":""},{"$f":"IF($A46<>\"\",VLOOKUP($A46,#REF!, 4, FALSE),\"\")","v":""},{"$f":"SUMIF(#REF!,'BANCO DE DADOS'!A46,#REF!)","v":{"$error":"#REF!"}},{"$f":"IF(A46=\"\",\"\",#REF!+24)","v":""},null,{"$error":"#VALUE!"},"",null,"c56"]
["",null,{"$f":"IF($A47<>\"\",VLOOKUP($A47,#REF!, 3, FALSE),\"\")","v":""},{"$f":"IF($A47<>\"\",VLOOKUP($A47,#REF!, 4, FALSE),\"\")","v":""},{"$f":"SUMIF(#REF!,'BANCO DE DADOS'!A47,#REF!)","v":{"$error":"#REF!"}},{"$f":"IF(A47=\"\",\"\",#REF!+24)","v":""},null,{"$error":"#VALUE!"},"",null,"c57"]
["",null,{"$f":"IF($A48<>\"\",VLOOKUP($A48,#REF!, 3, FALSE),\"\")","v":""},{"$f":"IF($A48<>\"\",VLOOKUP($A48,#REF!, 4, FALSE),\"\")","v":""},{"$f":"SUMIF(#REF!,'BANCO DE DADOS'!A48,#REF!)","v":{"$error":"#REF!"}},{"$f":"IF(A48=\"\",\"\",#REF!+24)","v":""},null,{"$error":"#VALUE!"},"",null,"c58"]
["",null,{"$f":"IF($A49<>\"\",VLOOKUP($A49,#REF!, 3, FALSE),\"\")","v":""},{"$f":"IF($A49<>\"\",VLOOKUP($A49,#REF!, 4, FALSE),\"\")","v":""},{"$f":"SUMIF(#REF!,'BANCO DE DADOS'!A49,#REF!)","v":{"$error":"#REF!"}},{"$f":"IF(A49=\"\",\"\",#REF!+24)","v":""},null,{"$error":"#VALUE!"},"",null,"c59"]
["",null,{"$f":"IF($A50<>\"\",VLOOKUP($A50,#REF!, 3, FALSE),\"\")","v":""},{"$f":"IF($A50<>\"\",VLOOKUP($A50,#REF!, 4, FALSE),\"\")","v":""},{"$f":"SUMIF(#REF!,'BANCO DE DADOS'!A50,#REF!)","v":{"$error":"#REF!"}},{"$f":"IF(A50=\"\",\"\",#REF!+24)","v":""},null,{"$error":"#VALUE!"},"",null,"c60"]
["",null,{"$f":"IF($A51<>\"\",VLOOKUP($A51,#REF!, 3, FALSE),\"\")","v":""},{"$f":"IF($A51<>\"\",VLOOKUP($A51,#REF!, 4, FALSE),\"\")","v":""},{"$f":"SUMIF(#REF!,'BANCO DE DADOS'!A51,#REF!)","v":{"$error":"#REF!"}},{"$f":"IF(A51=\"\",\"\",#REF!+24)","v":""},null,{"$error":"#VALUE!"},"",null,"c61"]
["",null,{"$f":"IF($A52<>\"\",VLOOKUP($A52,#REF!, 3, FALSE),\"\")","v":""},{"$f":"IF($A52<>\"\",VLOOKUP($A52,#REF!, 4, FALSE),\"\")","v":""},{"$f":"SUMIF(#REF!,'BANCO DE DADOS'!A52,#REF!)","v":{"$error":"#REF!"}},{"$f":"IF(A52=\"\",\"\",#REF!+24)","v":""},null,{"$error":"#VALUE!"},"",null,"c62"]
["",null,{"$f":"IF($A53<>\"\",VLOOKUP($A53,#REF!, 3, FALSE),\"\")","v":""},{"$f":"IF($A53<>\"\",VLOOKUP($A53,#REF!, 4, FALSE),\"\")","v":""},{"$f":"SUMIF(#REF!,'BANCO DE DADOS'!A53,#REF!)","v":{"$error":"#REF!"}},{"$f":"IF(A53=\"\",\"\",#REF!+24)","v":""},null,{"$error":"#VALUE!"},"",null,"c63"]
["",null,{"$f":"IF($A54<>\"\",VLOOKUP($A54,#REF!, 3, FALSE),\"\")","v":""},{"$f":"IF($A54<>\"\",VLOOKUP($A54,#REF!, 4, FALSE),\"\")","v":""},{"$f":"SUMIF(#REF!,'BANCO DE DADOS'!A54,#REF!)","v":{"$error":"#REF!"}},{"$f":"IF(A54=\"\",\"\",#REF!+24)","v":""},null,{"$error":"#VALUE!"},"",null,"c64"]
["",null,{"$f":"IF($A55<>\"\",VLOOKUP($A55,#REF!, 3, FALSE),\"\")","v":""},{"$f":"IF($A55<>\"\",VLOOKUP($A55,#REF!, 4, FALSE),\"\")","v":""},{"$f":"SUMIF(#REF!,'BANCO DE DADOS'!A55,#REF!)","v":{"$error":"#REF!"}},{"$f":"IF(A55=\"\",\"\",#REF!+24)","v":""},null,{"$error":"#VALUE!"},"",null,"c65"]
["",null,{"$f":"IF($A56<>\"\",VLOOKUP($A56,#REF!, 3, FALSE),\"\")","v":""},{"$f":"IF($A56<>\"\",VLOOKUP($A56,#REF!, 4, FALSE),\"\")","v":""},{"$f":"SUMIF(#REF!,'BANCO DE DADOS'!A56,#REF!)","v":{"$error":"#REF!"}},{"$f":"IF(A56=\"\",\"\",#REF!+24)","v":""},null,{"$error":"#VALUE!"},"",null,"c66"]
["",null,{"$f":"IF($A57<>\"\",VLOOKUP($A57,#REF!, 3, FALSE),\"\")","v":""},{"$f":"IF($A57<>\"\",VLOOKUP($A57,#REF!, 4, FALSE),\"\")","v":""},{"$f":"SUMIF(#REF!,'BANCO DE DADOS'!A57,#REF!)","v":{"$error":"#REF!"}},{"$f":"IF(A57=\"\",\"\",#REF!+24)","v":""},null,{"$error":"#VALUE!"},"",null,"c67"]
["",null,{"$f":"IF($A58<>\"\",VLOOKUP($A58,#REF!, 3, FALSE),\"\")","v":""},{"$f":"IF($A58<>\"\",VLOOKUP($A58,#REF!, 4, FALSE),\"\")","v":""},{"$f":"SUMIF(#REF!,'BANCO DE DADOS'!A58,#REF!)","v":{"$error":"#REF!"}},{"$f":"IF(A58=\"\",\"\",#REF!+24)","v":""},null,{"$error":"#VALUE!"},"",null,"c68"]
["",null,{"$f":"IF($A59<>\"\",VLOOKUP($A59,#REF!, 3, FALSE),\"\")","v":""},{"$f":"IF($A59<>\"\",VLOOKUP($A59,#REF!, 4, FALSE),\"\")","v":""},{"$f":"SUMIF(#REF!,'BANCO DE DADOS'!A59,#REF!)","v":{"$error":"#REF!"}},{"$f":"IF(A59=\"\",\"\",#REF!+24)","v":""},null,{"$error":"#VALUE!"},"",null,"c69"]
["",null,{"$f":"IF($A60<>\"\",VLOOKUP($A60,#REF!, 3, FALSE),\"\")","v":""},{"$f":"IF($A60<>\"\",VLOOKUP($A60,#REF!, 4, FALSE),\"\")","v":""},{"$f":"SUMIF(#REF!,'BANCO DE DADOS'!A60,#REF!)","v":{"$error":"#REF!"}},{"$f":"IF(A60=\"\",\"\",#REF!+24)","v":""},null,{"$error":"#VALUE!"},"",null,"c70"]
["",null,{"$f":"IF($A61<>\"\",VLOOKUP($A61,#REF!, 3, FALSE),\"\")","v":""},{"$f":"IF($A61<>\"\",VLOOKUP($A61,#REF!, 4, FALSE),\"\")","v":""},{"$f":"SUMIF(#REF!,'BANCO DE DADOS'!A61,#REF!)","v":{"$error":"#REF!"}},{"$f":"IF(A61=\"\",\"\",#REF!+24)","v":""},null,{"$error":"#VALUE!"},"",null,"c71"]
["",null,{"$f":"IF($A62<>\"\",VLOOKUP($A62,#REF!, 3, FALSE),\"\")","v":""},{"$f":"IF($A62<>\"\",VLOOKUP($A62,#REF!, 4, FALSE),\"\")","v":""},{"$f":"SUMIF(#REF!,'BANCO DE DADOS'!A62,#REF!)","v":{"$error":"#REF!"}},{"$f":"IF(A62=\"\",\"\",#REF!+24)","v":""},null,{"$error":"#VALUE!"},"",null,"c72"]
["",null,{"$f":"IF($A63<>\"\",VLOOKUP($A63,#REF!, 3, FALSE),\"\")","v":""},{"$f":"IF($A63<>\"\",VLOOKUP($A63,#REF!, 4, FALSE),\"\")","v":""},{"$f":"SUMIF(#REF!,'BANCO DE DADOS'!A63,#REF!)","v":{"$error":"#REF!"}},{"$f":"IF(A63=\"\",\"\",#REF!+24)","v":""},null,{"$error":"#VALUE!"},"",null,"c73"]
["",null,{"$f":"IF($A64<>\"\",VLOOKUP($A64,#REF!, 3, FALSE),\"\")","v":""},{"$f":"IF($A64<>\"\",VLOOKUP($A64,#REF!, 4, FALSE),\"\")","v":""},{"$f":"SUMIF(#REF!,'BANCO DE DADOS'!A64,#REF!)","v":{"$error":"#REF!"}},{"$f":"IF(A64=\"\",\"\",#REF!+24)","v":""},null,{"$error":"#VALUE!"},"",null,"c74"]
["",null,{"$f":"IF($A65<>\"\",VLOOKUP($A65,#REF!, 3, FALSE),\"\")","v":""},{"$f":"IF($A65<>\"\",VLOOKUP($A65,#REF!, 4, FALSE),\"\")","v":""},{"$f":"SUMIF(#REF!,'BANCO DE DADOS'!A65,#REF!)","v":{"$error":"#REF!"}},{"$f":"IF(A65=\"\",\"\",#REF!+24)","v":""},null,{"$error":"#VALUE!"},"",null,"c75"]
["",null,{"$f":"IF($A66<>\"\",VLOOKUP($A66,#REF!, 3, FALSE),\"\")","v":""},{"$f":"IF($A66<>\"\",VLOOKUP($A66,#REF!, 4, FALSE),\"\")","v":""},{"$f":"SUMIF(#REF!,'BANCO DE DADOS'!A66,#REF!)","v":{"$error":"#REF!"}},{"$f":"IF(A66=\"\",\"\",#REF!+24)","v":""},null,{"$error":"#VALUE!"},"",null,"c76"]
[{"$f":"IF(INDIRECT(\"RESUMO!\" & K67)=\"\",\"\",INDIRECT(\"RESUMO!\" & K67))","v":""},null,{"$f":"IF($A67<>\"\",VLOOKUP($A67,#REF!, 3, FALSE),\"\")","v":""},{"$f":"IF($A67<>\"\",VLOOKUP($A67,#REF!, 4, FALSE),\"\")","v":""},{"$f":"SUMIF(#REF!,'BANCO DE DADOS'!A67,#REF!)","v":{"$error":"#REF!"}},{"$f":"IF(A67=\"\",\"\",#REF!+24)","v":""},null,{"$f":"IF(OFFSET(INDIRECT(\"RESUMO!\" & K67),0,-1)=\"\",\"\",OFFSET(INDIRECT(\"RESUMO!\" & K67),0,-1))","v":{"$error":"#VALUE!"}},{"$f":"F67","v":""},null,"c77"]
["",null,{"$f":"IF($A68<>\"\",VLOOKUP($A68,#REF!, 3, FALSE),\"\")","v":""},{"$f":"IF($A68<>\"\",VLOOKUP($A68,#REF!, 4, FALSE),\"\")","v":""},{"$f":"SUMIF(#REF!,'BANCO DE DADOS'!A68,#REF!)","v":{"$error":"#REF!"}},{"$f":"IF(A68=\"\",\"\",#REF!+24)","v":""},null,{"$error":"#VALUE!"},"",null,"c78"]
["",null,{"$f":"IF($A69<>\"\",VLOOKUP($A69,#REF!, 3, FALSE),\"\")","v":""},{"$f":"IF($A69<>\"\",VLOOKUP($A69,#REF!, 4, FALSE),\"\")","v":""},{"$f":"SUMIF(#REF!,'BANCO DE DADOS'!A69,#REF!)","v":{"$error":"#REF!"}},{"$f":"IF(A69=\"\",\"\",#REF!+24)","v":""},null,{"$error":"#VALUE!"},"",null,"c79"]
["",null,{"$f":"IF($A70<>\"\",VLOOKUP($A70,#REF!, 3, FALSE),\"\")","v":""},{"$f":"IF($A70<>\"\",VLOOKUP($A70,#REF!, 4, FALSE),\"\")","v":""},{"$f":"SUMIF(#REF!,'BANCO DE DADOS'!A70,#REF!)","v":{"$error":"#REF!"}},{"$f":"IF(A70=\"\",\"\",#REF!+24)","v":""},null,{"$error":"#VALUE!"},"",null,"c80"]
["",null,{"$f":"IF($A71<>\"\",VLOOKUP($A71,#REF!, 3, FALSE),\"\")","v":""},{"$f":"IF($A71<>\"\",VLOOKUP($A71,#REF!, 4, FALSE),\"\")","v":""},{"$f":"SUMIF(#REF!,'BANCO DE DADOS'!A71,#REF!)","v":{"$error":"#REF!"}},{"$f":"IF(A71=\"\",\"\",#REF!+24)","v":""},null,{"$error":"#VALUE!"},"",null,"c81"]
["",null,{"$f":"IF($A72<>\"\",VLOOKUP($A72,#REF!, 3, FALSE),\"\")","v":""},{"$f":"IF($A72<>\"\",VLOOKUP($A72,#REF!, 4, FALSE),\"\")","v":""},{"$f":"SUMIF(#REF!,'BANCO DE DADOS'!A72,#REF!)","v":{"$error":"#REF!"}},{"$f":"IF(A72=\"\",\"\",#REF!+24)","v":""},null,{"$error":"#VALUE!"},"",null,"c82"]
["",null,{"$f":"IF($A73<>\"\",VLOOKUP($A73,#REF!, 3, FALSE),\"\")","v":""},{"$f":"IF($A73<>\"\",VLOOKUP($A73,#REF!, 4, FALSE),\"\")","v":""},{"$f":"SUMIF(#REF!,'BANCO DE DADOS'!A73,#REF!)","v":{"$error":"#REF!"}},{"$f":"IF(A73=\"\",\"\",#REF!+24)","v":""},null,{"$error":"#VALUE!"},"",null,"c83"]
["",null,{"$f":"IF($A74<>\"\",VLOOKUP($A74,#REF!, 3, FALSE),\"\")","v":""},{"$f":"IF($A74<>\"\",VLOOKUP($A74,#REF!, 4, FALSE),\"\")","v":""},{"$f":"SUMIF(#REF!,'BANCO DE DADOS'!A74,#REF!)","v":{"$error":"#REF!"}},{"$f":"IF(A74=\"\",\"\",#REF!+24)","v":""},null,{"$error":"#VALUE!"},"",null,"c84"]
["",null,{"$f":"IF($A75<>\"\",VLOOKUP($A75,#REF!, 3, FALSE),\"\")","v":""},{"$f":"IF($A75<>\"\",VLOOKUP($A75,#REF!, 4, FALSE),\"\")","v":""},{"$f":"SUMIF(#REF!,'BANCO DE DADOS'!A75,#REF!)","v":{"$error":"#REF!"}},{"$f":"IF(A75=\"\",\"\",#REF!+24)","v":""},null,{"$error":"#VALUE!"},"",null,"c85"]
["",null,{"$f":"IF($A76<>\"\",VLOOKUP($A76,#REF!, 3, FALSE),\"\")","v":""},{"$f":"IF($A76<>\"\",VLOOKUP($A76,#REF!, 4, FALSE),\"\")","v":""},{"$f":"SUMIF(#REF!,'BANCO DE DADOS'!A76,#REF!)","v":{"$error":"#REF!"}},{"$f":"IF(A76=\"\",\"\",#REF!+24)","v":""},null,{"$error":"#VALUE!"},"",null,"c86"]
["",null,{"$f":"IF($A77<>\"\",VLOOKUP($A77,#REF!, 3, FALSE),\"\")","v":""},{"$f":"IF($A77<>\"\",VLOOKUP($A77,#REF!, 4, FALSE),\"\")","v":""},{"$f":"SUMIF(#REF!,'BANCO DE DADOS'!A77,#REF!)","v":{"$error":"#REF!"}},{"$f":"IF(A77=\"\",\"\",#REF!+24)","v":""},null,{"$error":"#VALUE!"},"",null,"c87"]
["",null,{"$f":"IF($A78<>\"\",VLOOKUP($A78,#REF!, 3, FALSE),\"\")","v":""},{"$f":"IF($A78<>\"\",VLOOKUP($A78,#REF!, 4, FALSE),\"\")","v":""},{"$f":"SUMIF(#REF!,'BANCO DE DADOS'!A78,#REF!)","v":{"$error":"#REF!"}},{"$f":"IF(A78=\"\",\"\",#REF!+24)","v":""},null,{"$error":"#VALUE!"},"",null,"c88"]
["",null,{"$f":"IF($A79<>\"\",VLOOKUP($A79,#REF!, 3, FALSE),\"\")","v":""},{"$f":"IF($A79<>\"\",VLOOKUP($A79,#REF!, 4, FALSE),\"\")","v":""},{"$f":"SUMIF(#REF!,'BANCO DE DADOS'!A79,#REF!)","v":{"$error":"#REF!"}},{"$f":"IF(A79=\"\",\"\",#REF!+24)","v":""},null,{"$error":"#VALUE!"},"",null,"c89"]
["",null,{"$f":"IF($A80<>\"\",VLOOKUP($A80,#REF!, 3, FALSE),\"\")","v":""},{"$f":"IF($A80<>\"\",VLOOKUP($A80,#REF!, 4, FALSE),\"\")","v":""},{"$f":"SUMIF(#REF!,'BANCO DE DADOS'!A80,#REF!)","v":{"$error":"#REF!"}},{"$f":"IF(A80=\"\",\"\",#REF!+24)","v":""},null,{"$error":"#VALUE!"},"",null,"c90"]
["",null,{"$f":"IF($A81<>\"\",VLOOKUP($A81,#REF!, 3, FALSE),\"\")","v":""},{"$f":"IF($A81<>\"\",VLOOKUP($A81,#REF!, 4, FALSE),\"\")","v":""},{"$f":"SUMIF(#REF!,'BANCO DE DADOS'!A81,#REF!)","v":{"$error":"#REF!"}},{"$f":"IF(A81=\"\",\"\",#REF!+24)","v":""},null,{"$error":"#VALUE!"},"",null,"c91"]
["",null,{"$f":"IF($A82<>\"\",VLOOKUP($A82,#REF!, 3, FALSE),\"\")","v":""},{"$f":"IF($A82<>\"\",VLOOKUP($A82,#REF!, 4, FALSE),\"\")","v":""},{"$f":"SUMIF(#REF!,'BANCO DE DADOS'!A82,#REF!)","v":{"$error":"#REF!"}},{"$f":"IF(A82=\"\",\"\",#REF!+24)","v":""},null,{"$error":"#VALUE!"},"",null,"c92"]
["",null,{"$f":"IF($A83<>\"\",VLOOKUP($A83,#REF!, 3, FALSE),\"\")","v":""},{"$f":"IF($A83<>\"\",VLOOKUP($A83,#REF!, 4, FALSE),\"\")","v":""},{"$f":"SUMIF(#REF!,'BANCO DE DADOS'!A83,#REF!)","v":{"$error":"#REF!"}},{"$f":"IF(A83=\"\",\"\",#REF!+24)","v":""},null,{"$error":"#VALUE!"},"",null,"c93"]
["",null,{"$f":"IF($A84<>\"\",VLOOKUP($A84,#REF!, 3, FALSE),\"\")","v":""},{"$f":"IF($A84<>\"\",VLOOKUP($A84,#REF!, 4, FALSE),\"\")","v":""},{"$f":"SUMIF(#REF!,'BANCO DE DADOS'!A84,#REF!)","v":{"$error":"#REF!"}},{"$f":"IF(A84=\"\",\"\",#REF!+24)","v":""},null,{"$error":"#VALUE!"},"",null,"c94"]
["",null,{"$f":"IF($A85<>\"\",VLOOKUP($A85,#REF!, 3, FALSE),\"\")","v":""},{"$f":"IF($A85<>\"\",VLOOKUP($A85,#REF!, 4, FALSE),\"\")","v":""},{"$f":"SUMIF(#REF!,'BANCO DE DADOS'!A85,#REF!)","v":{"$error":"#REF!"}},{"$f":"IF(A85=\"\",\"\",#REF!+24)","v":""},null,{"$error":"#VALUE!"},"",null,"c95"]
["",null,{"$f":"IF($A86<>\"\",VLOOKUP($A86,#REF!, 3, FALSE),\"\")","v":""},{"$f":"IF($A86<>\"\",VLOOKUP($A86,#REF!, 4, FALSE),\"\")","v":""},{"$f":"SUMIF(#REF!,'BANCO DE DADOS'!A86,#REF!)","v":{"$error":"#REF!"}},{"$f":"IF(A86=\"\",\"\",#REF!+24)","v":""},null,{"$error":"#VALUE!"},"",null,"c96"]
["",null,{"$f":"IF($A87<>\"\",VLOOKUP($A87,#REF!, 3, FALSE),\"\")","v":""},{"$f":"IF($A87<>\"\",VLOOKUP($A87,#REF!, 4, FALSE),\"\")","v":""},{"$f":"SUMIF(#REF!,'BANCO DE DADOS'!A87,#REF!)","v":{"$error":"#REF!"}},{"$f":"IF(A87=\"\",\"\",#REF!+24)","v":""},null,{"$error":"#VALUE!"},"",null,"c97"]
["",null,{"$f":"IF($A88<>\"\",VLOOKUP($A88,#REF!, 3, FALSE),\"\")","v":""},{"$f":"IF($A88<>\"\",VLOOKUP($A88,#REF!, 4, FALSE),\"\")","v":""},{"$f":"SUMIF(#REF!,'BANCO DE DADOS'!A88,#REF!)","v":{"$error":"#REF!"}},{"$f":"IF(A88=\"\",\"\",#REF!+24)","v":""},null,{"$error":"#VALUE!"},"",null,"c98"]
["",null,{"$f":"IF($A89<>\"\",VLOOKUP($A89,#REF!, 3, FALSE),\"\")","v":""},{"$f":"IF($A89<>\"\",VLOOKUP($A89,#REF!, 4, FALSE),\"\")","v":""},{"$f":"SUMIF(#REF!,'BANCO DE DADOS'!A89,#REF!)","v":{"$error":"#REF!"}},{"$f":"IF(A89=\"\",\"\",#REF!+24)","v":""},null,{"$error":"#VALUE!"},"",null,"c99"]
["",null,{"$f":"IF($A90<>\"\",VLOOKUP($A90,#REF!, 3, FALSE),\"\")","v":""},{"$f":"IF($A90<>\"\",VLOOKUP($A90,#REF!, 4, FALSE),\"\")","v":""},{"$f":"SUMIF(#REF!,'BANCO DE DADOS'!A90,#REF!)","v":{"$error":"#REF!"}},{"$f":"IF(A90=\"\",\"\",#REF!+24)","v":""},null,{"$error":"#VALUE!"},"",null,"c100"]
["",null,{"$f":"IF($A91<>\"\",VLOOKUP($A91,#REF!, 3, FALSE),\"\")","v":""},{"$f":"IF($A91<>\"\",VLOOKUP($A91,#REF!, 4, FALSE),\"\")","v":""},{"$f":"SUMIF(#REF!,'BANCO DE DADOS'!A91,#REF!)","v":{"$error":"#REF!"}},{"$f":"IF(A91=\"\",\"\",#REF!+24)","v":""},null,{"$error":"#VALUE!"},"",null,"c101"]
["",null,{"$f":"IF($A92<>\"\",VLOOKUP($A92,#REF!, 3, FALSE),\"\")","v":""},{"$f":"IF($A92<>\"\",VLOOKUP($A92,#REF!, 4, FALSE),\"\")","v":""},{"$f":"SUMIF(#REF!,'BANCO DE DADOS'!A92,#REF!)","v":{"$error":"#REF!"}},{"$f":"IF(A92=\"\",\"\",#REF!+24)","v":""},null,{"$error":"#VALUE!"},"",null,"c102"]
["",null,{"$f":"IF($A93<>\"\",VLOOKUP($A93,#REF!, 3, FALSE),\"\")","v":""},{"$f":"IF($A93<>\"\",VLOOKUP($A93,#REF!, 4, FALSE),\"\")","v":""},{"$f":"SUMIF(#REF!,'BANCO DE DADOS'!A93,#REF!)","v":{"$error":"#REF!"}},{"$f":"IF(A93=\"\",\"\",#REF!+24)","v":""},null,{"$error":"#VALUE!"},"",null,"c103"]
["",null,{"$f":"IF($A94<>\"\",VLOOKUP($A94,#REF!, 3, FALSE),\"\")","v":""},{"$f":"IF($A94<>\"\",VLOOKUP($A94,#REF!, 4, FALSE),\"\")","v":""},{"$f":"SUMIF(#REF!,'BANCO DE DADOS'!A94,#REF!)","v":{"$error":"#REF!"}},{"$f":"IF(A94=\"\",\"\",#REF!+24)","v":""},null,{"$error":"#VALUE!"},"",null,"c104"]
["",null,{"$f":"IF($A95<>\"\",VLOOKUP($A95,#REF!, 3, FALSE),\"\")","v":""},{"$f":"IF($A95<>\"\",VLOOKUP($A95,#REF!, 4, FALSE),\"\")","v":""},{"$f":"SUMIF(#REF!,'BANCO DE DADOS'!A95,#REF!)","v":{"$error":"#REF!"}},{"$f":"IF(A95=\"\",\"\",#REF!+24)","v":""},null,{"$error":"#VALUE!"},"",null,"c105"]
["",null,{"$f":"IF($A96<>\"\",VLOOKUP($A96,#REF!, 3, FALSE),\"\")","v":""},{"$f":"IF($A96<>\"\",VLOOKUP($A96,#REF!, 4, FALSE),\"\")","v":""},{"$f":"SUMIF(#REF!,'BANCO DE DADOS'!A96,#REF!)","v":{"$error":"#REF!"}},{"$f":"IF(A96=\"\",\"\",#REF!+24)","v":""},null,{"$error":"#VALUE!"},"",null,"c106"]
["",null,{"$f":"IF($A97<>\"\",VLOOKUP($A97,#REF!, 3, FALSE),\"\")","v":""},{"$f":"IF($A97<>\"\",VLOOKUP($A97,#REF!, 4, FALSE),\"\")","v":""},{"$f":"SUMIF(#REF!,'BANCO DE DADOS'!A97,#REF!)","v":{"$error":"#REF!"}},{"$f":"IF(A97=\"\",\"\",#REF!+24)","v":""},null,{"$error":"#VALUE!"},"",null,"c107"]
["",null,{"$f":"IF($A98<>\"\",VLOOKUP($A98,#REF!, 3, FALSE),\"\")","v":""},{"$f":"IF($A98<>\"\",VLOOKUP($A98,#REF!, 4, FALSE),\"\")","v":""},{"$f":"SUMIF(#REF!,'BANCO DE DADOS'!A98,#REF!)","v":{"$error":"#REF!"}},{"$f":"IF(A98=\"\",\"\",#REF!+24)","v":""},null,{"$error":"#VALUE!"},"",null,"c108"]
["",null,{"$f":"IF($A99<>\"\",VLOOKUP($A99,#REF!, 3, FALSE),\"\")","v":""},{"$f":"IF($A99<>\"\",VLOOKUP($A99,#REF!, 4, FALSE),\"\")","v":""},{"$f":"SUMIF(#REF!,'BANCO DE DADOS'!A99,#REF!)","v":{"$error":"#REF!"}},{"$f":"IF(A99=\"\",\"\",#REF!+24)","v":""},null,{"$error":"#VALUE!"},"",null,"c109"]
["",null,{"$f":"IF($A100<>\"\",VLOOKUP($A100,#REF!, 3, FALSE),\"\")","v":""},{"$f":"IF($A100<>\"\",VLOOKUP($A100,#REF!, 4, FALSE),\"\")","v":""},{"$f":"SUMIF(#REF!,'BANCO DE DADOS'!A100,#REF!)","v":{"$error":"#REF!"}},{"$f":"IF(A100=\"\",\"\",#REF!+24)","v":""},null,{"$error":"#VALUE!"},"",null,"c110"]
["",null,{"$f":"IF($A101<>\"\",VLOOKUP($A101,#REF!, 3, FALSE),\"\")","v":""},{"$f":"IF($A101<>\"\",VLOOKUP($A101,#REF!, 4, FALSE),\"\")","v":""},{"$f":"SUMIF(#REF!,'BANCO DE DADOS'!A101,#REF!)","v":{"$error":"#REF!"}},{"$f":"IF(A101=\"\",\"\",#REF!+24)","v":""},null,{"$error":"#VALUE!"},"",null,"c111"]
["",null,{"$f":"IF($A102<>\"\",VLOOKUP($A102,#REF!, 3, FALSE),\"\")","v":""},{"$f":"IF($A102<>\"\",VLOOKUP($A102,#REF!, 4, FALSE),\"\")","v":""},{"$f":"SUMIF(#REF!,'BANCO DE DADOS'!A102,#REF!)","v":{"$error":"#REF!"}},{"$f":"IF(A102=\"\",\"\",#REF!+24)","v":""},null,{"$error":"#VALUE!"},"",null,"c112"]
["",null,{"$f":"IF($A103<>\"\",VLOOKUP($A103,#REF!, 3, FALSE),\"\")","v":""},{"$f":"IF($A103<>\"\",VLOOKUP($A103,#REF!, 4, FALSE),\"\")","v":""},{"$f":"SUMIF(#REF!,'BANCO DE DADOS'!A103,#REF!)","v":{"$error":"#REF!"}},{"$f":"IF(A103=\"\",\"\",#REF!+24)","v":""},null,{"$error":"#VALUE!"},"",null,"c113"]
["",null,{"$f":"IF($A104<>\"\",VLOOKUP($A104,#REF!, 3, FALSE),\"\")","v":""},{"$f":"IF($A104<>\"\",VLOOKUP($A104,#REF!, 4, FALSE),\"\")","v":""},{"$f":"SUMIF(#REF!,'BANCO DE DADOS'!A104,#REF!)","v":{"$error":"#REF!"}},{"$f":"IF(A104=\"\",\"\",#REF!+24)","v":""},null,{"$error":"#VALUE!"},"",null,"c114"]
["",null,{"$f":"IF($A105<>\"\",VLOOKUP($A105,#REF!, 3, FALSE),\"\")","v":""},{"$f":"IF($A105<>\"\",VLOOKUP($A105,#REF!, 4, FALSE),\"\")","v":""},{"$f":"SUMIF(#REF!,'BANCO DE DADOS'!A105,#REF!)","v":{"$error":"#REF!"}},{"$f":"IF(A105=\"\",\"\",#REF!+24)","v":""},null,{"$error":"#VALUE!"},"",null,"c115"]
["",null,{"$f":"IF($A106<>\"\",VLOOKUP($A106,#REF!, 3, FALSE),\"\")","v":""},{"$f":"IF($A106<>\"\",VLOOKUP($A106,#REF!, 4, FALSE),\"\")","v":""},{"$f":"SUMIF(#REF!,'BANCO DE DADOS'!A106,#REF!)","v":{"$error":"#REF!"}},{"$f":"IF(A106=\"\",\"\",#REF!+24)","v":""},null,{"$error":"#VALUE!"},"",null,"c116"]
["",null,{"$f":"IF($A107<>\"\",VLOOKUP($A107,#REF!, 3, FALSE),\"\")","v":""},{"$f":"IF($A107<>\"\",VLOOKUP($A107,#REF!, 4, FALSE),\"\")","v":""},{"$f":"SUMIF(#REF!,'BANCO DE DADOS'!A107,#REF!)","v":{"$error":"#REF!"}},{"$f":"IF(A107=\"\",\"\",#REF!+24)","v":""},null,{"$error":"#VALUE!"},"",null,"c117"]
["",null,{"$f":"IF($A108<>\"\",VLOOKUP($A108,#REF!, 3, FALSE),\"\")","v":""},{"$f":"IF($A108<>\"\",VLOOKUP($A108,#REF!, 4, FALSE),\"\")","v":""},{"$f":"SUMIF(#REF!,'BANCO DE DADOS'!A108,#REF!)","v":{"$error":"#REF!"}},{"$f":"IF(A108=\"\",\"\",#REF!+24)","v":""},null,{"$error":"#VALUE!"},"",null,"c118"]
["",null,{"$f":"IF($A109<>\"\",VLOOKUP($A109,#REF!, 3, FALSE),\"\")","v":""},{"$f":"IF($A109<>\"\",VLOOKUP($A109,#REF!, 4, FALSE),\"\")","v":""},{"$f":"SUMIF(#REF!,'BANCO DE DADOS'!A109,#REF!)","v":{"$error":"#REF!"}},{"$f":"IF(A109=\"\",\"\",#REF!+24)","v":""},null,{"$error":"#VALUE!"},"",null,"c119"]
["",null,{"$f":"IF($A110<>\"\",VLOOKUP($A110,#REF!, 3, FALSE),\"\")","v":""},{"$f":"IF($A110<>\"\",VLOOKUP($A110,#REF!, 4, FALSE),\"\")","v":""},{"$f":"SUMIF(#REF!,'BANCO DE DADOS'!A110,#REF!)","v":{"$error":"#REF!"}},{"$f":"IF(A110=\"\",\"\",#REF!+24)","v":""},null,{"$error":"#VALUE!"},"",null,"c120"]
["",null,{"$f":"IF($A111<>\"\",VLOOKUP($A111,#REF!, 3, FALSE),\"\")","v":""},{"$f":"IF($A111<>\"\",VLOOKUP($A111,#REF!, 4, FALSE),\"\")","v":""},{"$f":"SUMIF(#REF!,'BANCO DE DADOS'!A111,#REF!)","v":{"$error":"#REF!"}},{"$f":"IF(A111=\"\",\"\",#REF!+24)","v":""},null,{"$error":"#VALUE!"},"",null,"c121"]
["",null,{"$f":"IF($A112<>\"\",VLOOKUP($A112,#REF!, 3, FALSE),\"\")","v":""},{"$f":"IF($A112<>\"\",VLOOKUP($A112,#REF!, 4, FALSE),\"\")","v":""},{"$f":"SUMIF(#REF!,'BANCO DE DADOS'!A112,#REF!)","v":{"$error":"#REF!"}},{"$f":"IF(A112=\"\",\"\",#REF!+24)","v":""},null,{"$error":"#VALUE!"},"",null,"c122"]
["",null,{"$f":"IF($A113<>\"\",VLOOKUP($A113,#REF!, 3, FALSE),\"\")","v":""},{"$f":"IF($A113<>\"\",VLOOKUP($A113,#REF!, 4, FALSE),\"\")","v":""},{"$f":"SUMIF(#REF!,'BANCO DE DADOS'!A113,#REF!)","v":{"$error":"#REF!"}},{"$f":"IF(A113=\"\",\"\",#REF!+24)","v":""},null,{"$error":"#VALUE!"},"",null,"c123"]
["",null,{"$f":"IF($A114<>\"\",VLOOKUP($A114,#REF!, 3, FALSE),\"\")","v":""},{"$f":"IF($A114<>\"\",VLOOKUP($A114,#REF!, 4, FALSE),\"\")","v":""},{"$f":"SUMIF(#REF!,'BANCO DE DADOS'!A114,#REF!)","v":{"$error":"#REF!"}},{"$f":"IF(A114=\"\",\"\",#REF!+24)","v":""},null,{"$error":"#VALUE!"},"",null,"c124"]
["",null,{"$f":"IF($A115<>\"\",VLOOKUP($A115,#REF!, 3, FALSE),\"\")","v":""},{"$f":"IF($A115<>\"\",VLOOKUP($A115,#REF!, 4, FALSE),\"\")","v":""},{"$f":"SUMIF(#REF!,'BANCO DE DADOS'!A115,#REF!)","v":{"$error":"#REF!"}},{"$f":"IF(A115=\"\",\"\",#REF!+24)","v":""},null,{"$error":"#VALUE!"},"",null,"c125"]
["",null,{"$f":"IF($A116<>\"\",VLOOKUP($A116,#REF!, 3, FALSE),\"\")","v":""},{"$f":"IF($A116<>\"\",VLOOKUP($A116,#REF!, 4, FALSE),\"\")","v":""},{"$f":"SUMIF(#REF!,'BANCO DE DADOS'!A116,#REF!)","v":{"$error":"#REF!"}},{"$f":"IF(A116=\"\",\"\",#REF!+24)","v":""},null,{"$error":"#VALUE!"},"",null,"c126"]
["",null,{"$f":"IF($A117<>\"\",VLOOKUP($A117,#REF!, 3, FALSE),\"\")","v":""},{"$f":"IF($A117<>\"\",VLOOKUP($A117,#REF!, 4, FALSE),\"\")","v":""},{"$f":"SUMIF(#REF!,'BANCO DE DADOS'!A117,#REF!)","v":{"$error":"#REF!"}},{"$f":"IF(A117=\"\",\"\",#REF!+24)","v":""},null,{"$error":"#VALUE!"},"",null,"c127"]
["",null,{"$f":"IF($A118<>\"\",VLOOKUP($A118,#REF!, 3, FALSE),\"\")","v":""},{"$f":"IF($A118<>\"\",VLOOKUP($A118,#REF!, 4, FALSE),\"\")","v":""},{"$f":"SUMIF(#REF!,'BANCO DE DADOS'!A118,#REF!)","v":{"$error":"#REF!"}},{"$f":"IF(A118=\"\",\"\",#REF!+24)","v":""},null,{"$error":"#VALUE!"},"",null,"c128"]
["",null,{"$f":"IF($A119<>\"\",VLOOKUP($A119,#REF!, 3, FALSE),\"\")","v":""},{"$f":"IF($A119<>\"\",VLOOKUP($A119,#REF!, 4, FALSE),\"\")","v":""},{"$f":"SUMIF(#REF!,'BANCO DE DADOS'!A119,#REF!)","v":{"$error":"#REF!"}},{"$f":"IF(A119=\"\",\"\",#REF!+24)","v":""},null,{"$error":"#VALUE!"},"",null,"c129"]
["",null,{"$f":"IF($A120<>\"\",VLOOKUP($A120,#REF!, 3, FALSE),\"\")","v":""},{"$f":"IF($A120<>\"\",VLOOKUP($A120,#REF!, 4, FALSE),\"\")","v":""},{"$f":"SUMIF(#REF!,'BANCO DE DADOS'!A120,#REF!)","v":{"$error":"#REF!"}},{"$f":"IF(A120=\"\",\"\",#REF!+24)","v":""},null,{"$error":"#VALUE!"},"",null,"c130"]
["",null,{"$f":"IF($A121<>\"\",VLOOKUP($A121,#REF!, 3, FALSE),\"\")","v":""},{"$f":"IF($A121<>\"\",VLOOKUP($A121,#REF!, 4, FALSE),\"\")","v":""},{"$f":"SUMIF(#REF!,'BANCO DE DADOS'!A121,#REF!)","v":{"$error":"#REF!"}},{"$f":"IF(A121=\"\",\"\",#REF!+24)","v":""},null,{"$error":"#VALUE!"},"",null,"c131"]
["",null,{"$f":"IF($A122<>\"\",VLOOKUP($A122,#REF!, 3, FALSE),\"\")","v":""},{"$f":"IF($A122<>\"\",VLOOKUP($A122,#REF!, 4, FALSE),\"\")","v":""},{"$f":"SUMIF(#REF!,'BANCO DE DADOS'!A122,#REF!)","v":{"$error":"#REF!"}},{"$f":"IF(A122=\"\",\"\",#REF!+24)","v":""},null,{"$error":"#VALUE!"},"",null,"c132"]
["",null,{"$f":"IF($A123<>\"\",VLOOKUP($A123,#REF!, 3, FALSE),\"\")","v":""},{"$f":"IF($A123<>\"\",VLOOKUP($A123,#REF!, 4, FALSE),\"\")","v":""},{"$f":"SUMIF(#REF!,'BANCO DE DADOS'!A123,#REF!)","v":{"$error":"#REF!"}},{"$f":"IF(A123=\"\",\"\",#REF!+24)","v":""},null,{"$error":"#VALUE!"},"",null,"c133"]
["",null,{"$f":"IF($A124<>\"\",VLOOKUP($A124,#REF!, 3, FALSE),\"\")","v":""},{"$f":"IF($A124<>\"\",VLOOKUP($A124,#REF!, 4, FALSE),\"\")","v":""},{"$f":"SUMIF(#REF!,'BANCO DE DADOS'!A124,#REF!)","v":{"$error":"#REF!"}},{"$f":"IF(A124=\"\",\"\",#REF!+24)","v":""},null,{"$error":"#VALUE!"},"",null,"c134"]
["",null,{"$f":"IF($A125<>\"\",VLOOKUP($A125,#REF!, 3, FALSE),\"\")","v":""},{"$f":"IF($A125<>\"\",VLOOKUP($A125,#REF!, 4, FALSE),\"\")","v":""},{"$f":"SUMIF(#REF!,'BANCO DE DADOS'!A125,#REF!)","v":{"$error":"#REF!"}},{"$f":"IF(A125=\"\",\"\",#REF!+24)","v":""},null,{"$error":"#VALUE!"},"",null,"c135"]
["",null,{"$f":"IF($A126<>\"\",VLOOKUP($A126,#REF!, 3, FALSE),\"\")","v":""},{"$f":"IF($A126<>\"\",VLOOKUP($A126,#REF!, 4, FALSE),\"\")","v":""},{"$f":"SUMIF(#REF!,'BANCO DE DADOS'!A126,#REF!)","v":{"$error":"#REF!"}},{"$f":"IF(A126=\"\",\"\",#REF!+24)","v":""},null,{"$error":"#VALUE!"},"",null,"c136"]
["",null,{"$f":"IF($A127<>\"\",VLOOKUP($A127,#REF!, 3, FALSE),\"\")","v":""},{"$f":"IF($A127<>\"\",VLOOKUP($A127,#REF!, 4, FALSE),\"\")","v":""},{"$f":"SUMIF(#REF!,'BANCO DE DADOS'!A127,#REF!)","v":{"$error":"#REF!"}},{"$f":"IF(A127=\"\",\"\",#REF!+24)","v":""},null,{"$error":"#VALUE!"},"",null,"c137"]
["",null,{"$f":"IF($A128<>\"\",VLOOKUP($A128,#REF!, 3, FALSE),\"\")","v":""},{"$f":"IF($A128<>\"\",VLOOKUP($A128,#REF!, 4, FALSE),\"\")","v":""},{"$f":"SUMIF(#REF!,'BANCO DE DADOS'!A128,#REF!)","v":{"$error":"#REF!"}},{"$f":"IF(A128=\"\",\"\",#REF!+24)","v":""},null,{"$error":"#VALUE!"},"",null,"c138"]
["",null,{"$f":"IF($A129<>\"\",VLOOKUP($A129,#REF!, 3, FALSE),\"\")","v":""},{"$f":"IF($A129<>\"\",VLOOKUP($A129,#REF!, 4, FALSE),\"\")","v":""},{"$f":"SUMIF(#REF!,'BANCO DE DADOS'!A129,#REF!)","v":{"$error":"#REF!"}},{"$f":"IF(A129=\"\",\"\",#REF!+24)","v":""},null,{"$error":"#VALUE!"},"",null,"c139"]
["",null,{"$f":"IF($A130<>\"\",VLOOKUP($A130,#REF!, 3, FALSE),\"\")","v":""},{"$f":"IF($A130<>\"\",VLOOKUP($A130,#REF!, 4, FALSE),\"\")","v":""},{"$f":"SUMIF(#REF!,'BANCO DE DADOS'!A130,#REF!)","v":{"$error":"#REF!"}},{"$f":"IF(A130=\"\",\"\",#REF!+24)","v":""},null,{"$error":"#VALUE!"},"",null,"c140"]
[{"$f":"IF(INDIRECT(\"RESUMO!\" & K131)=\"\",\"\",INDIRECT(\"RESUMO!\" & K131))","v":""},null,{"$f":"IF($A131<>\"\",VLOOKUP($A131,#REF!, 3, FALSE),\"\")","v":""},{"$f":"IF($A131<>\"\",VLOOKUP($A131,#REF!, 4, FALSE),\"\")","v":""},{"$f":"SUMIF(#REF!,'BANCO DE DADOS'!A131,#REF!)","v":{"$error":"#REF!"}},{"$f":"IF(A131=\"\",\"\",#REF!+24)","v":""},null,{"$f":"IF(OFFSET(INDIRECT(\"RESUMO!\" & K131),0,-1)=\"\",\"\",OFFSET(INDIRECT(\"RESUMO!\" & K131),0,-1))","v":{"$error":"#VALUE!"}},{"$f":"F131","v":""},null,"c141"]
["",null,{"$f":"IF($A132<>\"\",VLOOKUP($A132,#REF!, 3, FALSE),\"\")","v":""},{"$f":"IF($A132<>\"\",VLOOKUP($A132,#REF!, 4, FALSE),\"\")","v":""},{"$f":"SUMIF(#REF!,'BANCO DE DADOS'!A132,#REF!)","v":{"$error":"#REF!"}},{"$f":"IF(A132=\"\",\"\",#REF!+24)","v":""},null,{"$error":"#VALUE!"},"",null,"c142"]
["",null,{"$f":"IF($A133<>\"\",VLOOKUP($A133,#REF!, 3, FALSE),\"\")","v":""},{"$f":"IF($A133<>\"\",VLOOKUP($A133,#REF!, 4, FALSE),\"\")","v":""},{"$f":"SUMIF(#REF!,'BANCO DE DADOS'!A133,#REF!)","v":{"$error":"#REF!"}},{"$f":"IF(A133=\"\",\"\",#REF!+24)","v":""},null,{"$error":"#VALUE!"},"",null,"c143"]
["",null,{"$f":"IF($A134<>\"\",VLOOKUP($A134,#REF!, 3, FALSE),\"\")","v":""},{"$f":"IF($A134<>\"\",VLOOKUP($A134,#REF!, 4, FALSE),\"\")","v":""},{"$f":"SUMIF(#REF!,'BANCO DE DADOS'!A134,#REF!)","v":{"$error":"#REF!"}},{"$f":"IF(A134=\"\",\"\",#REF!+24)","v":""},null,{"$error":"#VALUE!"},"",null,"c144"]
["",null,{"$f":"IF($A135<>\"\",VLOOKUP($A135,#REF!, 3, FALSE),\"\")","v":""},{"$f":"IF($A135<>\"\",VLOOKUP($A135,#REF!, 4, FALSE),\"\")","v":""},{"$f":"SUMIF(#REF!,'BANCO DE DADOS'!A135,#REF!)","v":{"$error":"#REF!"}},{"$f":"IF(A135=\"\",\"\",#REF!+24)","v":""},null,{"$error":"#VALUE!"},"",null,"c145"]
["",null,{"$f":"IF($A136<>\"\",VLOOKUP($A136,#REF!, 3, FALSE),\"\")","v":""},{"$f":"IF($A136<>\"\",VLOOKUP($A136,#REF!, 4, FALSE),\"\")","v":""},{"$f":"SUMIF(#REF!,'BANCO DE DADOS'!A136,#REF!)","v":{"$error":"#REF!"}},{"$f":"IF(A136=\"\",\"\",#REF!+24)","v":""},null,{"$error":"#VALUE!"},"",null,"c146"]
["",null,{"$f":"IF($A137<>\"\",VLOOKUP($A137,#REF!, 3, FALSE),\"\")","v":""},{"$f":"IF($A137<>\"\",VLOOKUP($A137,#REF!, 4, FALSE),\"\")","v":""},{"$f":"SUMIF(#REF!,'BANCO DE DADOS'!A137,#REF!)","v":{"$error":"#REF!"}},{"$f":"IF(A137=\"\",\"\",#REF!+24)","v":""},null,{"$error":"#VALUE!"},"",null,"c147"]
["",null,{"$f":"IF($A138<>\"\",VLOOKUP($A138,#REF!, 3, FALSE),\"\")","v":""},{"$f":"IF($A138<>\"\",VLOOKUP($A138,#REF!, 4, FALSE),\"\")","v":""},{"$f":"SUMIF(#REF!,'BANCO DE DADOS'!A138,#REF!)","v":{"$error":"#REF!"}},{"$f":"IF(A138=\"\",\"\",#REF!+24)","v":""},null,{"$error":"#VALUE!"},"",null,"c148"]
["",null,{"$f":"IF($A139<>\"\",VLOOKUP($A139,#REF!, 3, FALSE),\"\")","v":""},{"$f":"IF($A139<>\"\",VLOOKUP($A139,#REF!, 4, FALSE),\"\")","v":""},{"$f":"SUMIF(#REF!,'BANCO DE DADOS'!A139,#REF!)","v":{"$error":"#REF!"}},{"$f":"IF(A139=\"\",\"\",#REF!+24)","v":""},null,{"$error":"#VALUE!"},"",null,"c149"]
["",null,{"$f":"IF($A140<>\"\",VLOOKUP($A140,#REF!, 3, FALSE),\"\")","v":""},{"$f":"IF($A140<>\"\",VLOOKUP($A140,#REF!, 4, FALSE),\"\")","v":""},{"$f":"SUMIF(#REF!,'BANCO DE DADOS'!A140,#REF!)","v":{"$error":"#REF!"}},{"$f":"IF(A140=\"\",\"\",#REF!+24)","v":""},null,{"$error":"#VALUE!"},"",null,"c150"]
["",null,{"$f":"IF($A141<>\"\",VLOOKUP($A141,#REF!, 3, FALSE),\"\")","v":""},{"$f":"IF($A141<>\"\",VLOOKUP($A141,#REF!, 4, FALSE),\"\")","v":""},{"$f":"SUMIF(#REF!,'BANCO DE DADOS'!A141,#REF!)","v":{"$error":"#REF!"}},{"$f":"IF(A141=\"\",\"\",#REF!+24)","v":""},null,{"$error":"#VALUE!"},"",null,"c151"]
["",null,{"$f":"IF($A142<>\"\",VLOOKUP($A142,#REF!, 3, FALSE),\"\")","v":""},{"$f":"IF($A142<>\"\",VLOOKUP($A142,#REF!, 4, FALSE),\"\")","v":""},{"$f":"SUMIF(#REF!,'BANCO DE DADOS'!A142,#REF!)","v":{"$error":"#REF!"}},{"$f":"IF(A142=\"\",\"\",#REF!+24)","v":""},null,{"$error":"#VALUE!"},"",null,"c152"]
["",null,{"$f":"IF($A143<>\"\",VLOOKUP($A143,#REF!, 3, FALSE),\"\")","v":""},{"$f":"IF($A143<>\"\",VLOOKUP($A143,#REF!, 4, FALSE),\"\")","v":""},{"$f":"SUMIF(#REF!,'BANCO DE DADOS'!A143,#REF!)","v":{"$error":"#REF!"}},{"$f":"IF(A143=\"\",\"\",#REF!+24)","v":""},null,{"$error":"#VALUE!"},"",null,"c153"]
["",null,{"$f":"IF($A144<>\"\",VLOOKUP($A144,#REF!, 3, FALSE),\"\")","v":""},{"$f":"IF($A144<>\"\",VLOOKUP($A144,#REF!, 4, FALSE),\"\")","v":""},{"$f":"SUMIF(#REF!,'BANCO DE DADOS'!A144,#REF!)","v":{"$error":"#REF!"}},{"$f":"IF(A144=\"\",\"\",#REF!+24)","v":""},null,{"$error":"#VALUE!"},"",null,"c154"]
["",null,{"$f":"IF($A145<>\"\",VLOOKUP($A145,#REF!, 3, FALSE),\"\")","v":""},{"$f":"IF($A145<>\"\",VLOOKUP($A145,#REF!, 4, FALSE),\"\")","v":""},{"$f":"SUMIF(#REF!,'BANCO DE DADOS'!A145,#REF!)","v":{"$error":"#REF!"}},{"$f":"IF(A145=\"\",\"\",#REF!+24)","v":""},null,{"$error":"#VALUE!"},"",null,"c155"]
["",null,{"$f":"IF($A146<>\"\",VLOOKUP($A146,#REF!, 3, FALSE),\"\")","v":""},{"$f":"IF($A146<>\"\",VLOOKUP($A146,#REF!, 4, FALSE),\"\")","v":""},{"$f":"SUMIF(#REF!,'BANCO DE DADOS'!A146,#REF!)","v":{"$error":"#REF!"}},{"$f":"IF(A146=\"\",\"\",#REF!+24)","v":""},null,{"$error":"#VALUE!"},"",null,"c156"]
["",null,{"$f":"IF($A147<>\"\",VLOOKUP($A147,#REF!, 3, FALSE),\"\")","v":""},{"$f":"IF($A147<>\"\",VLOOKUP($A147,#REF!, 4, FALSE),\"\")","v":""},{"$f":"SUMIF(#REF!,'BANCO DE DADOS'!A147,#REF!)","v":{"$error":"#REF!"}},{"$f":"IF(A147=\"\",\"\",#REF!+24)","v":""},null,{"$error":"#VALUE!"},"",null,"c157"]
["",null,{"$f":"IF($A148<>\"\",VLOOKUP($A148,#REF!, 3, FALSE),\"\")","v":""},{"$f":"IF($A148<>\"\",VLOOKUP($A148,#REF!, 4, FALSE),\"\")","v":""},{"$f":"SUMIF(#REF!,'BANCO DE DADOS'!A148,#REF!)","v":{"$error":"#REF!"}},{"$f":"IF(A148=\"\",\"\",#REF!+24)","v":""},null,{"$error":"#VALUE!"},"",null,"c158"]
["",null,{"$f":"IF($A149<>\"\",VLOOKUP($A149,#REF!, 3, FALSE),\"\")","v":""},{"$f":"IF($A149<>\"\",VLOOKUP($A149,#REF!, 4, FALSE),\"\")","v":""},{"$f":"SUMIF(#REF!,'BANCO DE DADOS'!A149,#REF!)","v":{"$error":"#REF!"}},{"$f":"IF(A149=\"\",\"\",#REF!+24)","v":""},null,{"$error":"#VALUE!"},"",null,"c159"]
["",null,{"$f":"IF($A150<>\"\",VLOOKUP($A150,#REF!, 3, FALSE),\"\")","v":""},{"$f":"IF($A150<>\"\",VLOOKUP($A150,#REF!, 4, FALSE),\"\")","v":""},{"$f":"SUMIF(#REF!,'BANCO DE DADOS'!A150,#REF!)","v":{"$error":"#REF!"}},{"$f":"IF(A150=\"\",\"\",#REF!+24)","v":""},null,{"$error":"#VALUE!"},"",null,"c160"]
["",null,{"$f":"IF($A151<>\"\",VLOOKUP($A151,#REF!, 3, FALSE),\"\")","v":""},{"$f":"IF($A151<>\"\",VLOOKUP($A151,#REF!, 4, FALSE),\"\")","v":""},{"$f":"SUMIF(#REF!,'BANCO DE DADOS'!A151,#REF!)","v":{"$error":"#REF!"}},{"$f":"IF(A151=\"\",\"\",#REF!+24)","v":""},null,{"$error":"#VALUE!"},"",null,"c161"]
["",null,{"$f":"IF($A152<>\"\",VLOOKUP($A152,#REF!, 3, FALSE),\"\")","v":""},{"$f":"IF($A152<>\"\",VLOOKUP($A152,#REF!, 4, FALSE),\"\")","v":""},{"$f":"SUMIF(#REF!,'BANCO DE DADOS'!A152,#REF!)","v":{"$error":"#REF!"}},{"$f":"IF(A152=\"\",\"\",#REF!+24)","v":""},null,{"$error":"#VALUE!"},"",null,"c162"]
["",null,{"$f":"IF($A153<>\"\",VLOOKUP($A153,#REF!, 3, FALSE),\"\")","v":""},{"$f":"IF($A153<>\"\",VLOOKUP($A153,#REF!, 4, FALSE),\"\")","v":""},{"$f":"SUMIF(#REF!,'BANCO DE DADOS'!A153,#REF!)","v":{"$error":"#REF!"}},{"$f":"IF(A153=\"\",\"\",#REF!+24)","v":""},null,{"$error":"#VALUE!"},"",null,"c163"]
["",null,{"$f":"IF($A154<>\"\",VLOOKUP($A154,#REF!, 3, FALSE),\"\")","v":""},{"$f":"IF($A154<>\"\",VLOOKUP($A154,#REF!, 4, FALSE),\"\")","v":""},{"$f":"SUMIF(#REF!,'BANCO DE DADOS'!A154,#REF!)","v":{"$error":"#REF!"}},{"$f":"IF(A154=\"\",\"\",#REF!+24)","v":""},null,{"$error":"#VALUE!"},"",null,"c164"]
["",null,{"$f":"IF($A155<>\"\",VLOOKUP($A155,#REF!, 3, FALSE),\"\")","v":""},{"$f":"IF($A155<>\"\",VLOOKUP($A155,#REF!, 4, FALSE),\"\")","v":""},{"$f":"SUMIF(#REF!,'BANCO DE DADOS'!A155,#REF!)","v":{"$error":"#REF!"}},{"$f":"IF(A155=\"\",\"\",#REF!+24)","v":""},null,{"$error":"#VALUE!"},"",null,"c165"]
["",null,{"$f":"IF($A156<>\"\",VLOOKUP($A156,#REF!, 3, FALSE),\"\")","v":""},{"$f":"IF($A156<>\"\",VLOOKUP($A156,#REF!, 4, FALSE),\"\")","v":""},{"$f":"SUMIF(#REF!,'BANCO DE DADOS'!A156,#REF!)","v":{"$error":"#REF!"}},{"$f":"IF(A156=\"\",\"\",#REF!+24)","v":""},null,{"$error":"#VALUE!"},"",null,"c166"]
["",null,{"$f":"IF($A157<>\"\",VLOOKUP($A157,#REF!, 3, FALSE),\"\")","v":""},{"$f":"IF($A157<>\"\",VLOOKUP($A157,#REF!, 4, FALSE),\"\")","v":""},{"$f":"SUMIF(#REF!,'BANCO DE DADOS'!A157,#REF!)","v":{"$error":"#REF!"}},{"$f":"IF(A157=\"\",\"\",#REF!+24)","v":""},null,{"$error":"#VALUE!"},"",null,"c167"]
["",null,{"$f":"IF($A158<>\"\",VLOOKUP($A158,#REF!, 3, FALSE),\"\")","v":""},{"$f":"IF($A158<>\"\",VLOOKUP($A158,#REF!, 4, FALSE),\"\")","v":""},{"$f":"SUMIF(#REF!,'BANCO DE DADOS'!A158,#REF!)","v":{"$error":"#REF!"}},{"$f":"IF(A158=\"\",\"\",#REF!+24)","v":""},null,{"$error":"#VALUE!"},"",null,"c168"]
["",null,{"$f":"IF($A159<>\"\",VLOOKUP($A159,#REF!, 3, FALSE),\"\")","v":""},{"$f":"IF($A159<>\"\",VLOOKUP($A159,#REF!, 4, FALSE),\"\")","v":""},{"$f":"SUMIF(#REF!,'BANCO DE DADOS'!A159,#REF!)","v":{"$error":"#REF!"}},{"$f":"IF(A159=\"\",\"\",#REF!+24)","v":""},null,{"$error":"#VALUE!"},"",null,"c169"]
["",null,{"$f":"IF($A160<>\"\",VLOOKUP($A160,#REF!, 3, FALSE),\"\")","v":""},{"$f":"IF($A160<>\"\",VLOOKUP($A160,#REF!, 4, FALSE),\"\")","v":""},{"$f":"SUMIF(#REF!,'BANCO DE DADOS'!A160,#REF!)","v":{"$error":"#REF!"}},{"$f":"IF(A160=\"\",\"\",#REF!+24)","v":""},null,{"$error":"#VALUE!"},"",null,"c170"]
["",null,{"$f":"IF($A161<>\"\",VLOOKUP($A161,#REF!, 3, FALSE),\"\")","v":""},{"$f":"IF($A161<>\"\",VLOOKUP($A161,#REF!, 4, FALSE),\"\")","v":""},{"$f":"SUMIF(#REF!,'BANCO DE DADOS'!A161,#REF!)","v":{"$error":"#REF!"}},{"$f":"IF(A161=\"\",\"\",#REF!+24)","v":""},null,{"$error":"#VALUE!"},"",null,"c171"]
["",null,{"$f":"IF($A162<>\"\",VLOOKUP($A162,#REF!, 3, FALSE),\"\")","v":""},{"$f":"IF($A162<>\"\",VLOOKUP($A162,#REF!, 4, FALSE),\"\")","v":""},{"$f":"SUMIF(#REF!,'BANCO DE DADOS'!A162,#REF!)","v":{"$error":"#REF!"}},{"$f":"IF(A162=\"\",\"\",#REF!+24)","v":""},null,{"$error":"#VALUE!"},"",null,"c172"]
["",null,{"$f":"IF($A163<>\"\",VLOOKUP($A163,#REF!, 3, FALSE),\"\")","v":""},{"$f":"IF($A163<>\"\",VLOOKUP($A163,#REF!, 4, FALSE),\"\")","v":""},{"$f":"SUMIF(#REF!,'BANCO DE DADOS'!A163,#REF!)","v":{"$error":"#REF!"}},{"$f":"IF(A163=\"\",\"\",#REF!+24)","v":""},null,{"$error":"#VALUE!"},"",null,"c173"]
["",null,{"$f":"IF($A164<>\"\",VLOOKUP($A164,#REF!, 3, FALSE),\"\")","v":""},{"$f":"IF($A164<>\"\",VLOOKUP($A164,#REF!, 4, FALSE),\"\")","v":""},{"$f":"SUMIF(#REF!,'BANCO DE DADOS'!A164,#REF!)","v":{"$error":"#REF!"}},{"$f":"IF(A164=\"\",\"\",#REF!+24)","v":""},null,{"$error":"#VALUE!"},"",null,"c174"]
["",null,{"$f":"IF($A165<>\"\",VLOOKUP($A165,#REF!, 3, FALSE),\"\")","v":""},{"$f":"IF($A165<>\"\",VLOOKUP($A165,#REF!, 4, FALSE),\"\")","v":""},{"$f":"SUMIF(#REF!,'BANCO DE DADOS'!A165,#REF!)","v":{"$error":"#REF!"}},{"$f":"IF(A165=\"\",\"\",#REF!+24)","v":""},null,{"$error":"#VALUE!"},"",null,"c175"]
["",null,{"$f":"IF($A166<>\"\",VLOOKUP($A166,#REF!, 3, FALSE),\"\")","v":""},{"$f":"IF($A166<>\"\",VLOOKUP($A166,#REF!, 4, FALSE),\"\")","v":""},{"$f":"SUMIF(#REF!,'BANCO DE DADOS'!A166,#REF!)","v":{"$error":"#REF!"}},{"$f":"IF(A166=\"\",\"\",#REF!+24)","v":""},null,{"$error":"#VALUE!"},"",null,"c176"]
["",null,{"$f":"IF($A167<>\"\",VLOOKUP($A167,#REF!, 3, FALSE),\"\")","v":""},{"$f":"IF($A167<>\"\",VLOOKUP($A167,#REF!, 4, FALSE),\"\")","v":""},{"$f":"SUMIF(#REF!,'BANCO DE DADOS'!A167,#REF!)","v":{"$error":"#REF!"}},{"$f":"IF(A167=\"\",\"\",#REF!+24)","v":""},null,{"$error":"#VALUE!"},"",null,"c177"]
["",null,{"$f":"IF($A168<>\"\",VLOOKUP($A168,#REF!, 3, FALSE),\"\")","v":""},{"$f":"IF($A168<>\"\",VLOOKUP($A168,#REF!, 4, FALSE),\"\")","v":""},{"$f":"SUMIF(#REF!,'BANCO DE DADOS'!A168,#REF!)","v":{"$error":"#REF!"}},{"$f":"IF(A168=\"\",\"\",#REF!+24)","v":""},null,{"$error":"#VALUE!"},"",null,"c178"]
["",null,{"$f":"IF($A169<>\"\",VLOOKUP($A169,#REF!, 3, FALSE),\"\")","v":""},{"$f":"IF($A169<>\"\",VLOOKUP($A169,#REF!, 4, FALSE),\"\")","v":""},{"$f":"SUMIF(#REF!,'BANCO DE DADOS'!A169,#REF!)","v":{"$error":"#REF!"}},{"$f":"IF(A169=\"\",\"\",#REF!+24)","v":""},null,{"$error":"#VALUE!"},"",null,"c179"]
["",null,{"$f":"IF($A170<>\"\",VLOOKUP($A170,#REF!, 3, FALSE),\"\")","v":""},{"$f":"IF($A170<>\"\",VLOOKUP($A170,#REF!, 4, FALSE),\"\")","v":""},{"$f":"SUMIF(#REF!,'BANCO DE DADOS'!A170,#REF!)","v":{"$error":"#REF!"}},{"$f":"IF(A170=\"\",\"\",#REF!+24)","v":""},null,{"$error":"#VALUE!"},"",null,"c180"]
["",null,{"$f":"IF($A171<>\"\",VLOOKUP($A171,#REF!, 3, FALSE),\"\")","v":""},{"$f":"IF($A171<>\"\",VLOOKUP($A171,#REF!, 4, FALSE),\"\")","v":""},{"$f":"SUMIF(#REF!,'BANCO DE DADOS'!A171,#REF!)","v":{"$error":"#REF!"}},{"$f":"IF(A171=\"\",\"\",#REF!+24)","v":""},null,{"$error":"#VALUE!"},"",null,"c181"]
["",null,{"$f":"IF($A172<>\"\",VLOOKUP($A172,#REF!, 3, FALSE),\"\")","v":""},{"$f":"IF($A172<>\"\",VLOOKUP($A172,#REF!, 4, FALSE),\"\")","v":""},{"$f":"SUMIF(#REF!,'BANCO DE DADOS'!A172,#REF!)","v":{"$error":"#REF!"}},{"$f":"IF(A172=\"\",\"\",#REF!+24)","v":""},null,{"$error":"#VALUE!"},"",null,"c182"]
["",null,{"$f":"IF($A173<>\"\",VLOOKUP($A173,#REF!, 3, FALSE),\"\")","v":""},{"$f":"IF($A173<>\"\",VLOOKUP($A173,#REF!, 4, FALSE),\"\")","v":""},{"$f":"SUMIF(#REF!,'BANCO DE DADOS'!A173,#REF!)","v":{"$error":"#REF!"}},{"$f":"IF(A173=\"\",\"\",#REF!+24)","v":""},null,{"$error":"#VALUE!"},"",null,"c183"]
["",null,{"$f":"IF($A174<>\"\",VLOOKUP($A174,#REF!, 3, FALSE),\"\")","v":""},{"$f":"IF($A174<>\"\",VLOOKUP($A174,#REF!, 4, FALSE),\"\")","v":""},{"$f":"SUMIF(#REF!,'BANCO DE DADOS'!A174,#REF!)","v":{"$error":"#REF!"}},{"$f":"IF(A174=\"\",\"\",#REF!+24)","v":""},null,{"$error":"#VALUE!"},"",null,"c184"]
["",null,{"$f":"IF($A175<>\"\",VLOOKUP($A175,#REF!, 3, FALSE),\"\")","v":""},{"$f":"IF($A175<>\"\",VLOOKUP($A175,#REF!, 4, FALSE),\"\")","v":""},{"$f":"SUMIF(#REF!,'BANCO DE DADOS'!A175,#REF!)","v":{"$error":"#REF!"}},{"$f":"IF(A175=\"\",\"\",#REF!+24)","v":""},null,{"$error":"#VALUE!"},"",null,"c185"]
["",null,{"$f":"IF($A176<>\"\",VLOOKUP($A176,#REF!, 3, FALSE),\"\")","v":""},{"$f":"IF($A176<>\"\",VLOOKUP($A176,#REF!, 4, FALSE),\"\")","v":""},{"$f":"SUMIF(#REF!,'BANCO DE DADOS'!A176,#REF!)","v":{"$error":"#REF!"}},{"$f":"IF(A176=\"\",\"\",#REF!+24)","v":""},null,{"$error":"#VALUE!"},"",null,"c186"]
["",null,{"$f":"IF($A177<>\"\",VLOOKUP($A177,#REF!, 3, FALSE),\"\")","v":""},{"$f":"IF($A177<>\"\",VLOOKUP($A177,#REF!, 4, FALSE),\"\")","v":""},{"$f":"SUMIF(#REF!,'BANCO DE DADOS'!A177,#REF!)","v":{"$error":"#REF!"}},{"$f":"IF(A177=\"\",\"\",#REF!+24)","v":""},null,{"$error":"#VALUE!"},"",null,"c187"]
["",null,{"$f":"IF($A178<>\"\",VLOOKUP($A178,#REF!, 3, FALSE),\"\")","v":""},{"$f":"IF($A178<>\"\",VLOOKUP($A178,#REF!, 4, FALSE),\"\")","v":""},{"$f":"SUMIF(#REF!,'BANCO DE DADOS'!A178,#REF!)","v":{"$error":"#REF!"}},{"$f":"IF(A178=\"\",\"\",#REF!+24)","v":""},null,{"$error":"#VALUE!"},"",null,"c188"]
["",null,{"$f":"IF($A179<>\"\",VLOOKUP($A179,#REF!, 3, FALSE),\"\")","v":""},{"$f":"IF($A179<>\"\",VLOOKUP($A179,#REF!, 4, FALSE),\"\")","v":""},{"$f":"SUMIF(#REF!,'BANCO DE DADOS'!A179,#REF!)","v":{"$error":"#REF!"}},{"$f":"IF(A179=\"\",\"\",#REF!+24)","v":""},null,{"$error":"#VALUE!"},"",null,"c189"]
["",null,{"$f":"IF($A180<>\"\",VLOOKUP($A180,#REF!, 3, FALSE),\"\")","v":""},{"$f":"IF($A180<>\"\",VLOOKUP($A180,#REF!, 4, FALSE),\"\")","v":""},{"$f":"SUMIF(#REF!,'BANCO DE DADOS'!A180,#REF!)","v":{"$error":"#REF!"}},{"$f":"IF(A180=\"\",\"\",#REF!+24)","v":""},null,{"$error":"#VALUE!"},"",null,"c190"]
["",null,{"$f":"IF($A181<>\"\",VLOOKUP($A181,#REF!, 3, FALSE),\"\")","v":""},{"$f":"IF($A181<>\"\",VLOOKUP($A181,#REF!, 4, FALSE),\"\")","v":""},{"$f":"SUMIF(#REF!,'BANCO DE DADOS'!A181,#REF!)","v":{"$error":"#REF!"}},{"$f":"IF(A181=\"\",\"\",#REF!+24)","v":""},null,{"$error":"#VALUE!"},"",null,"c191"]
["",null,{"$f":"IF($A182<>\"\",VLOOKUP($A182,#REF!, 3, FALSE),\"\")","v":""},{"$f":"IF($A182<>\"\",VLOOKUP($A182,#REF!, 4, FALSE),\"\")","v":""},{"$f":"SUMIF(#REF!,'BANCO DE DADOS'!A182,#REF!)","v":{"$error":"#REF!"}},{"$f":"IF(A182=\"\",\"\",#REF!+24)","v":""},null,{"$error":"#VALUE!"},"",null,"c192"]
["",null,{"$f":"IF($A183<>\"\",VLOOKUP($A183,#REF!, 3, FALSE),\"\")","v":""},{"$f":"IF($A183<>\"\",VLOOKUP($A183,#REF!, 4, FALSE),\"\")","v":""},{"$f":"SUMIF(#REF!,'BANCO DE DADOS'!A183,#REF!)","v":{"$error":"#REF!"}},{"$f":"IF(A183=\"\",\"\",#REF!+24)","v":""},null,{"$error":"#VALUE!"},"",null,"c193"]
["",null,{"$f":"IF($A184<>\"\",VLOOKUP($A184,#REF!, 3, FALSE),\"\")","v":""},{"$f":"IF($A184<>\"\",VLOOKUP($A184,#REF!, 4, FALSE),\"\")","v":""},{"$f":"SUMIF(#REF!,'BANCO DE DADOS'!A184,#REF!)","v":{"$error":"#REF!"}},{"$f":"IF(A184=\"\",\"\",#REF!+24)","v":""},null,{"$error":"#VALUE!"},"",null,"c194"]
["",null,{"$f":"IF($A185<>\"\",VLOOKUP($A185,#REF!, 3, FALSE),\"\")","v":""},{"$f":"IF($A185<>\"\",VLOOKUP($A185,#REF!, 4, FALSE),\"\")","v":""},{"$f":"SUMIF(#REF!,'BANCO DE DADOS'!A185,#REF!)","v":{"$error":"#REF!"}},{"$f":"IF(A185=\"\",\"\",#REF!+24)","v":""},null,{"$error":"#VALUE!"},"",null,"c195"]
["",null,{"$f":"IF($A186<>\"\",VLOOKUP($A186,#REF!, 3, FALSE),\"\")","v":""},{"$f":"IF($A186<>\"\",VLOOKUP($A186,#REF!, 4, FALSE),\"\")","v":""},{"$f":"SUMIF(#REF!,'BANCO DE DADOS'!A186,#REF!)","v":{"$error":"#REF!"}},{"$f":"IF(A186=\"\",\"\",#REF!+24)","v":""},null,{"$error":"#VALUE!"},"",null,"c196"]
["",null,{"$f":"IF($A187<>\"\",VLOOKUP($A187,#REF!, 3, FALSE),\"\")","v":""},{"$f":"IF($A187<>\"\",VLOOKUP($A187,#REF!, 4, FALSE),\"\")","v":""},{"$f":"SUMIF(#REF!,'BANCO DE DADOS'!A187,#REF!)","v":{"$error":"#REF!"}},{"$f":"IF(A187=\"\",\"\",#REF!+24)","v":""},null,{"$error":"#VALUE!"},"",null,"c197"]
["",null,{"$f":"IF($A188<>\"\",VLOOKUP($A188,#REF!, 3, FALSE),\"\")","v":""},{"$f":"IF($A188<>\"\",VLOOKUP($A188,#REF!, 4, FALSE),\"\")","v":""},{"$f":"SUMIF(#REF!,'BANCO DE DADOS'!A188,#REF!)","v":{"$error":"#REF!"}},{"$f":"IF(A188=\"\",\"\",#REF!+24)","v":""},null,{"$error":"#VALUE!"},"",null,"c198"]
["",null,{"$f":"IF($A189<>\"\",VLOOKUP($A189,#REF!, 3, FALSE),\"\")","v":""},{"$f":"IF($A189<>\"\",VLOOKUP($A189,#REF!, 4, FALSE),\"\")","v":""},{"$f":"SUMIF(#REF!,'BANCO DE DADOS'!A189,#REF!)","v":{"$error":"#REF!"}},{"$f":"IF(A189=\"\",\"\",#REF!+24)","v":""},null,{"$error":"#VALUE!"},"",null,"c199"]
["",null,{"$f":"IF($A190<>\"\",VLOOKUP($A190,#REF!, 3, FALSE),\"\")","v":""},{"$f":"IF($A190<>\"\",VLOOKUP($A190,#REF!, 4, FALSE),\"\")","v":""},{"$f":"SUMIF(#REF!,'BANCO DE DADOS'!A190,#REF!)","v":{"$error":"#REF!"}},{"$f":"IF(A190=\"\",\"\",#REF!+24)","v":""},null,{"$error":"#VALUE!"},"",null,"c200"]
["",null,{"$f":"IF($A191<>\"\",VLOOKUP($A191,#REF!, 3, FALSE),\"\")","v":""},{"$f":"IF($A191<>\"\",VLOOKUP($A191,#REF!, 4, FALSE),\"\")","v":""},{"$f":"SUMIF(#REF!,'BANCO DE DADOS'!A191,#REF!)","v":{"$error":"#REF!"}},{"$f":"IF(A191=\"\",\"\",#REF!+24)","v":""},null,{"$error":"#VALUE!"},"",null,"c201"]
["",null,{"$f":"IF($A192<>\"\",VLOOKUP($A192,#REF!, 3, FALSE),\"\")","v":""},{"$f":"IF($A192<>\"\",VLOOKUP($A192,#REF!, 4, FALSE),\"\")","v":""},{"$f":"SUMIF(#REF!,'BANCO DE DADOS'!A192,#REF!)","v":{"$error":"#REF!"}},{"$f":"IF(A192=\"\",\"\",#REF!+24)","v":""},null,{"$error":"#VALUE!"},"",null,"c202"]
["",null,{"$f":"IF($A193<>\"\",VLOOKUP($A193,#REF!, 3, FALSE),\"\")","v":""},{"$f":"IF($A193<>\"\",VLOOKUP($A193,#REF!, 4, FALSE),\"\")","v":""},{"$f":"SUMIF(#REF!,'BANCO DE DADOS'!A193,#REF!)","v":{"$error":"#REF!"}},{"$f":"IF(A193=\"\",\"\",#REF!+24)","v":""},null,{"$error":"#VALUE!"},"",null,"c203"]
["",null,{"$f":"IF($A194<>\"\",VLOOKUP($A194,#REF!, 3, FALSE),\"\")","v":""},{"$f":"IF($A194<>\"\",VLOOKUP($A194,#REF!, 4, FALSE),\"\")","v":""},{"$f":"SUMIF(#REF!,'BANCO DE DADOS'!A194,#REF!)","v":{"$error":"#REF!"}},{"$f":"IF(A194=\"\",\"\",#REF!+24)","v":""},null,{"$error":"#VALUE!"},"",null,"c204"]
[{"$f":"IF(INDIRECT(\"RESUMO!\" & K195)=\"\",\"\",INDIRECT(\"RESUMO!\" & K195))","v":""},null,{"$f":"IF($A195<>\"\",VLOOKUP($A195,#REF!, 3, FALSE),\"\")","v":""},{"$f":"IF($A195<>\"\",VLOOKUP($A195,#REF!, 4, FALSE),\"\")","v":""},{"$f":"SUMIF(#REF!,'BANCO DE DADOS'!A195,#REF!)","v":{"$error":"#REF!"}},{"$f":"IF(A195=\"\",\"\",#REF!+24)","v":""},null,{"$f":"IF(OFFSET(INDIRECT(\"RESUMO!\" & K195),0,-1)=\"\",\"\",OFFSET(INDIRECT(\"RESUMO!\" & K195),0,-1))","v":{"$error":"#VALUE!"}},{"$f":"F195","v":""},null,"c205"]
["",null,{"$f":"IF($A196<>\"\",VLOOKUP($A196,#REF!, 3, FALSE),\"\")","v":""},{"$f":"IF($A196<>\"\",VLOOKUP($A196,#REF!, 4, FALSE),\"\")","v":""},{"$f":"SUMIF(#REF!,'BANCO DE DADOS'!A196,#REF!)","v":{"$error":"#REF!"}},{"$f":"IF(A196=\"\",\"\",#REF!+24)","v":""},null,{"$error":"#VALUE!"},"",null,"c206"]
["",null,{"$f":"IF($A197<>\"\",VLOOKUP($A197,#REF!, 3, FALSE),\"\")","v":""},{"$f":"IF($A197<>\"\",VLOOKUP($A197,#REF!, 4, FALSE),\"\")","v":""},{"$f":"SUMIF(#REF!,'BANCO DE DADOS'!A197,#REF!)","v":{"$error":"#REF!"}},{"$f":"IF(A197=\"\",\"\",#REF!+24)","v":""},null,{"$error":"#VALUE!"},"",null,"c207"]
["",null,{"$f":"IF($A198<>\"\",VLOOKUP($A198,#REF!, 3, FALSE),\"\")","v":""},{"$f":"IF($A198<>\"\",VLOOKUP($A198,#REF!, 4, FALSE),\"\")","v":""},{"$f":"SUMIF(#REF!,'BANCO DE DADOS'!A198,#REF!)","v":{"$error":"#REF!"}},{"$f":"IF(A198=\"\",\"\",#REF!+24)","v":""},null,{"$error":"#VALUE!"},"",null,"c208"]
["",null,{"$f":"IF($A199<>\"\",VLOOKUP($A199,#REF!, 3, FALSE),\"\")","v":""},{"$f":"IF($A199<>\"\",VLOOKUP($A199,#REF!, 4, FALSE),\"\")","v":""},{"$f":"SUMIF(#REF!,'BANCO DE DADOS'!A199,#REF!)","v":{"$error":"#REF!"}},{"$f":"IF(A199=\"\",\"\",#REF!+24)","v":""},null,{"$error":"#VALUE!"},"",null,"c209"]
["",null,{"$f":"IF($A200<>\"\",VLOOKUP($A200,#REF!, 3, FALSE),\"\")","v":""},{"$f":"IF($A200<>\"\",VLOOKUP($A200,#REF!, 4, FALSE),\"\")","v":""},{"$f":"SUMIF(#REF!,'BANCO DE DADOS'!A200,#REF!)","v":{"$error":"#REF!"}},{"$f":"IF(A200=\"\",\"\",#REF!+24)","v":""},null,{"$error":"#VALUE!"},"",null,"c210"]
["",null,{"$f":"IF($A201<>\"\",VLOOKUP($A201,#REF!, 3, FALSE),\"\")","v":""},{"$f":"IF($A201<>\"\",VLOOKUP($A201,#REF!, 4, FALSE),\"\")","v":""},{"$f":"SUMIF(#REF!,'BANCO DE DADOS'!A201,#REF!)","v":{"$error":"#REF!"}},{"$f":"IF(A201=\"\",\"\",#REF!+24)","v":""},null,{"$error":"#VALUE!"},"",null,"c211"]
["",null,{"$f":"IF($A202<>\"\",VLOOKUP($A202,#REF!, 3, FALSE),\"\")","v":""},{"$f":"IF($A202<>\"\",VLOOKUP($A202,#REF!, 4, FALSE),\"\")","v":""},{"$f":"SUMIF(#REF!,'BANCO DE DADOS'!A202,#REF!)","v":{"$error":"#REF!"}},{"$f":"IF(A202=\"\",\"\",#REF!+24)","v":""},null,{"$error":"#VALUE!"},"",null,"c212"]
["",null,{"$f":"IF($A203<>\"\",VLOOKUP($A203,#REF!, 3, FALSE),\"\")","v":""},{"$f":"IF($A203<>\"\",VLOOKUP($A203,#REF!, 4, FALSE),\"\")","v":""},{"$f":"SUMIF(#REF!,'BANCO DE DADOS'!A203,#REF!)","v":{"$error":"#REF!"}},{"$f":"IF(A203=\"\",\"\",#REF!+24)","v":""},null,{"$error":"#VALUE!"},"",null,"c213"]
["",null,{"$f":"IF($A204<>\"\",VLOOKUP($A204,#REF!, 3, FALSE),\"\")","v":""},{"$f":"IF($A204<>\"\",VLOOKUP($A204,#REF!, 4, FALSE),\"\")","v":""},{"$f":"SUMIF(#REF!,'BANCO DE DADOS'!A204,#REF!)","v":{"$error":"#REF!"}},{"$f":"IF(A204=\"\",\"\",#REF!+24)","v":""},null,{"$error":"#VALUE!"},"",null,"c214"]
["",null,{"$f":"IF($A205<>\"\",VLOOKUP($A205,#REF!, 3, FALSE),\"\")","v":""},{"$f":"IF($A205<>\"\",VLOOKUP($A205,#REF!, 4, FALSE),\"\")","v":""},{"$f":"SUMIF(#REF!,'BANCO DE DADOS'!A205,#REF!)","v":{"$error":"#REF!"}},{"$f":"IF(A205=\"\",\"\",#REF!+24)","v":""},null,{"$error":"#VALUE!"},"",null,"c215"]
["",null,{"$f":"IF($A206<>\"\",VLOOKUP($A206,#REF!, 3, FALSE),\"\")","v":""},{"$f":"IF($A206<>\"\",VLOOKUP($A206,#REF!, 4, FALSE),\"\")","v":""},{"$f":"SUMIF(#REF!,'BANCO DE DADOS'!A206,#REF!)","v":{"$error":"#REF!"}},{"$f":"IF(A206=\"\",\"\",#REF!+24)","v":""},null,{"$error":"#VALUE!"},"",null,"c216"]
["",null,{"$f":"IF($A207<>\"\",VLOOKUP($A207,#REF!, 3, FALSE),\"\")","v":""},{"$f":"IF($A207<>\"\",VLOOKUP($A207,#REF!, 4, FALSE),\"\")","v":""},{"$f":"SUMIF(#REF!,'BANCO DE DADOS'!A207,#REF!)","v":{"$error":"#REF!"}},{"$f":"IF(A207=\"\",\"\",#REF!+24)","v":""},null,{"$error":"#VALUE!"},"",null,"c217"]
["",null,{"$f":"IF($A208<>\"\",VLOOKUP($A208,#REF!, 3, FALSE),\"\")","v":""},{"$f":"IF($A208<>\"\",VLOOKUP($A208,#REF!, 4, FALSE),\"\")","v":""},{"$f":"SUMIF(#REF!,'BANCO DE DADOS'!A208,#REF!)","v":{"$error":"#REF!"}},{"$f":"IF(A208=\"\",\"\",#REF!+24)","v":""},null,{"$error":"#VALUE!"},"",null,"c218"]
["",null,{"$f":"IF($A209<>\"\",VLOOKUP($A209,#REF!, 3, FALSE),\"\")","v":""},{"$f":"IF($A209<>\"\",VLOOKUP($A209,#REF!, 4, FALSE),\"\")","v":""},{"$f":"SUMIF(#REF!,'BANCO DE DADOS'!A209,#REF!)","v":{"$error":"#REF!"}},{"$f":"IF(A209=\"\",\"\",#REF!+24)","v":""},null,{"$error":"#VALUE!"},"",null,"c219"]
["",null,{"$f":"IF($A210<>\"\",VLOOKUP($A210,#REF!, 3, FALSE),\"\")","v":""},{"$f":"IF($A210<>\"\",VLOOKUP($A210,#REF!, 4, FALSE),\"\")","v":""},{"$f":"SUMIF(#REF!,'BANCO DE DADOS'!A210,#REF!)","v":{"$error":"#REF!"}},{"$f":"IF(A210=\"\",\"\",#REF!+24)","v":""},null,{"$error":"#VALUE!"},"",null,"c220"]
["",null,{"$f":"IF($A211<>\"\",VLOOKUP($A211,#REF!, 3, FALSE),\"\")","v":""},{"$f":"IF($A211<>\"\",VLOOKUP($A211,#REF!, 4, FALSE),\"\")","v":""},{"$f":"SUMIF(#REF!,'BANCO DE DADOS'!A211,#REF!)","v":{"$error":"#REF!"}},{"$f":"IF(A211=\"\",\"\",#REF!+24)","v":""},null,{"$error":"#VALUE!"},"",null,"c221"]
["",null,{"$f":"IF($A212<>\"\",VLOOKUP($A212,#REF!, 3, FALSE),\"\")","v":""},{"$f":"IF($A212<>\"\",VLOOKUP($A212,#REF!, 4, FALSE),\"\")","v":""},{"$f":"SUMIF(#REF!,'BANCO DE DADOS'!A212,#REF!)","v":{"$error":"#REF!"}},{"$f":"IF(A212=\"\",\"\",#REF!+24)","v":""},null,{"$error":"#VALUE!"},"",null,"c222"]
["",null,{"$f":"IF($A213<>\"\",VLOOKUP($A213,#REF!, 3, FALSE),\"\")","v":""},{"$f":"IF($A213<>\"\",VLOOKUP($A213,#REF!, 4, FALSE),\"\")","v":""},{"$f":"SUMIF(#REF!,'BANCO DE DADOS'!A213,#REF!)","v":{"$error":"#REF!"}},{"$f":"IF(A213=\"\",\"\",#REF!+24)","v":""},null,{"$error":"#VALUE!"},"",null,"c223"]
["",null,{"$f":"IF($A214<>\"\",VLOOKUP($A214,#REF!, 3, FALSE),\"\")","v":""},{"$f":"IF($A214<>\"\",VLOOKUP($A214,#REF!, 4, FALSE),\"\")","v":""},{"$f":"SUMIF(#REF!,'BANCO DE DADOS'!A214,#REF!)","v":{"$error":"#REF!"}},{"$f":"IF(A214=\"\",\"\",#REF!+24)","v":""},null,{"$error":"#VALUE!"},"",null,"c224"]
["",null,{"$f":"IF($A215<>\"\",VLOOKUP($A215,#REF!, 3, FALSE),\"\")","v":""},{"$f":"IF($A215<>\"\",VLOOKUP($A215,#REF!, 4, FALSE),\"\")","v":""},{"$f":"SUMIF(#REF!,'BANCO DE DADOS'!A215,#REF!)","v":{"$error":"#REF!"}},{"$f":"IF(A215=\"\",\"\",#REF!+24)","v":""},null,{"$error":"#VALUE!"},"",null,"c225"]
["",null,{"$f":"IF($A216<>\"\",VLOOKUP($A216,#REF!, 3, FALSE),\"\")","v":""},{"$f":"IF($A216<>\"\",VLOOKUP($A216,#REF!, 4, FALSE),\"\")","v":""},{"$f":"SUMIF(#REF!,'BANCO DE DADOS'!A216,#REF!)","v":{"$error":"#REF!"}},{"$f":"IF(A216=\"\",\"\",#REF!+24)","v":""},null,{"$error":"#VALUE!"},"",null,"c226"]
["",null,{"$f":"IF($A217<>\"\",VLOOKUP($A217,#REF!, 3, FALSE),\"\")","v":""},{"$f":"IF($A217<>\"\",VLOOKUP($A217,#REF!, 4, FALSE),\"\")","v":""},{"$f":"SUMIF(#REF!,'BANCO DE DADOS'!A217,#REF!)","v":{"$error":"#REF!"}},{"$f":"IF(A217=\"\",\"\",#REF!+24)","v":""},null,{"$error":"#VALUE!"},"",null,"c227"]
["",null,{"$f":"IF($A218<>\"\",VLOOKUP($A218,#REF!, 3, FALSE),\"\")","v":""},{"$f":"IF($A218<>\"\",VLOOKUP($A218,#REF!, 4, FALSE),\"\")","v":""},{"$f":"SUMIF(#REF!,'BANCO DE DADOS'!A218,#REF!)","v":{"$error":"#REF!"}},{"$f":"IF(A218=\"\",\"\",#REF!+24)","v":""},null,{"$error":"#VALUE!"},"",null,"c228"]
["",null,{"$f":"IF($A219<>\"\",VLOOKUP($A219,#REF!, 3, FALSE),\"\")","v":""},{"$f":"IF($A219<>\"\",VLOOKUP($A219,#REF!, 4, FALSE),\"\")","v":""},{"$f":"SUMIF(#REF!,'BANCO DE DADOS'!A219,#REF!)","v":{"$error":"#REF!"}},{"$f":"IF(A219=\"\",\"\",#REF!+24)","v":""},null,{"$error":"#VALUE!"},"",null,"c229"]
["",null,{"$f":"IF($A220<>\"\",VLOOKUP($A220,#REF!, 3, FALSE),\"\")","v":""},{"$f":"IF($A220<>\"\",VLOOKUP($A220,#REF!, 4, FALSE),\"\")","v":""},{"$f":"SUMIF(#REF!,'BANCO DE DADOS'!A220,#REF!)","v":{"$error":"#REF!"}},{"$f":"IF(A220=\"\",\"\",#REF!+24)","v":""},null,{"$error":"#VALUE!"},"",null,"c230"]
["",null,{"$f":"IF($A221<>\"\",VLOOKUP($A221,#REF!, 3, FALSE),\"\")","v":""},{"$f":"IF($A221<>\"\",VLOOKUP($A221,#REF!, 4, FALSE),\"\")","v":""},{"$f":"SUMIF(#REF!,'BANCO DE DADOS'!A221,#REF!)","v":{"$error":"#REF!"}},{"$f":"IF(A221=\"\",\"\",#REF!+24)","v":""},null,{"$error":"#VALUE!"},"",null,"c231"]
["",null,{"$f":"IF($A222<>\"\",VLOOKUP($A222,#REF!, 3, FALSE),\"\")","v":""},{"$f":"IF($A222<>\"\",VLOOKUP($A222,#REF!, 4, FALSE),\"\")","v":""},{"$f":"SUMIF(#REF!,'BANCO DE DADOS'!A222,#REF!)","v":{"$error":"#REF!"}},{"$f":"IF(A222=\"\",\"\",#REF!+24)","v":""},null,{"$error":"#VALUE!"},"",null,"c232"]
["",null,{"$f":"IF($A223<>\"\",VLOOKUP($A223,#REF!, 3, FALSE),\"\")","v":""},{"$f":"IF($A223<>\"\",VLOOKUP($A223,#REF!, 4, FALSE),\"\")","v":""},{"$f":"SUMIF(#REF!,'BANCO DE DADOS'!A223,#REF!)","v":{"$error":"#REF!"}},{"$f":"IF(A223=\"\",\"\",#REF!+24)","v":""},null,{"$error":"#VALUE!"},"",null,"c233"]
["",null,{"$f":"IF($A224<>\"\",VLOOKUP($A224,#REF!, 3, FALSE),\"\")","v":""},{"$f":"IF($A224<>\"\",VLOOKUP($A224,#REF!, 4, FALSE),\"\")","v":""},{"$f":"SUMIF(#REF!,'BANCO DE DADOS'!A224,#REF!)","v":{"$error":"#REF!"}},{"$f":"IF(A224=\"\",\"\",#REF!+24)","v":""},null,{"$error":"#VALUE!"},"",null,"c234"]
["",null,{"$f":"IF($A225<>\"\",VLOOKUP($A225,#REF!, 3, FALSE),\"\")","v":""},{"$f":"IF($A225<>\"\",VLOOKUP($A225,#REF!, 4, FALSE),\"\")","v":""},{"$f":"SUMIF(#REF!,'BANCO DE DADOS'!A225,#REF!)","v":{"$error":"#REF!"}},{"$f":"IF(A225=\"\",\"\",#REF!+24)","v":""},null,{"$error":"#VALUE!"},"",null,"c235"]
["",null,{"$f":"IF($A226<>\"\",VLOOKUP($A226,#REF!, 3, FALSE),\"\")","v":""},{"$f":"IF($A226<>\"\",VLOOKUP($A226,#REF!, 4, FALSE),\"\")","v":""},{"$f":"SUMIF(#REF!,'BANCO DE DADOS'!A226,#REF!)","v":{"$error":"#REF!"}},{"$f":"IF(A226=\"\",\"\",#REF!+24)","v":""},null,{"$error":"#VALUE!"},"",null,"c236"]
["",null,{"$f":"IF($A227<>\"\",VLOOKUP($A227,#REF!, 3, FALSE),\"\")","v":""},{"$f":"IF($A227<>\"\",VLOOKUP($A227,#REF!, 4, FALSE),\"\")","v":""},{"$f":"SUMIF(#REF!,'BANCO DE DADOS'!A227,#REF!)","v":{"$error":"#REF!"}},{"$f":"IF(A227=\"\",\"\",#REF!+24)","v":""},null,{"$error":"#VALUE!"},"",null,"c237"]
["",null,{"$f":"IF($A228<>\"\",VLOOKUP($A228,#REF!, 3, FALSE),\"\")","v":""},{"$f":"IF($A228<>\"\",VLOOKUP($A228,#REF!, 4, FALSE),\"\")","v":""},{"$f":"SUMIF(#REF!,'BANCO DE DADOS'!A228,#REF!)","v":{"$error":"#REF!"}},{"$f":"IF(A228=\"\",\"\",#REF!+24)","v":""},null,{"$error":"#VALUE!"},"",null,"c238"]
["",null,{"$f":"IF($A229<>\"\",VLOOKUP($A229,#REF!, 3, FALSE),\"\")","v":""},{"$f":"IF($A229<>\"\",VLOOKUP($A229,#REF!, 4, FALSE),\"\")","v":""},{"$f":"SUMIF(#REF!,'BANCO DE DADOS'!A229,#REF!)","v":{"$error":"#REF!"}},{"$f":"IF(A229=\"\",\"\",#REF!+24)","v":""},null,{"$error":"#VALUE!"},"",null,"c239"]
["",null,{"$f":"IF($A230<>\"\",VLOOKUP($A230,#REF!, 3, FALSE),\"\")","v":""},{"$f":"IF($A230<>\"\",VLOOKUP($A230,#REF!, 4, FALSE),\"\")","v":""},{"$f":"SUMIF(#REF!,'BANCO DE DADOS'!A230,#REF!)","v":{"$error":"#REF!"}},{"$f":"IF(A230=\"\",\"\",#REF!+24)","v":""},null,{"$error":"#VALUE!"},"",null,"c240"]
["",null,{"$f":"IF($A231<>\"\",VLOOKUP($A231,#REF!, 3, FALSE),\"\")","v":""},{"$f":"IF($A231<>\"\",VLOOKUP($A231,#REF!, 4, FALSE),\"\")","v":""},{"$f":"SUMIF(#REF!,'BANCO DE DADOS'!A231,#REF!)","v":{"$error":"#REF!"}},{"$f":"IF(A231=\"\",\"\",#REF!+24)","v":""},null,{"$error":"#VALUE!"},"",null,"c241"]
["",null,{"$f":"IF($A232<>\"\",VLOOKUP($A232,#REF!, 3, FALSE),\"\")","v":""},{"$f":"IF($A232<>\"\",VLOOKUP($A232,#REF!, 4, FALSE),\"\")","v":""},{"$f":"SUMIF(#REF!,'BANCO DE DADOS'!A232,#REF!)","v":{"$error":"#REF!"}},{"$f":"IF(A232=\"\",\"\",#REF!+24)","v":""},null,{"$error":"#VALUE!"},"",null,"c242"]
["",null,{"$f":"IF($A233<>\"\",VLOOKUP($A233,#REF!, 3, FALSE),\"\")","v":""},{"$f":"IF($A233<>\"\",VLOOKUP($A233,#REF!, 4, FALSE),\"\")","v":""},{"$f":"SUMIF(#REF!,'BANCO DE DADOS'!A233,#REF!)","v":{"$error":"#REF!"}},{"$f":"IF(A233=\"\",\"\",#REF!+24)","v":""},null,{"$error":"#VALUE!"},"",null,"c243"]
["",null,{"$f":"IF($A234<>\"\",VLOOKUP($A234,#REF!, 3, FALSE),\"\")","v":""},{"$f":"IF($A234<>\"\",VLOOKUP($A234,#REF!, 4, FALSE),\"\")","v":""},{"$f":"SUMIF(#REF!,'BANCO DE DADOS'!A234,#REF!)","v":{"$error":"#REF!"}},{"$f":"IF(A234=\"\",\"\",#REF!+24)","v":""},null,{"$error":"#VALUE!"},"",null,"c244"]
["",null,{"$f":"IF($A235<>\"\",VLOOKUP($A235,#REF!, 3, FALSE),\"\")","v":""},{"$f":"IF($A235<>\"\",VLOOKUP($A235,#REF!, 4, FALSE),\"\")","v":""},{"$f":"SUMIF(#REF!,'BANCO DE DADOS'!A235,#REF!)","v":{"$error":"#REF!"}},{"$f":"IF(A235=\"\",\"\",#REF!+24)","v":""},null,{"$error":"#VALUE!"},"",null,"c245"]
["",null,{"$f":"IF($A236<>\"\",VLOOKUP($A236,#REF!, 3, FALSE),\"\")","v":""},{"$f":"IF($A236<>\"\",VLOOKUP($A236,#REF!, 4, FALSE),\"\")","v":""},{"$f":"SUMIF(#REF!,'BANCO DE DADOS'!A236,#REF!)","v":{"$error":"#REF!"}},{"$f":"IF(A236=\"\",\"\",#REF!+24)","v":""},null,{"$error":"#VALUE!"},"",null,"c246"]
["",null,{"$f":"IF($A237<>\"\",VLOOKUP($A237,#REF!, 3, FALSE),\"\")","v":""},{"$f":"IF($A237<>\"\",VLOOKUP($A237,#REF!, 4, FALSE),\"\")","v":""},{"$f":"SUMIF(#REF!,'BANCO DE DADOS'!A237,#REF!)","v":{"$error":"#REF!"}},{"$f":"IF(A237=\"\",\"\",#REF!+24)","v":""},null,{"$error":"#VALUE!"},"",null,"c247"]
["",null,{"$f":"IF($A238<>\"\",VLOOKUP($A238,#REF!, 3, FALSE),\"\")","v":""},{"$f":"IF($A238<>\"\",VLOOKUP($A238,#REF!, 4, FALSE),\"\")","v":""},{"$f":"SUMIF(#REF!,'BANCO DE DADOS'!A238,#REF!)","v":{"$error":"#REF!"}},{"$f":"IF(A238=\"\",\"\",#REF!+24)","v":""},null,{"$error":"#VALUE!"},"",null,"c248"]
["",null,{"$f":"IF($A239<>\"\",VLOOKUP($A239,#REF!, 3, FALSE),\"\")","v":""},{"$f":"IF($A239<>\"\",VLOOKUP($A239,#REF!, 4, FALSE),\"\")","v":""},{"$f":"SUMIF(#REF!,'BANCO DE DADOS'!A239,#REF!)","v":{"$error":"#REF!"}},{"$f":"IF(A239=\"\",\"\",#REF!+24)","v":""},null,{"$error":"#VALUE!"},"",null,"c249"]
["",null,{"$f":"IF($A240<>\"\",VLOOKUP($A240,#REF!, 3, FALSE),\"\")","v":""},{"$f":"IF($A240<>\"\",VLOOKUP($A240,#REF!, 4, FALSE),\"\")","v":""},{"$f":"SUMIF(#REF!,'BANCO DE DADOS'!A240,#REF!)","v":{"$error":"#REF!"}},{"$f":"IF(A240=\"\",\"\",#REF!+24)","v":""},null,{"$error":"#VALUE!"},"",null,"c250"]
["",null,{"$f":"IF($A241<>\"\",VLOOKUP($A241,#REF!, 3, FALSE),\"\")","v":""},{"$f":"IF($A241<>\"\",VLOOKUP($A241,#REF!, 4, FALSE),\"\")","v":""},{"$f":"SUMIF(#REF!,'BANCO DE DADOS'!A241,#REF!)","v":{"$error":"#REF!"}},{"$f":"IF(A241=\"\",\"\",#REF!+24)","v":""},null,{"$error":"#VALUE!"},"",null,"c251"]
["",null,{"$f":"IF($A242<>\"\",VLOOKUP($A242,#REF!, 3, FALSE),\"\")","v":""},{"$f":"IF($A242<>\"\",VLOOKUP($A242,#REF!, 4, FALSE),\"\")","v":""},{"$f":"SUMIF(#REF!,'BANCO DE DADOS'!A242,#REF!)","v":{"$error":"#REF!"}},{"$f":"IF(A242=\"\",\"\",#REF!+24)","v":""},null,{"$error":"#VALUE!"},"",null,"c252"]
["",null,{"$f":"IF($A243<>\"\",VLOOKUP($A243,#REF!, 3, FALSE),\"\")","v":""},{"$f":"IF($A243<>\"\",VLOOKUP($A243,#REF!, 4, FALSE),\"\")","v":""},{"$f":"SUMIF(#REF!,'BANCO DE DADOS'!A243,#REF!)","v":{"$error":"#REF!"}},{"$f":"IF(A243=\"\",\"\",#REF!+24)","v":""},null,{"$error":"#VALUE!"},"",null,"c253"]
["",null,{"$f":"IF($A244<>\"\",VLOOKUP($A244,#REF!, 3, FALSE),\"\")","v":""},{"$f":"IF($A244<>\"\",VLOOKUP($A244,#REF!, 4, FALSE),\"\")","v":""},{"$f":"SUMIF(#REF!,'BANCO DE DADOS'!A244,#REF!)","v":{"$error":"#REF!"}},{"$f":"IF(A244=\"\",\"\",#REF!+24)","v":""},null,{"$error":"#VALUE!"},"",null,"c254"]
["",null,{"$f":"IF($A245<>\"\",VLOOKUP($A245,#REF!, 3, FALSE),\"\")","v":""},{"$f":"IF($A245<>\"\",VLOOKUP($A245,#REF!, 4, FALSE),\"\")","v":""},{"$f":"SUMIF(#REF!,'BANCO DE DADOS'!A245,#REF!)","v":{"$error":"#REF!"}},{"$f":"IF(A245=\"\",\"\",#REF!+24)","v":""},null,{"$error":"#VALUE!"},"",null,"c255"]
["",null,{"$f":"IF($A246<>\"\",VLOOKUP($A246,#REF!, 3, FALSE),\"\")","v":""},{"$f":"IF($A246<>\"\",VLOOKUP($A246,#REF!, 4, FALSE),\"\")","v":""},{"$f":"SUMIF(#REF!,'BANCO DE DADOS'!A246,#REF!)","v":{"$error":"#REF!"}},{"$f":"IF(A246=\"\",\"\",#REF!+24)","v":""},null,{"$error":"#VALUE!"},"",null,"c256"]
["",null,{"$f":"IF($A247<>\"\",VLOOKUP($A247,#REF!, 3, FALSE),\"\")","v":""},{"$f":"IF($A247<>\"\",VLOOKUP($A247,#REF!, 4, FALSE),\"\")","v":""},{"$f":"SUMIF(#REF!,'BANCO DE DADOS'!A247,#REF!)","v":{"$error":"#REF!"}},{"$f":"IF(A247=\"\",\"\",#REF!+24)","v":""},null,{"$error":"#VALUE!"},"",null,"c257"]
["",null,{"$f":"IF($A248<>\"\",VLOOKUP($A248,#REF!, 3, FALSE),\"\")","v":""},{"$f":"IF($A248<>\"\",VLOOKUP($A248,#REF!, 4, FALSE),\"\")","v":""},{"$f":"SUMIF(#REF!,'BANCO DE DADOS'!A248,#REF!)","v":{"$error":"#REF!"}},{"$f":"IF(A248=\"\",\"\",#REF!+24)","v":""},null,{"$error":"#VALUE!"},"",null,"c258"]
["",null,{"$f":"IF($A249<>\"\",VLOOKUP($A249,#REF!, 3, FALSE),\"\")","v":""},{"$f":"IF($A249<>\"\",VLOOKUP($A249,#REF!, 4, FALSE),\"\")","v":""},{"$f":"SUMIF(#REF!,'BANCO DE DADOS'!A249,#REF!)","v":{"$error":"#REF!"}},{"$f":"IF(A249=\"\",\"\",#REF!+24)","v":""},null,{"$error":"#VALUE!"},"",null,"c259"]
["",null,{"$f":"IF($A250<>\"\",VLOOKUP($A250,#REF!, 3, FALSE),\"\")","v":""},{"$f":"IF($A250<>\"\",VLOOKUP($A250,#REF!, 4, FALSE),\"\")","v":""},{"$f":"SUMIF(#REF!,'BANCO DE DADOS'!A250,#REF!)","v":{"$error":"#REF!"}},{"$f":"IF(A250=\"\",\"\",#REF!+24)","v":""},null,{"$error":"#VALUE!"},"",null,"c260"]
["",null,{"$f":"IF($A251<>\"\",VLOOKUP($A251,#REF!, 3, FALSE),\"\")","v":""},{"$f":"IF($A251<>\"\",VLOOKUP($A251,#REF!, 4, FALSE),\"\")","v":""},{"$f":"SUMIF(#REF!,'BANCO DE DADOS'!A251,#REF!)","v":{"$error":"#REF!"}},{"$f":"IF(A251=\"\",\"\",#REF!+24)","v":""},null,{"$error":"#VALUE!"},"",null,"c261"]
["",null,{"$f":"IF($A252<>\"\",VLOOKUP($A252,#REF!, 3, FALSE),\"\")","v":""},{"$f":"IF($A252<>\"\",VLOOKUP($A252,#REF!, 4, FALSE),\"\")","v":""},{"$f":"SUMIF(#REF!,'BANCO DE DADOS'!A252,#REF!)","v":{"$error":"#REF!"}},{"$f":"IF(A252=\"\",\"\",#REF!+24)","v":""},null,{"$error":"#VALUE!"},"",null,"c262"]
["",null,{"$f":"IF($A253<>\"\",VLOOKUP($A253,#REF!, 3, FALSE),\"\")","v":""},{"$f":"IF($A253<>\"\",VLOOKUP($A253,#REF!, 4, FALSE),\"\")","v":""},{"$f":"SUMIF(#REF!,'BANCO DE DADOS'!A253,#REF!)","v":{"$error":"#REF!"}},{"$f":"IF(A253=\"\",\"\",#REF!+24)","v":""},null,{"$error":"#VALUE!"},"",null,"c263"]
["",null,{"$f":"IF($A254<>\"\",VLOOKUP($A254,#REF!, 3, FALSE),\"\")","v":""},{"$f":"IF($A254<>\"\",VLOOKUP($A254,#REF!, 4, FALSE),\"\")","v":""},{"$f":"SUMIF(#REF!,'BANCO DE DADOS'!A254,#REF!)","v":{"$error":"#REF!"}},{"$f":"IF(A254=\"\",\"\",#REF!+24)","v":""},null,{"$error":"#VALUE!"},"",null,"c264"]
["",null,{"$f":"IF($A255<>\"\",VLOOKUP($A255,#REF!, 3, FALSE),\"\")","v":""},{"$f":"IF($A255<>\"\",VLOOKUP($A255,#REF!, 4, FALSE),\"\")","v":""},{"$f":"SUMIF(#REF!,'BANCO DE DADOS'!A255,#REF!)","v":{"$error":"#REF!"}},{"$f":"IF(A255=\"\",\"\",#REF!+24)","v":""},null,{"$error":"#VALUE!"},"",null,"c265"]
["",null,{"$f":"IF($A256<>\"\",VLOOKUP($A256,#REF!, 3, FALSE),\"\")","v":""},{"$f":"IF($A256<>\"\",VLOOKUP($A256,#REF!, 4, FALSE),\"\")","v":""},{"$f":"SUMIF(#REF!,'BANCO DE DADOS'!A256,#REF!)","v":{"$error":"#REF!"}},{"$f":"IF(A256=\"\",\"\",#REF!+24)","v":""},null,{"$error":"#VALUE!"},"",null,"c266"]
["",null,{"$f":"IF($A257<>\"\",VLOOKUP($A257,#REF!, 3, FALSE),\"\")","v":""},{"$f":"IF($A257<>\"\",VLOOKUP($A257,#REF!, 4, FALSE),\"\")","v":""},{"$f":"SUMIF(#REF!,'BANCO DE DADOS'!A257,#REF!)","v":{"$error":"#REF!"}},{"$f":"IF(A257=\"\",\"\",#REF!+24)","v":""},null,{"$error":"#VALUE!"},"",null,"c267"]
["",null,{"$f":"IF($A258<>\"\",VLOOKUP($A258,#REF!, 3, FALSE),\"\")","v":""},{"$f":"IF($A258<>\"\",VLOOKUP($A258,#REF!, 4, FALSE),\"\")","v":""},{"$f":"SUMIF(#REF!,'BANCO DE DADOS'!A258,#REF!)","v":{"$error":"#REF!"}},{"$f":"IF(A258=\"\",\"\",#REF!+24)","v":""},null,{"$error":"#VALUE!"},"",null,"c268"]
[{"$f":"IF(INDIRECT(\"RESUMO!\" & K259)=\"\",\"\",INDIRECT(\"RESUMO!\" & K259))","v":""},null,{"$f":"IF($A259<>\"\",VLOOKUP($A259,#REF!, 3, FALSE),\"\")","v":""},{"$f":"IF($A259<>\"\",VLOOKUP($A259,#REF!, 4, FALSE),\"\")","v":""},{"$f":"SUMIF(#REF!,'BANCO DE DADOS'!A259,#REF!)","v":{"$error":"#REF!"}},{"$f":"IF(A259=\"\",\"\",#REF!+24)","v":""},null,{"$f":"IF(OFFSET(INDIRECT(\"RESUMO!\" & K259),0,-1)=\"\",\"\",OFFSET(INDIRECT(\"RESUMO!\" & K259),0,-1))","v":{"$error":"#VALUE!"}},{"$f":"F259","v":""},null,"c269"]
["",null,{"$f":"IF($A260<>\"\",VLOOKUP($A260,#REF!, 3, FALSE),\"\")","v":""},{"$f":"IF($A260<>\"\",VLOOKUP($A260,#REF!, 4, FALSE),\"\")","v":""},{"$f":"SUMIF(#REF!,'BANCO DE DADOS'!A260,#REF!)","v":{"$error":"#REF!"}},{"$f":"IF(A260=\"\",\"\",#REF!+24)","v":""},null,{"$error":"#VALUE!"},"",null,"c270"]
["",null,{"$f":"IF($A261<>\"\",VLOOKUP($A261,#REF!, 3, FALSE),\"\")","v":""},{"$f":"IF($A261<>\"\",VLOOKUP($A261,#REF!, 4, FALSE),\"\")","v":""},{"$f":"SUMIF(#REF!,'BANCO DE DADOS'!A261,#REF!)","v":{"$error":"#REF!"}},{"$f":"IF(A261=\"\",\"\",#REF!+24)","v":""},null,{"$error":"#VALUE!"},"",null,"c271"]
["",null,{"$f":"IF($A262<>\"\",VLOOKUP($A262,#REF!, 3, FALSE),\"\")","v":""},{"$f":"IF($A262<>\"\",VLOOKUP($A262,#REF!, 4, FALSE),\"\")","v":""},{"$f":"SUMIF(#REF!,'BANCO DE DADOS'!A262,#REF!)","v":{"$error":"#REF!"}},{"$f":"IF(A262=\"\",\"\",#REF!+24)","v":""},null,{"$error":"#VALUE!"},"",null,"c272"]
["",null,{"$f":"IF($A263<>\"\",VLOOKUP($A263,#REF!, 3, FALSE),\"\")","v":""},{"$f":"IF($A263<>\"\",VLOOKUP($A263,#REF!, 4, FALSE),\"\")","v":""},{"$f":"SUMIF(#REF!,'BANCO DE DADOS'!A263,#REF!)","v":{"$error":"#REF!"}},{"$f":"IF(A263=\"\",\"\",#REF!+24)","v":""},null,{"$error":"#VALUE!"},"",null,"c273"]
["",null,{"$f":"IF($A264<>\"\",VLOOKUP($A264,#REF!, 3, FALSE),\"\")","v":""},{"$f":"IF($A264<>\"\",VLOOKUP($A264,#REF!, 4, FALSE),\"\")","v":""},{"$f":"SUMIF(#REF!,'BANCO DE DADOS'!A264,#REF!)","v":{"$error":"#REF!"}},{"$f":"IF(A264=\"\",\"\",#REF!+24)","v":""},null,{"$error":"#VALUE!"},"",null,"c274"]
["",null,{"$f":"IF($A265<>\"\",VLOOKUP($A265,#REF!, 3, FALSE),\"\")","v":""},{"$f":"IF($A265<>\"\",VLOOKUP($A265,#REF!, 4, FALSE),\"\")","v":""},{"$f":"SUMIF(#REF!,'BANCO DE DADOS'!A265,#REF!)","v":{"$error":"#REF!"}},{"$f":"IF(A265=\"\",\"\",#REF!+24)","v":""},null,{"$error":"#VALUE!"},"",null,"c275"]
["",null,{"$f":"IF($A266<>\"\",VLOOKUP($A266,#REF!, 3, FALSE),\"\")","v":""},{"$f":"IF($A266<>\"\",VLOOKUP($A266,#REF!, 4, FALSE),\"\")","v":""},{"$f":"SUMIF(#REF!,'BANCO DE DADOS'!A266,#REF!)","v":{"$error":"#REF!"}},{"$f":"IF(A266=\"\",\"\",#REF!+24)","v":""},null,{"$error":"#VALUE!"},"",null,"c276"]
["",null,{"$f":"IF($A267<>\"\",VLOOKUP($A267,#REF!, 3, FALSE),\"\")","v":""},{"$f":"IF($A267<>\"\",VLOOKUP($A267,#REF!, 4, FALSE),\"\")","v":""},{"$f":"SUMIF(#REF!,'BANCO DE DADOS'!A267,#REF!)","v":{"$error":"#REF!"}},{"$f":"IF(A267=\"\",\"\",#REF!+24)","v":""},null,{"$error":"#VALUE!"},"",null,"c277"]
["",null,{"$f":"IF($A268<>\"\",VLOOKUP($A268,#REF!, 3, FALSE),\"\")","v":""},{"$f":"IF($A268<>\"\",VLOOKUP($A268,#REF!, 4, FALSE),\"\")","v":""},{"$f":"SUMIF(#REF!,'BANCO DE DADOS'!A268,#REF!)","v":{"$error":"#REF!"}},{"$f":"IF(A268=\"\",\"\",#REF!+24)","v":""},null,{"$error":"#VALUE!"},"",null,"c278"]
["",null,{"$f":"IF($A269<>\"\",VLOOKUP($A269,#REF!, 3, FALSE),\"\")","v":""},{"$f":"IF($A269<>\"\",VLOOKUP($A269,#REF!, 4, FALSE),\"\")","v":""},{"$f":"SUMIF(#REF!,'BANCO DE DADOS'!A269,#REF!)","v":{"$error":"#REF!"}},{"$f":"IF(A269=\"\",\"\",#REF!+24)","v":""},null,{"$error":"#VALUE!"},"",null,"c279"]
["",null,{"$f":"IF($A270<>\"\",VLOOKUP($A270,#REF!, 3, FALSE),\"\")","v":""},{"$f":"IF($A270<>\"\",VLOOKUP($A270,#REF!, 4, FALSE),\"\")","v":""},{"$f":"SUMIF(#REF!,'BANCO DE DADOS'!A270,#REF!)","v":{"$error":"#REF!"}},{"$f":"IF(A270=\"\",\"\",#REF!+24)","v":""},null,{"$error":"#VALUE!"},"",null,"c280"]
["",null,{"$f":"IF($A271<>\"\",VLOOKUP($A271,#REF!, 3, FALSE),\"\")","v":""},{"$f":"IF($A271<>\"\",VLOOKUP($A271,#REF!, 4, FALSE),\"\")","v":""},{"$f":"SUMIF(#REF!,'BANCO DE DADOS'!A271,#REF!)","v":{"$error":"#REF!"}},{"$f":"IF(A271=\"\",\"\",#REF!+24)","v":""},null,{"$error":"#VALUE!"},"",null,"c281"]
["",null,{"$f":"IF($A272<>\"\",VLOOKUP($A272,#REF!, 3, FALSE),\"\")","v":""},{"$f":"IF($A272<>\"\",VLOOKUP($A272,#REF!, 4, FALSE),\"\")","v":""},{"$f":"SUMIF(#REF!,'BANCO DE DADOS'!A272,#REF!)","v":{"$error":"#REF!"}},{"$f":"IF(A272=\"\",\"\",#REF!+24)","v":""},null,{"$error":"#VALUE!"},"",null,"c282"]
["",null,{"$f":"IF($A273<>\"\",VLOOKUP($A273,#REF!, 3, FALSE),\"\")","v":""},{"$f":"IF($A273<>\"\",VLOOKUP($A273,#REF!, 4, FALSE),\"\")","v":""},{"$f":"SUMIF(#REF!,'BANCO DE DADOS'!A273,#REF!)","v":{"$error":"#REF!"}},{"$f":"IF(A273=\"\",\"\",#REF!+24)","v":""},null,{"$error":"#VALUE!"},"",null,"c283"]
["",null,{"$f":"IF($A274<>\"\",VLOOKUP($A274,#REF!, 3, FALSE),\"\")","v":""},{"$f":"IF($A274<>\"\",VLOOKUP($A274,#REF!, 4, FALSE),\"\")","v":""},{"$f":"SUMIF(#REF!,'BANCO DE DADOS'!A274,#REF!)","v":{"$error":"#REF!"}},{"$f":"IF(A274=\"\",\"\",#REF!+24)","v":""},null,{"$error":"#VALUE!"},"",null,"c284"]
["",null,{"$f":"IF($A275<>\"\",VLOOKUP($A275,#REF!, 3, FALSE),\"\")","v":""},{"$f":"IF($A275<>\"\",VLOOKUP($A275,#REF!, 4, FALSE),\"\")","v":""},{"$f":"SUMIF(#REF!,'BANCO DE DADOS'!A275,#REF!)","v":{"$error":"#REF!"}},{"$f":"IF(A275=\"\",\"\",#REF!+24)","v":""},null,{"$error":"#VALUE!"},"",null,"c285"]
["",null,{"$f":"IF($A276<>\"\",VLOOKUP($A276,#REF!, 3, FALSE),\"\")","v":""},{"$f":"IF($A276<>\"\",VLOOKUP($A276,#REF!, 4, FALSE),\"\")","v":""},{"$f":"SUMIF(#REF!,'BANCO DE DADOS'!A276,#REF!)","v":{"$error":"#REF!"}},{"$f":"IF(A276=\"\",\"\",#REF!+24)","v":""},null,{"$error":"#VALUE!"},"",null,"c286"]
["",null,{"$f":"IF($A277<>\"\",VLOOKUP($A277,#REF!, 3, FALSE),\"\")","v":""},{"$f":"IF($A277<>\"\",VLOOKUP($A277,#REF!, 4, FALSE),\"\")","v":""},{"$f":"SUMIF(#REF!,'BANCO DE DADOS'!A277,#REF!)","v":{"$error":"#REF!"}},{"$f":"IF(A277=\"\",\"\",#REF!+24)","v":""},null,{"$error":"#VALUE!"},"",null,"c287"]
["",null,{"$f":"IF($A278<>\"\",VLOOKUP($A278,#REF!, 3, FALSE),\"\")","v":""},{"$f":"IF($A278<>\"\",VLOOKUP($A278,#REF!, 4, FALSE),\"\")","v":""},{"$f":"SUMIF(#REF!,'BANCO DE DADOS'!A278,#REF!)","v":{"$error":"#REF!"}},{"$f":"IF(A278=\"\",\"\",#REF!+24)","v":""},null,{"$error":"#VALUE!"},"",null,"c288"]
["",null,{"$f":"IF($A279<>\"\",VLOOKUP($A279,#REF!, 3, FALSE),\"\")","v":""},{"$f":"IF($A279<>\"\",VLOOKUP($A279,#REF!, 4, FALSE),\"\")","v":""},{"$f":"SUMIF(#REF!,'BANCO DE DADOS'!A279,#REF!)","v":{"$error":"#REF!"}},{"$f":"IF(A279=\"\",\"\",#REF!+24)","v":""},null,{"$error":"#VALUE!"},"",null,"c289"]
["",null,{"$f":"IF($A280<>\"\",VLOOKUP($A280,#REF!, 3, FALSE),\"\")","v":""},{"$f":"IF($A280<>\"\",VLOOKUP($A280,#REF!, 4, FALSE),\"\")","v":""},{"$f":"SUMIF(#REF!,'BANCO DE DADOS'!A280,#REF!)","v":{"$error":"#REF!"}},{"$f":"IF(A280=\"\",\"\",#REF!+24)","v":""},null,{"$error":"#VALUE!"},"",null,"c290"]
["",null,{"$f":"IF($A281<>\"\",VLOOKUP($A281,#REF!, 3, FALSE),\"\")","v":""},{"$f":"IF($A281<>\"\",VLOOKUP($A281,#REF!, 4, FALSE),\"\")","v":""},{"$f":"SUMIF(#REF!,'BANCO DE DADOS'!A281,#REF!)","v":{"$error":"#REF!"}},{"$f":"IF(A281=\"\",\"\",#REF!+24)","v":""},null,{"$error":"#VALUE!"},"",null,"c291"]
["",null,{"$f":"IF($A282<>\"\",VLOOKUP($A282,#REF!, 3, FALSE),\"\")","v":""},{"$f":"IF($A282<>\"\",VLOOKUP($A282,#REF!, 4, FALSE),\"\")","v":""},{"$f":"SUMIF(#REF!,'BANCO DE DADOS'!A282,#REF!)","v":{"$error":"#REF!"}},{"$f":"IF(A282=\"\",\"\",#REF!+24)","v":""},null,{"$error":"#VALUE!"},"",null,"c292"]
["",null,{"$f":"IF($A283<>\"\",VLOOKUP($A283,#REF!, 3, FALSE),\"\")","v":""},{"$f":"IF($A283<>\"\",VLOOKUP($A283,#REF!, 4, FALSE),\"\")","v":""},{"$f":"SUMIF(#REF!,'BANCO DE DADOS'!A283,#REF!)","v":{"$error":"#REF!"}},{"$f":"IF(A283=\"\",\"\",#REF!+24)","v":""},null,{"$error":"#VALUE!"},"",null,"c293"]
["",null,{"$f":"IF($A284<>\"\",VLOOKUP($A284,#REF!, 3, FALSE),\"\")","v":""},{"$f":"IF($A284<>\"\",VLOOKUP($A284,#REF!, 4, FALSE),\"\")","v":""},{"$f":"SUMIF(#REF!,'BANCO DE DADOS'!A284,#REF!)","v":{"$error":"#REF!"}},{"$f":"IF(A284=\"\",\"\",#REF!+24)","v":""},null,{"$error":"#VALUE!"},"",null,"c294"]
["",null,{"$f":"IF($A285<>\"\",VLOOKUP($A285,#REF!, 3, FALSE),\"\")","v":""},{"$f":"IF($A285<>\"\",VLOOKUP($A285,#REF!, 4, FALSE),\"\")","v":""},{"$f":"SUMIF(#REF!,'BANCO DE DADOS'!A285,#REF!)","v":{"$error":"#REF!"}},{"$f":"IF(A285=\"\",\"\",#REF!+24)","v":""},null,{"$error":"#VALUE!"},"",null,"c295"]
["",null,{"$f":"IF($A286<>\"\",VLOOKUP($A286,#REF!, 3, FALSE),\"\")","v":""},{"$f":"IF($A286<>\"\",VLOOKUP($A286,#REF!, 4, FALSE),\"\")","v":""},{"$f":"SUMIF(#REF!,'BANCO DE DADOS'!A286,#REF!)","v":{"$error":"#REF!"}},{"$f":"IF(A286=\"\",\"\",#REF!+24)","v":""},null,{"$error":"#VALUE!"},"",null,"c296"]
["",null,{"$f":"IF($A287<>\"\",VLOOKUP($A287,#REF!, 3, FALSE),\"\")","v":""},{"$f":"IF($A287<>\"\",VLOOKUP($A287,#REF!, 4, FALSE),\"\")","v":""},{"$f":"SUMIF(#REF!,'BANCO DE DADOS'!A287,#REF!)","v":{"$error":"#REF!"}},{"$f":"IF(A287=\"\",\"\",#REF!+24)","v":""},null,{"$error":"#VALUE!"},"",null,"c297"]
["",null,{"$f":"IF($A288<>\"\",VLOOKUP($A288,#REF!, 3, FALSE),\"\")","v":""},{"$f":"IF($A288<>\"\",VLOOKUP($A288,#REF!, 4, FALSE),\"\")","v":""},{"$f":"SUMIF(#REF!,'BANCO DE DADOS'!A288,#REF!)","v":{"$error":"#REF!"}},{"$f":"IF(A288=\"\",\"\",#REF!+24)","v":""},null,{"$error":"#VALUE!"},"",null,"c298"]
["",null,{"$f":"IF($A289<>\"\",VLOOKUP($A289,#REF!, 3, FALSE),\"\")","v":""},{"$f":"IF($A289<>\"\",VLOOKUP($A289,#REF!, 4, FALSE),\"\")","v":""},{"$f":"SUMIF(#REF!,'BANCO DE DADOS'!A289,#REF!)","v":{"$error":"#REF!"}},{"$f":"IF(A289=\"\",\"\",#REF!+24)","v":""},null,{"$error":"#VALUE!"},"",null,"c299"]
["",null,{"$f":"IF($A290<>\"\",VLOOKUP($A290,#REF!, 3, FALSE),\"\")","v":""},{"$f":"IF($A290<>\"\",VLOOKUP($A290,#REF!, 4, FALSE),\"\")","v":""},{"$f":"SUMIF(#REF!,'BANCO DE DADOS'!A290,#REF!)","v":{"$error":"#REF!"}},{"$f":"IF(A290=\"\",\"\",#REF!+24)","v":""},null,{"$error":"#VALUE!"},"",null,"c300"]
["",null,{"$f":"IF($A291<>\"\",VLOOKUP($A291,#REF!, 3, FALSE),\"\")","v":""},{"$f":"IF($A291<>\"\",VLOOKUP($A291,#REF!, 4, FALSE),\"\")","v":""},{"$f":"SUMIF(#REF!,'BANCO DE DADOS'!A291,#REF!)","v":{"$error":"#REF!"}},{"$f":"IF(A291=\"\",\"\",#REF!+24)","v":""},null,{"$error":"#VALUE!"},"",null,"c301"]
["",null,{"$f":"IF($A292<>\"\",VLOOKUP($A292,#REF!, 3, FALSE),\"\")","v":""},{"$f":"IF($A292<>\"\",VLOOKUP($A292,#REF!, 4, FALSE),\"\")","v":""},{"$f":"SUMIF(#REF!,'BANCO DE DADOS'!A292,#REF!)","v":{"$error":"#REF!"}},{"$f":"IF(A292=\"\",\"\",#REF!+24)","v":""},null,{"$error":"#VALUE!"},"",null,"c302"]
["",null,{"$f":"IF($A293<>\"\",VLOOKUP($A293,#REF!, 3, FALSE),\"\")","v":""},{"$f":"IF($A293<>\"\",VLOOKUP($A293,#REF!, 4, FALSE),\"\")","v":""},{"$f":"SUMIF(#REF!,'BANCO DE DADOS'!A293,#REF!)","v":{"$error":"#REF!"}},{"$f":"IF(A293=\"\",\"\",#REF!+24)","v":""},null,{"$error":"#VALUE!"},"",null,"c303"]
["",null,{"$f":"IF($A294<>\"\",VLOOKUP($A294,#REF!, 3, FALSE),\"\")","v":""},{"$f":"IF($A294<>\"\",VLOOKUP($A294,#REF!, 4, FALSE),\"\")","v":""},{"$f":"SUMIF(#REF!,'BANCO DE DADOS'!A294,#REF!)","v":{"$error":"#REF!"}},{"$f":"IF(A294=\"\",\"\",#REF!+24)","v":""},null,{"$error":"#VALUE!"},"",null,"c304"]
["",null,{"$f":"IF($A295<>\"\",VLOOKUP($A295,#REF!, 3, FALSE),\"\")","v":""},{"$f":"IF($A295<>\"\",VLOOKUP($A295,#REF!, 4, FALSE),\"\")","v":""},{"$f":"SUMIF(#REF!,'BANCO DE DADOS'!A295,#REF!)","v":{"$error":"#REF!"}},{"$f":"IF(A295=\"\",\"\",#REF!+24)","v":""},null,{"$error":"#VALUE!"},"",null,"c305"]
["",null,{"$f":"IF($A296<>\"\",VLOOKUP($A296,#REF!, 3, FALSE),\"\")","v":""},{"$f":"IF($A296<>\"\",VLOOKUP($A296,#REF!, 4, FALSE),\"\")","v":""},{"$f":"SUMIF(#REF!,'BANCO DE DADOS'!A296,#REF!)","v":{"$error":"#REF!"}},{"$f":"IF(A296=\"\",\"\",#REF!+24)","v":""},null,{"$error":"#VALUE!"},"",null,"c306"]
["",null,{"$f":"IF($A297<>\"\",VLOOKUP($A297,#REF!, 3, FALSE),\"\")","v":""},{"$f":"IF($A297<>\"\",VLOOKUP($A297,#REF!, 4, FALSE),\"\")","v":""},{"$f":"SUMIF(#REF!,'BANCO DE DADOS'!A297,#REF!)","v":{"$error":"#REF!"}},{"$f":"IF(A297=\"\",\"\",#REF!+24)","v":""},null,{"$error":"#VALUE!"},"",null,"c307"]
["",null,{"$f":"IF($A298<>\"\",VLOOKUP($A298,#REF!, 3, FALSE),\"\")","v":""},{"$f":"IF($A298<>\"\",VLOOKUP($A298,#REF!, 4, FALSE),\"\")","v":""},{"$f":"SUMIF(#REF!,'BANCO DE DADOS'!A298,#REF!)","v":{"$error":"#REF!"}},{"$f":"IF(A298=\"\",\"\",#REF!+24)","v":""},null,{"$error":"#VALUE!"},"",null,"c308"]
["",null,{"$f":"IF($A299<>\"\",VLOOKUP($A299,#REF!, 3, FALSE),\"\")","v":""},{"$f":"IF($A299<>\"\",VLOOKUP($A299,#REF!, 4, FALSE),\"\")","v":""},{"$f":"SUMIF(#REF!,'BANCO DE DADOS'!A299,#REF!)","v":{"$error":"#REF!"}},{"$f":"IF(A299=\"\",\"\",#REF!+24)","v":""},null,{"$error":"#VALUE!"},"",null,"c309"]
["",null,{"$f":"IF($A300<>\"\",VLOOKUP($A300,#REF!, 3, FALSE),\"\")","v":""},{"$f":"IF($A300<>\"\",VLOOKUP($A300,#REF!, 4, FALSE),\"\")","v":""},{"$f":"SUMIF(#REF!,'BANCO DE DADOS'!A300,#REF!)","v":{"$error":"#REF!"}},{"$f":"IF(A300=\"\",\"\",#REF!+24)","v":""},null,{"$error":"#VALUE!"},"",null,"c310"]
["",null,{"$f":"IF($A301<>\"\",VLOOKUP($A301,#REF!, 3, FALSE),\"\")","v":""},{"$f":"IF($A301<>\"\",VLOOKUP($A301,#REF!, 4, FALSE),\"\")","v":""},{"$f":"SUMIF(#REF!,'BANCO DE DADOS'!A301,#REF!)","v":{"$error":"#REF!"}},{"$f":"IF(A301=\"\",\"\",#REF!+24)","v":""},null,{"$error":"#VALUE!"},"",null,"c311"]
["",null,{"$f":"IF($A302<>\"\",VLOOKUP($A302,#REF!, 3, FALSE),\"\")","v":""},{"$f":"IF($A302<>\"\",VLOOKUP($A302,#REF!, 4, FALSE),\"\")","v":""},{"$f":"SUMIF(#REF!,'BANCO DE DADOS'!A302,#REF!)","v":{"$error":"#REF!"}},{"$f":"IF(A302=\"\",\"\",#REF!+24)","v":""},null,{"$error":"#VALUE!"},"",null,"c312"]
["",null,{"$f":"IF($A303<>\"\",VLOOKUP($A303,#REF!, 3, FALSE),\"\")","v":""},{"$f":"IF($A303<>\"\",VLOOKUP($A303,#REF!, 4, FALSE),\"\")","v":""},{"$f":"SUMIF(#REF!,'BANCO DE DADOS'!A303,#REF!)","v":{"$error":"#REF!"}},{"$f":"IF(A303=\"\",\"\",#REF!+24)","v":""},null,{"$error":"#VALUE!"},"",null,"c313"]
["",null,{"$f":"IF($A304<>\"\",VLOOKUP($A304,#REF!, 3, FALSE),\"\")","v":""},{"$f":"IF($A304<>\"\",VLOOKUP($A304,#REF!, 4, FALSE),\"\")","v":""},{"$f":"SUMIF(#REF!,'BANCO DE DADOS'!A304,#REF!)","v":{"$error":"#REF!"}},{"$f":"IF(A304=\"\",\"\",#REF!+24)","v":""},null,{"$error":"#VALUE!"},"",null,"c314"]
["",null,{"$f":"IF($A305<>\"\",VLOOKUP($A305,#REF!, 3, FALSE),\"\")","v":""},{"$f":"IF($A305<>\"\",VLOOKUP($A305,#REF!, 4, FALSE),\"\")","v":""},{"$f":"SUMIF(#REF!,'BANCO DE DADOS'!A305,#REF!)","v":{"$error":"#REF!"}},{"$f":"IF(A305=\"\",\"\",#REF!+24)","v":""},null,{"$error":"#VALUE!"},"",null,"c315"]
["",null,{"$f":"IF($A306<>\"\",VLOOKUP($A306,#REF!, 3, FALSE),\"\")","v":""},{"$f":"IF($A306<>\"\",VLOOKUP($A306,#REF!, 4, FALSE),\"\")","v":""},{"$f":"SUMIF(#REF!,'BANCO DE DADOS'!A306,#REF!)","v":{"$error":"#REF!"}},{"$f":"IF(A306=\"\",\"\",#REF!+24)","v":""},null,{"$error":"#VALUE!"},"",null,"c316"]
["",null,{"$f":"IF($A307<>\"\",VLOOKUP($A307,#REF!, 3, FALSE),\"\")","v":""},{"$f":"IF($A307<>\"\",VLOOKUP($A307,#REF!, 4, FALSE),\"\")","v":""},{"$f":"SUMIF(#REF!,'BANCO DE DADOS'!A307,#REF!)","v":{"$error":"#REF!"}},{"$f":"IF(A307=\"\",\"\",#REF!+24)","v":""},null,{"$error":"#VALUE!"},"",null,"c317"]
["",null,{"$f":"IF($A308<>\"\",VLOOKUP($A308,#REF!, 3, FALSE),\"\")","v":""},{"$f":"IF($A308<>\"\",VLOOKUP($A308,#REF!, 4, FALSE),\"\")","v":""},{"$f":"SUMIF(#REF!,'BANCO DE DADOS'!A308,#REF!)","v":{"$error":"#REF!"}},{"$f":"IF(A308=\"\",\"\",#REF!+24)","v":""},null,{"$error":"#VALUE!"},"",null,"c318"]
["",null,{"$f":"IF($A309<>\"\",VLOOKUP($A309,#REF!, 3, FALSE),\"\")","v":""},{"$f":"IF($A309<>\"\",VLOOKUP($A309,#REF!, 4, FALSE),\"\")","v":""},{"$f":"SUMIF(#REF!,'BANCO DE DADOS'!A309,#REF!)","v":{"$error":"#REF!"}},{"$f":"IF(A309=\"\",\"\",#REF!+24)","v":""},null,{"$error":"#VALUE!"},"",null,"c319"]
["",null,{"$f":"IF($A310<>\"\",VLOOKUP($A310,#REF!, 3, FALSE),\"\")","v":""},{"$f":"IF($A310<>\"\",VLOOKUP($A310,#REF!, 4, FALSE),\"\")","v":""},{"$f":"SUMIF(#REF!,'BANCO DE DADOS'!A310,#REF!)","v":{"$error":"#REF!"}},{"$f":"IF(A310=\"\",\"\",#REF!+24)","v":""},null,{"$error":"#VALUE!"},"",null,"c320"]
["",null,{"$f":"IF($A311<>\"\",VLOOKUP($A311,#REF!, 3, FALSE),\"\")","v":""},{"$f":"IF($A311<>\"\",VLOOKUP($A311,#REF!, 4, FALSE),\"\")","v":""},{"$f":"SUMIF(#REF!,'BANCO DE DADOS'!A311,#REF!)","v":{"$error":"#REF!"}},{"$f":"IF(A311=\"\",\"\",#REF!+24)","v":""},null,{"$error":"#VALUE!"},"",null,"c321"]
["",null,{"$f":"IF($A312<>\"\",VLOOKUP($A312,#REF!, 3, FALSE),\"\")","v":""},{"$f":"IF($A312<>\"\",VLOOKUP($A312,#REF!, 4, FALSE),\"\")","v":""},{"$f":"SUMIF(#REF!,'BANCO DE DADOS'!A312,#REF!)","v":{"$error":"#REF!"}},{"$f":"IF(A312=\"\",\"\",#REF!+24)","v":""},null,{"$error":"#VALUE!"},"",null,"c322"]
["",null,{"$f":"IF($A313<>\"\",VLOOKUP($A313,#REF!, 3, FALSE),\"\")","v":""},{"$f":"IF($A313<>\"\",VLOOKUP($A313,#REF!, 4, FALSE),\"\")","v":""},{"$f":"SUMIF(#REF!,'BANCO DE DADOS'!A313,#REF!)","v":{"$error":"#REF!"}},{"$f":"IF(A313=\"\",\"\",#REF!+24)","v":""},null,{"$error":"#VALUE!"},"",null,"c323"]
["",null,{"$f":"IF($A314<>\"\",VLOOKUP($A314,#REF!, 3, FALSE),\"\")","v":""},{"$f":"IF($A314<>\"\",VLOOKUP($A314,#REF!, 4, FALSE),\"\")","v":""},{"$f":"SUMIF(#REF!,'BANCO DE DADOS'!A314,#REF!)","v":{"$error":"#REF!"}},{"$f":"IF(A314=\"\",\"\",#REF!+24)","v":""},null,{"$error":"#VALUE!"},"",null,"c324"]
["",null,{"$f":"IF($A315<>\"\",VLOOKUP($A315,#REF!, 3, FALSE),\"\")","v":""},{"$f":"IF($A315<>\"\",VLOOKUP($A315,#REF!, 4, FALSE),\"\")","v":""},{"$f":"SUMIF(#REF!,'BANCO DE DADOS'!A315,#REF!)","v":{"$error":"#REF!"}},{"$f":"IF(A315=\"\",\"\",#REF!+24)","v":""},null,{"$error":"#VALUE!"},"",null,"c325"]
["",null,{"$f":"IF($A316<>\"\",VLOOKUP($A316,#REF!, 3, FALSE),\"\")","v":""},{"$f":"IF($A316<>\"\",VLOOKUP($A316,#REF!, 4, FALSE),\"\")","v":""},{"$f":"SUMIF(#REF!,'BANCO DE DADOS'!A316,#REF!)","v":{"$error":"#REF!"}},{"$f":"IF(A316=\"\",\"\",#REF!+24)","v":""},null,{"$error":"#VALUE!"},"",null,"c326"]
["",null,{"$f":"IF($A317<>\"\",VLOOKUP($A317,#REF!, 3, FALSE),\"\")","v":""},{"$f":"IF($A317<>\"\",VLOOKUP($A317,#REF!, 4, FALSE),\"\")","v":""},{"$f":"SUMIF(#REF!,'BANCO DE DADOS'!A317,#REF!)","v":{"$error":"#REF!"}},{"$f":"IF(A317=\"\",\"\",#REF!+24)","v":""},null,{"$error":"#VALUE!"},"",null,"c327"]
["",null,{"$f":"IF($A318<>\"\",VLOOKUP($A318,#REF!, 3, FALSE),\"\")","v":""},{"$f":"IF($A318<>\"\",VLOOKUP($A318,#REF!, 4, FALSE),\"\")","v":""},{"$f":"SUMIF(#REF!,'BANCO DE DADOS'!A318,#REF!)","v":{"$error":"#REF!"}},{"$f":"IF(A318=\"\",\"\",#REF!+24)","v":""},null,{"$error":"#VALUE!"},"",null,"c328"]
["",null,{"$f":"IF($A319<>\"\",VLOOKUP($A319,#REF!, 3, FALSE),\"\")","v":""},{"$f":"IF($A319<>\"\",VLOOKUP($A319,#REF!, 4, FALSE),\"\")","v":""},{"$f":"SUMIF(#REF!,'BANCO DE DADOS'!A319,#REF!)","v":{"$error":"#REF!"}},{"$f":"IF(A319=\"\",\"\",#REF!+24)","v":""},null,{"$error":"#VALUE!"},"",null,"c329"]
["",null,{"$f":"IF($A320<>\"\",VLOOKUP($A320,#REF!, 3, FALSE),\"\")","v":""},{"$f":"IF($A320<>\"\",VLOOKUP($A320,#REF!, 4, FALSE),\"\")","v":""},{"$f":"SUMIF(#REF!,'BANCO DE DADOS'!A320,#REF!)","v":{"$error":"#REF!"}},{"$f":"IF(A320=\"\",\"\",#REF!+24)","v":""},null,{"$error":"#VALUE!"},"",null,"c330"]
["",null,{"$f":"IF($A321<>\"\",VLOOKUP($A321,#REF!, 3, FALSE),\"\")","v":""},{"$f":"IF($A321<>\"\",VLOOKUP($A321,#REF!, 4, FALSE),\"\")","v":""},{"$f":"SUMIF(#REF!,'BANCO DE DADOS'!A321,#REF!)","v":{"$error":"#REF!"}},{"$f":"IF(A321=\"\",\"\",#REF!+24)","v":""},null,{"$error":"#VALUE!"},"",null,"c331"]
["",null,{"$f":"IF($A322<>\"\",VLOOKUP($A322,#REF!, 3, FALSE),\"\")","v":""},{"$f":"IF($A322<>\"\",VLOOKUP($A322,#REF!, 4, FALSE),\"\")","v":""},{"$f":"SUMIF(#REF!,'BANCO DE DADOS'!A322,#REF!)","v":{"$error":"#REF!"}},{"$f":"IF(A322=\"\",\"\",#REF!+24)","v":""},null,{"$error":"#VALUE!"},"",null,"c332"]
[{"$f":"IF(INDIRECT(\"RESUMO!\" & K323)=\"\",\"\",INDIRECT(\"RESUMO!\" & K323))","v":""},null,{"$f":"IF($A323<>\"\",VLOOKUP($A323,#REF!, 3, FALSE),\"\")","v":""},{"$f":"IF($A323<>\"\",VLOOKUP($A323,#REF!, 4, FALSE),\"\")","v":""},{"$f":"SUMIF(#REF!,'BANCO DE DADOS'!A323,#REF!)","v":{"$error":"#REF!"}},{"$f":"IF(A323=\"\",\"\",#REF!+24)","v":""},null,{"$f":"IF(OFFSET(INDIRECT(\"RESUMO!\" & K323),0,-1)=\"\",\"\",OFFSET(INDIRECT(\"RESUMO!\" & K323),0,-1))","v":{"$error":"#VALUE!"}},{"$f":"F323","v":""},null,"c333"]
["",null,{"$f":"IF($A324<>\"\",VLOOKUP($A324,#REF!, 3, FALSE),\"\")","v":""},{"$f":"IF($A324<>\"\",VLOOKUP($A324,#REF!, 4, FALSE),\"\")","v":""},{"$f":"SUMIF(#REF!,'BANCO DE DADOS'!A324,#REF!)","v":{"$error":"#REF!"}},{"$f":"IF(A324=\"\",\"\",#REF!+24)","v":""},null,{"$error":"#VALUE!"},"",null,"c334"]
["",null,{"$f":"IF($A325<>\"\",VLOOKUP($A325,#REF!, 3, FALSE),\"\")","v":""},{"$f":"IF($A325<>\"\",VLOOKUP($A325,#REF!, 4, FALSE),\"\")","v":""},{"$f":"SUMIF(#REF!,'BANCO DE DADOS'!A325,#REF!)","v":{"$error":"#REF!"}},{"$f":"IF(A325=\"\",\"\",#REF!+24)","v":""},null,{"$error":"#VALUE!"},"",null,"c335"]
["",null,{"$f":"IF($A326<>\"\",VLOOKUP($A326,#REF!, 3, FALSE),\"\")","v":""},{"$f":"IF($A326<>\"\",VLOOKUP($A326,#REF!, 4, FALSE),\"\")","v":""},{"$f":"SUMIF(#REF!,'BANCO DE DADOS'!A326,#REF!)","v":{"$error":"#REF!"}},{"$f":"IF(A326=\"\",\"\",#REF!+24)","v":""},null,{"$error":"#VALUE!"},"",null,"c336"]
["",null,{"$f":"IF($A327<>\"\",VLOOKUP($A327,#REF!, 3, FALSE),\"\")","v":""},{"$f":"IF($A327<>\"\",VLOOKUP($A327,#REF!, 4, FALSE),\"\")","v":""},{"$f":"SUMIF(#REF!,'BANCO DE DADOS'!A327,#REF!)","v":{"$error":"#REF!"}},{"$f":"IF(A327=\"\",\"\",#REF!+24)","v":""},null,{"$error":"#VALUE!"},"",null,"c337"]
["",null,{"$f":"IF($A328<>\"\",VLOOKUP($A328,#REF!, 3, FALSE),\"\")","v":""},{"$f":"IF($A328<>\"\",VLOOKUP($A328,#REF!, 4, FALSE),\"\")","v":""},{"$f":"SUMIF(#REF!,'BANCO DE DADOS'!A328,#REF!)","v":{"$error":"#REF!"}},{"$f":"IF(A328=\"\",\"\",#REF!+24)","v":""},null,{"$error":"#VALUE!"},"",null,"c338"]
["",null,{"$f":"IF($A329<>\"\",VLOOKUP($A329,#REF!, 3, FALSE),\"\")","v":""},{"$f":"IF($A329<>\"\",VLOOKUP($A329,#REF!, 4, FALSE),\"\")","v":""},{"$f":"SUMIF(#REF!,'BANCO DE DADOS'!A329,#REF!)","v":{"$error":"#REF!"}},{"$f":"IF(A329=\"\",\"\",#REF!+24)","v":""},null,{"$error":"#VALUE!"},"",null,"c339"]
["",null,{"$f":"IF($A330<>\"\",VLOOKUP($A330,#REF!, 3, FALSE),\"\")","v":""},{"$f":"IF($A330<>\"\",VLOOKUP($A330,#REF!, 4, FALSE),\"\")","v":""},{"$f":"SUMIF(#REF!,'BANCO DE DADOS'!A330,#REF!)","v":{"$error":"#REF!"}},{"$f":"IF(A330=\"\",\"\",#REF!+24)","v":""},null,{"$error":"#VALUE!"},"",null,"c340"]
["",null,{"$f":"IF($A331<>\"\",VLOOKUP($A331,#REF!, 3, FALSE),\"\")","v":""},{"$f":"IF($A331<>\"\",VLOOKUP($A331,#REF!, 4, FALSE),\"\")","v":""},{"$f":"SUMIF(#REF!,'BANCO DE DADOS'!A331,#REF!)","v":{"$error":"#REF!"}},{"$f":"IF(A331=\"\",\"\",#REF!+24)","v":""},null,{"$error":"#VALUE!"},"",null,"c341"]
["",null,{"$f":"IF($A332<>\"\",VLOOKUP($A332,#REF!, 3, FALSE),\"\")","v":""},{"$f":"IF($A332<>\"\",VLOOKUP($A332,#REF!, 4, FALSE),\"\")","v":""},{"$f":"SUMIF(#REF!,'BANCO DE DADOS'!A332,#REF!)","v":{"$error":"#REF!"}},{"$f":"IF(A332=\"\",\"\",#REF!+24)","v":""},null,{"$error":"#VALUE!"},"",null,"c342"]
["",null,{"$f":"IF($A333<>\"\",VLOOKUP($A333,#REF!, 3, FALSE),\"\")","v":""},{"$f":"IF($A333<>\"\",VLOOKUP($A333,#REF!, 4, FALSE),\"\")","v":""},{"$f":"SUMIF(#REF!,'BANCO DE DADOS'!A333,#REF!)","v":{"$error":"#REF!"}},{"$f":"IF(A333=\"\",\"\",#REF!+24)","v":""},null,{"$error":"#VALUE!"},"",null,"c343"]
["",null,{"$f":"IF($A334<>\"\",VLOOKUP($A334,#REF!, 3, FALSE),\"\")","v":""},{"$f":"IF($A334<>\"\",VLOOKUP($A334,#REF!, 4, FALSE),\"\")","v":""},{"$f":"SUMIF(#REF!,'BANCO DE DADOS'!A334,#REF!)","v":{"$error":"#REF!"}},{"$f":"IF(A334=\"\",\"\",#REF!+24)","v":""},null,{"$error":"#VALUE!"},"",null,"c344"]
["",null,{"$f":"IF($A335<>\"\",VLOOKUP($A335,#REF!, 3, FALSE),\"\")","v":""},{"$f":"IF($A335<>\"\",VLOOKUP($A335,#REF!, 4, FALSE),\"\")","v":""},{"$f":"SUMIF(#REF!,'BANCO DE DADOS'!A335,#REF!)","v":{"$error":"#REF!"}},{"$f":"IF(A335=\"\",\"\",#REF!+24)","v":""},null,{"$error":"#VALUE!"},"",null,"c345"]
["",null,{"$f":"IF($A336<>\"\",VLOOKUP($A336,#REF!, 3, FALSE),\"\")","v":""},{"$f":"IF($A336<>\"\",VLOOKUP($A336,#REF!, 4, FALSE),\"\")","v":""},{"$f":"SUMIF(#REF!,'BANCO DE DADOS'!A336,#REF!)","v":{"$error":"#REF!"}},{"$f":"IF(A336=\"\",\"\",#REF!+24)","v":""},null,{"$error":"#VALUE!"},"",null,"c346"]
["",null,{"$f":"IF($A337<>\"\",VLOOKUP($A337,#REF!, 3, FALSE),\"\")","v":""},{"$f":"IF($A337<>\"\",VLOOKUP($A337,#REF!, 4, FALSE),\"\")","v":""},{"$f":"SUMIF(#REF!,'BANCO DE DADOS'!A337,#REF!)","v":{"$error":"#REF!"}},{"$f":"IF(A337=\"\",\"\",#REF!+24)","v":""},null,{"$error":"#VALUE!"},"",null,"c347"]
["",null,{"$f":"IF($A338<>\"\",VLOOKUP($A338,#REF!, 3, FALSE),\"\")","v":""},{"$f":"IF($A338<>\"\",VLOOKUP($A338,#REF!, 4, FALSE),\"\")","v":""},{"$f":"SUMIF(#REF!,'BANCO DE DADOS'!A338,#REF!)","v":{"$error":"#REF!"}},{"$f":"IF(A338=\"\",\"\",#REF!+24)","v":""},null,{"$error":"#VALUE!"},"",null,"c348"]
["",null,{"$f":"IF($A339<>\"\",VLOOKUP($A339,#REF!, 3, FALSE),\"\")","v":""},{"$f":"IF($A339<>\"\",VLOOKUP($A339,#REF!, 4, FALSE),\"\")","v":""},{"$f":"SUMIF(#REF!,'BANCO DE DADOS'!A339,#REF!)","v":{"$error":"#REF!"}},{"$f":"IF(A339=\"\",\"\",#REF!+24)","v":""},null,{"$error":"#VALUE!"},"",null,"c349"]
["",null,{"$f":"IF($A340<>\"\",VLOOKUP($A340,#REF!, 3, FALSE),\"\")","v":""},{"$f":"IF($A340<>\"\",VLOOKUP($A340,#REF!, 4, FALSE),\"\")","v":""},{"$f":"SUMIF(#REF!,'BANCO DE DADOS'!A340,#REF!)","v":{"$error":"#REF!"}},{"$f":"IF(A340=\"\",\"\",#REF!+24)","v":""},null,{"$error":"#VALUE!"},"",null,"c350"]
["",null,{"$f":"IF($A341<>\"\",VLOOKUP($A341,#REF!, 3, FALSE),\"\")","v":""},{"$f":"IF($A341<>\"\",VLOOKUP($A341,#REF!, 4, FALSE),\"\")","v":""},{"$f":"SUMIF(#REF!,'BANCO DE DADOS'!A341,#REF!)","v":{"$error":"#REF!"}},{"$f":"IF(A341=\"\",\"\",#REF!+24)","v":""},null,{"$error":"#VALUE!"},"",null,"c351"]
["",null,{"$f":"IF($A342<>\"\",VLOOKUP($A342,#REF!, 3, FALSE),\"\")","v":""},{"$f":"IF($A342<>\"\",VLOOKUP($A342,#REF!, 4, FALSE),\"\")","v":""},{"$f":"SUMIF(#REF!,'BANCO DE DADOS'!A342,#REF!)","v":{"$error":"#REF!"}},{"$f":"IF(A342=\"\",\"\",#REF!+24)","v":""},null,{"$error":"#VALUE!"},"",null,"c352"]
["",null,{"$f":"IF($A343<>\"\",VLOOKUP($A343,#REF!, 3, FALSE),\"\")","v":""},{"$f":"IF($A343<>\"\",VLOOKUP($A343,#REF!, 4, FALSE),\"\")","v":""},{"$f":"SUMIF(#REF!,'BANCO DE DADOS'!A343,#REF!)","v":{"$error":"#REF!"}},{"$f":"IF(A343=\"\",\"\",#REF!+24)","v":""},null,{"$error":"#VALUE!"},"",null,"c353"]
["",null,{"$f":"IF($A344<>\"\",VLOOKUP($A344,#REF!, 3, FALSE),\"\")","v":""},{"$f":"IF($A344<>\"\",VLOOKUP($A344,#REF!, 4, FALSE),\"\")","v":""},{"$f":"SUMIF(#REF!,'BANCO DE DADOS'!A344,#REF!)","v":{"$error":"#REF!"}},{"$f":"IF(A344=\"\",\"\",#REF!+24)","v":""},null,{"$error":"#VALUE!"},"",null,"c354"]
["",null,{"$f":"IF($A345<>\"\",VLOOKUP($A345,#REF!, 3, FALSE),\"\")","v":""},{"$f":"IF($A345<>\"\",VLOOKUP($A345,#REF!, 4, FALSE),\"\")","v":""},{"$f":"SUMIF(#REF!,'BANCO DE DADOS'!A345,#REF!)","v":{"$error":"#REF!"}},{"$f":"IF(A345=\"\",\"\",#REF!+24)","v":""},null,{"$error":"#VALUE!"},"",null,"c355"]
["",null,{"$f":"IF($A346<>\"\",VLOOKUP($A346,#REF!, 3, FALSE),\"\")","v":""},{"$f":"IF($A346<>\"\",VLOOKUP($A346,#REF!, 4, FALSE),\"\")","v":""},{"$f":"SUMIF(#REF!,'BANCO DE DADOS'!A346,#REF!)","v":{"$error":"#REF!"}},{"$f":"IF(A346=\"\",\"\",#REF!+24)","v":""},null,{"$error":"#VALUE!"},"",null,"c356"]
["",null,{"$f":"IF($A347<>\"\",VLOOKUP($A347,#REF!, 3, FALSE),\"\")","v":""},{"$f":"IF($A347<>\"\",VLOOKUP($A347,#REF!, 4, FALSE),\"\")","v":""},{"$f":"SUMIF(#REF!,'BANCO DE DADOS'!A347,#REF!)","v":{"$error":"#REF!"}},{"$f":"IF(A347=\"\",\"\",#REF!+24)","v":""},null,{"$error":"#VALUE!"},"",null,"c357"]
["",null,{"$f":"IF($A348<>\"\",VLOOKUP($A348,#REF!, 3, FALSE),\"\")","v":""},{"$f":"IF($A348<>\"\",VLOOKUP($A348,#REF!, 4, FALSE),\"\")","v":""},{"$f":"SUMIF(#REF!,'BANCO DE DADOS'!A348,#REF!)","v":{"$error":"#REF!"}},{"$f":"IF(A348=\"\",\"\",#REF!+24)","v":""},null,{"$error":"#VALUE!"},"",null,"c358"]
["",null,{"$f":"IF($A349<>\"\",VLOOKUP($A349,#REF!, 3, FALSE),\"\")","v":""},{"$f":"IF($A349<>\"\",VLOOKUP($A349,#REF!, 4, FALSE),\"\")","v":""},{"$f":"SUMIF(#REF!,'BANCO DE DADOS'!A349,#REF!)","v":{"$error":"#REF!"}},{"$f":"IF(A349=\"\",\"\",#REF!+24)","v":""},null,{"$error":"#VALUE!"},"",null,"c359"]
["",null,{"$f":"IF($A350<>\"\",VLOOKUP($A350,#REF!, 3, FALSE),\"\")","v":""},{"$f":"IF($A350<>\"\",VLOOKUP($A350,#REF!, 4, FALSE),\"\")","v":""},{"$f":"SUMIF(#REF!,'BANCO DE DADOS'!A350,#REF!)","v":{"$error":"#REF!"}},{"$f":"IF(A350=\"\",\"\",#REF!+24)","v":""},null,{"$error":"#VALUE!"},"",null,"c360"]
["",null,{"$f":"IF($A351<>\"\",VLOOKUP($A351,#REF!, 3, FALSE),\"\")","v":""},{"$f":"IF($A351<>\"\",VLOOKUP($A351,#REF!, 4, FALSE),\"\")","v":""},{"$f":"SUMIF(#REF!,'BANCO DE DADOS'!A351,#REF!)","v":{"$error":"#REF!"}},{"$f":"IF(A351=\"\",\"\",#REF!+24)","v":""},null,{"$error":"#VALUE!"},"",null,"c361"]
["",null,{"$f":"IF($A352<>\"\",VLOOKUP($A352,#REF!, 3, FALSE),\"\")","v":""},{"$f":"IF($A352<>\"\",VLOOKUP($A352,#REF!, 4, FALSE),\"\")","v":""},{"$f":"SUMIF(#REF!,'BANCO DE DADOS'!A352,#REF!)","v":{"$error":"#REF!"}},{"$f":"IF(A352=\"\",\"\",#REF!+24)","v":""},null,{"$error":"#VALUE!"},"",null,"c362"]
["",null,{"$f":"IF($A353<>\"\",VLOOKUP($A353,#REF!, 3, FALSE),\"\")","v":""},{"$f":"IF($A353<>\"\",VLOOKUP($A353,#REF!, 4, FALSE),\"\")","v":""},{"$f":"SUMIF(#REF!,'BANCO DE DADOS'!A353,#REF!)","v":{"$error":"#REF!"}},{"$f":"IF(A353=\"\",\"\",#REF!+24)","v":""},null,{"$error":"#VALUE!"},"",null,"c363"]
["",null,{"$f":"IF($A354<>\"\",VLOOKUP($A354,#REF!, 3, FALSE),\"\")","v":""},{"$f":"IF($A354<>\"\",VLOOKUP($A354,#REF!, 4, FALSE),\"\")","v":""},{"$f":"SUMIF(#REF!,'BANCO DE DADOS'!A354,#REF!)","v":{"$error":"#REF!"}},{"$f":"IF(A354=\"\",\"\",#REF!+24)","v":""},null,{"$error":"#VALUE!"},"",null,"c364"]
["",null,{"$f":"IF($A355<>\"\",VLOOKUP($A355,#REF!, 3, FALSE),\"\")","v":""},{"$f":"IF($A355<>\"\",VLOOKUP($A355,#REF!, 4, FALSE),\"\")","v":""},{"$f":"SUMIF(#REF!,'BANCO DE DADOS'!A355,#REF!)","v":{"$error":"#REF!"}},{"$f":"IF(A355=\"\",\"\",#REF!+24)","v":""},null,{"$error":"#VALUE!"},"",null,"c365"]
["",null,{"$f":"IF($A356<>\"\",VLOOKUP($A356,#REF!, 3, FALSE),\"\")","v":""},{"$f":"IF($A356<>\"\",VLOOKUP($A356,#REF!, 4, FALSE),\"\")","v":""},{"$f":"SUMIF(#REF!,'BANCO DE DADOS'!A356,#REF!)","v":{"$error":"#REF!"}},{"$f":"IF(A356=\"\",\"\",#REF!+24)","v":""},null,{"$error":"#VALUE!"},"",null,"c366"]
["",null,{"$f":"IF($A357<>\"\",VLOOKUP($A357,#REF!, 3, FALSE),\"\")","v":""},{"$f":"IF($A357<>\"\",VLOOKUP($A357,#REF!, 4, FALSE),\"\")","v":""},{"$f":"SUMIF(#REF!,'BANCO DE DADOS'!A357,#REF!)","v":{"$error":"#REF!"}},{"$f":"IF(A357=\"\",\"\",#REF!+24)","v":""},null,{"$error":"#VALUE!"},"",null,"c367"]
["",null,{"$f":"IF($A358<>\"\",VLOOKUP($A358,#REF!, 3, FALSE),\"\")","v":""},{"$f":"IF($A358<>\"\",VLOOKUP($A358,#REF!, 4, FALSE),\"\")","v":""},{"$f":"SUMIF(#REF!,'BANCO DE DADOS'!A358,#REF!)","v":{"$error":"#REF!"}},{"$f":"IF(A358=\"\",\"\",#REF!+24)","v":""},null,{"$error":"#VALUE!"},"",null,"c368"]
["",null,{"$f":"IF($A359<>\"\",VLOOKUP($A359,#REF!, 3, FALSE),\"\")","v":""},{"$f":"IF($A359<>\"\",VLOOKUP($A359,#REF!, 4, FALSE),\"\")","v":""},{"$f":"SUMIF(#REF!,'BANCO DE DADOS'!A359,#REF!)","v":{"$error":"#REF!"}},{"$f":"IF(A359=\"\",\"\",#REF!+24)","v":""},null,{"$error":"#VALUE!"},"",null,"c369"]
["",null,{"$f":"IF($A360<>\"\",VLOOKUP($A360,#REF!, 3, FALSE),\"\")","v":""},{"$f":"IF($A360<>\"\",VLOOKUP($A360,#REF!, 4, FALSE),\"\")","v":""},{"$f":"SUMIF(#REF!,'BANCO DE DADOS'!A360,#REF!)","v":{"$error":"#REF!"}},{"$f":"IF(A360=\"\",\"\",#REF!+24)","v":""},null,{"$error":"#VALUE!"},"",null,"c370"]
["",null,{"$f":"IF($A361<>\"\",VLOOKUP($A361,#REF!, 3, FALSE),\"\")","v":""},{"$f":"IF($A361<>\"\",VLOOKUP($A361,#REF!, 4, FALSE),\"\")","v":""},{"$f":"SUMIF(#REF!,'BANCO DE DADOS'!A361,#REF!)","v":{"$error":"#REF!"}},{"$f":"IF(A361=\"\",\"\",#REF!+24)","v":""},null,{"$error":"#VALUE!"},"",null,"c371"]
["",null,{"$f":"IF($A362<>\"\",VLOOKUP($A362,#REF!, 3, FALSE),\"\")","v":""},{"$f":"IF($A362<>\"\",VLOOKUP($A362,#REF!, 4, FALSE),\"\")","v":""},{"$f":"SUMIF(#REF!,'BANCO DE DADOS'!A362,#REF!)","v":{"$error":"#REF!"}},{"$f":"IF(A362=\"\",\"\",#REF!+24)","v":""},null,{"$error":"#VALUE!"},"",null,"c372"]
["",null,{"$f":"IF($A363<>\"\",VLOOKUP($A363,#REF!, 3, FALSE),\"\")","v":""},{"$f":"IF($A363<>\"\",VLOOKUP($A363,#REF!, 4, FALSE),\"\")","v":""},{"$f":"SUMIF(#REF!,'BANCO DE DADOS'!A363,#REF!)","v":{"$error":"#REF!"}},{"$f":"IF(A363=\"\",\"\",#REF!+24)","v":""},null,{"$error":"#VALUE!"},"",null,"c373"]
["",null,{"$f":"IF($A364<>\"\",VLOOKUP($A364,#REF!, 3, FALSE),\"\")","v":""},{"$f":"IF($A364<>\"\",VLOOKUP($A364,#REF!, 4, FALSE),\"\")","v":""},{"$f":"SUMIF(#REF!,'BANCO DE DADOS'!A364,#REF!)","v":{"$error":"#REF!"}},{"$f":"IF(A364=\"\",\"\",#REF!+24)","v":""},null,{"$error":"#VALUE!"},"",null,"c374"]
["",null,{"$f":"IF($A365<>\"\",VLOOKUP($A365,#REF!, 3, FALSE),\"\")","v":""},{"$f":"IF($A365<>\"\",VLOOKUP($A365,#REF!, 4, FALSE),\"\")","v":""},{"$f":"SUMIF(#REF!,'BANCO DE DADOS'!A365,#REF!)","v":{"$error":"#REF!"}},{"$f":"IF(A365=\"\",\"\",#REF!+24)","v":""},null,{"$error":"#VALUE!"},"",null,"c375"]
["",null,{"$f":"IF($A366<>\"\",VLOOKUP($A366,#REF!, 3, FALSE),\"\")","v":""},{"$f":"IF($A366<>\"\",VLOOKUP($A366,#REF!, 4, FALSE),\"\")","v":""},{"$f":"SUMIF(#REF!,'BANCO DE DADOS'!A366,#REF!)","v":{"$error":"#REF!"}},{"$f":"IF(A366=\"\",\"\",#REF!+24)","v":""},null,{"$error":"#VALUE!"},"",null,"c376"]
["",null,{"$f":"IF($A367<>\"\",VLOOKUP($A367,#REF!, 3, FALSE),\"\")","v":""},{"$f":"IF($A367<>\"\",VLOOKUP($A367,#REF!, 4, FALSE),\"\")","v":""},{"$f":"SUMIF(#REF!,'BANCO DE DADOS'!A367,#REF!)","v":{"$error":"#REF!"}},{"$f":"IF(A367=\"\",\"\",#REF!+24)","v":""},null,{"$error":"#VALUE!"},"",null,"c377"]
["",null,{"$f":"IF($A368<>\"\",VLOOKUP($A368,#REF!, 3, FALSE),\"\")","v":""},{"$f":"IF($A368<>\"\",VLOOKUP($A368,#REF!, 4, FALSE),\"\")","v":""},{"$f":"SUMIF(#REF!,'BANCO DE DADOS'!A368,#REF!)","v":{"$error":"#REF!"}},{"$f":"IF(A368=\"\",\"\",#REF!+24)","v":""},null,{"$error":"#VALUE!"},"",null,"c378"]
["",null,{"$f":"IF($A369<>\"\",VLOOKUP($A369,#REF!, 3, FALSE),\"\")","v":""},{"$f":"IF($A369<>\"\",VLOOKUP($A369,#REF!, 4, FALSE),\"\")","v":""},{"$f":"SUMIF(#REF!,'BANCO DE DADOS'!A369,#REF!)","v":{"$error":"#REF!"}},{"$f":"IF(A369=\"\",\"\",#REF!+24)","v":""},null,{"$error":"#VALUE!"},"",null,"c379"]
["",null,{"$f":"IF($A370<>\"\",VLOOKUP($A370,#REF!, 3, FALSE),\"\")","v":""},{"$f":"IF($A370<>\"\",VLOOKUP($A370,#REF!, 4, FALSE),\"\")","v":""},{"$f":"SUMIF(#REF!,'BANCO DE DADOS'!A370,#REF!)","v":{"$error":"#REF!"}},{"$f":"IF(A370=\"\",\"\",#REF!+24)","v":""},null,{"$error":"#VALUE!"},"",null,"c380"]
["",null,{"$f":"IF($A371<>\"\",VLOOKUP($A371,#REF!, 3, FALSE),\"\")","v":""},{"$f":"IF($A371<>\"\",VLOOKUP($A371,#REF!, 4, FALSE),\"\")","v":""},{"$f":"SUMIF(#REF!,'BANCO DE DADOS'!A371,#REF!)","v":{"$error":"#REF!"}},{"$f":"IF(A371=\"\",\"\",#REF!+24)","v":""},null,{"$error":"#VALUE!"},"",null,"c381"]
["",null,{"$f":"IF($A372<>\"\",VLOOKUP($A372,#REF!, 3, FALSE),\"\")","v":""},{"$f":"IF($A372<>\"\",VLOOKUP($A372,#REF!, 4, FALSE),\"\")","v":""},{"$f":"SUMIF(#REF!,'BANCO DE DADOS'!A372,#REF!)","v":{"$error":"#REF!"}},{"$f":"IF(A372=\"\",\"\",#REF!+24)","v":""},null,{"$error":"#VALUE!"},"",null,"c382"]
["",null,{"$f":"IF($A373<>\"\",VLOOKUP($A373,#REF!, 3, FALSE),\"\")","v":""},{"$f":"IF($A373<>\"\",VLOOKUP($A373,#REF!, 4, FALSE),\"\")","v":""},{"$f":"SUMIF(#REF!,'BANCO DE DADOS'!A373,#REF!)","v":{"$error":"#REF!"}},{"$f":"IF(A373=\"\",\"\",#REF!+24)","v":""},null,{"$error":"#VALUE!"},"",null,"c383"]
["",null,{"$f":"IF($A374<>\"\",VLOOKUP($A374,#REF!, 3, FALSE),\"\")","v":""},{"$f":"IF($A374<>\"\",VLOOKUP($A374,#REF!, 4, FALSE),\"\")","v":""},{"$f":"SUMIF(#REF!,'BANCO DE DADOS'!A374,#REF!)","v":{"$error":"#REF!"}},{"$f":"IF(A374=\"\",\"\",#REF!+24)","v":""},null,{"$error":"#VALUE!"},"",null,"c384"]
["",null,{"$f":"IF($A375<>\"\",VLOOKUP($A375,#REF!, 3, FALSE),\"\")","v":""},{"$f":"IF($A375<>\"\",VLOOKUP($A375,#REF!, 4, FALSE),\"\")","v":""},{"$f":"SUMIF(#REF!,'BANCO DE DADOS'!A375,#REF!)","v":{"$error":"#REF!"}},{"$f":"IF(A375=\"\",\"\",#REF!+24)","v":""},null,{"$error":"#VALUE!"},"",null,"c385"]
["",null,{"$f":"IF($A376<>\"\",VLOOKUP($A376,#REF!, 3, FALSE),\"\")","v":""},{"$f":"IF($A376<>\"\",VLOOKUP($A376,#REF!, 4, FALSE),\"\")","v":""},{"$f":"SUMIF(#REF!,'BANCO DE DADOS'!A376,#REF!)","v":{"$error":"#REF!"}},{"$f":"IF(A376=\"\",\"\",#REF!+24)","v":""},null,{"$error":"#VALUE!"},"",null,"c386"]
["",null,{"$f":"IF($A377<>\"\",VLOOKUP($A377,#REF!, 3, FALSE),\"\")","v":""},{"$f":"IF($A377<>\"\",VLOOKUP($A377,#REF!, 4, FALSE),\"\")","v":""},{"$f":"SUMIF(#REF!,'BANCO DE DADOS'!A377,#REF!)","v":{"$error":"#REF!"}},{"$f":"IF(A377=\"\",\"\",#REF!+24)","v":""},null,{"$error":"#VALUE!"},"",null,"c387"]
["",null,{"$f":"IF($A378<>\"\",VLOOKUP($A378,#REF!, 3, FALSE),\"\")","v":""},{"$f":"IF($A378<>\"\",VLOOKUP($A378,#REF!, 4, FALSE),\"\")","v":""},{"$f":"SUMIF(#REF!,'BANCO DE DADOS'!A378,#REF!)","v":{"$error":"#REF!"}},{"$f":"IF(A378=\"\",\"\",#REF!+24)","v":""},null,{"$error":"#VALUE!"},"",null,"c388"]
["",null,{"$f":"IF($A379<>\"\",VLOOKUP($A379,#REF!, 3, FALSE),\"\")","v":""},{"$f":"IF($A379<>\"\",VLOOKUP($A379,#REF!, 4, FALSE),\"\")","v":""},{"$f":"SUMIF(#REF!,'BANCO DE DADOS'!A379,#REF!)","v":{"$error":"#REF!"}},{"$f":"IF(A379=\"\",\"\",#REF!+24)","v":""},null,{"$error":"#VALUE!"},"",null,"c389"]
["",null,{"$f":"IF($A380<>\"\",VLOOKUP($A380,#REF!, 3, FALSE),\"\")","v":""},{"$f":"IF($A380<>\"\",VLOOKUP($A380,#REF!, 4, FALSE),\"\")","v":""},{"$f":"SUMIF(#REF!,'BANCO DE DADOS'!A380,#REF!)","v":{"$error":"#REF!"}},{"$f":"IF(A380=\"\",\"\",#REF!+24)","v":""},null,{"$error":"#VALUE!"},"",null,"c390"]
["",null,{"$f":"IF($A381<>\"\",VLOOKUP($A381,#REF!, 3, FALSE),\"\")","v":""},{"$f":"IF($A381<>\"\",VLOOKUP($A381,#REF!, 4, FALSE),\"\")","v":""},{"$f":"SUMIF(#REF!,'BANCO DE DADOS'!A381,#REF!)","v":{"$error":"#REF!"}},{"$f":"IF(A381=\"\",\"\",#REF!+24)","v":""},null,{"$error":"#VALUE!"},"",null,"c391"]
["",null,{"$f":"IF($A382<>\"\",VLOOKUP($A382,#REF!, 3, FALSE),\"\")","v":""},{"$f":"IF($A382<>\"\",VLOOKUP($A382,#REF!, 4, FALSE),\"\")","v":""},{"$f":"SUMIF(#REF!,'BANCO DE DADOS'!A382,#REF!)","v":{"$error":"#REF!"}},{"$f":"IF(A382=\"\",\"\",#REF!+24)","v":""},null,{"$error":"#VALUE!"},"",null,"c392"]
["",null,{"$f":"IF($A383<>\"\",VLOOKUP($A383,#REF!, 3, FALSE),\"\")","v":""},{"$f":"IF($A383<>\"\",VLOOKUP($A383,#REF!, 4, FALSE),\"\")","v":""},{"$f":"SUMIF(#REF!,'BANCO DE DADOS'!A383,#REF!)","v":{"$error":"#REF!"}},{"$f":"IF(A383=\"\",\"\",#REF!+24)","v":""},null,{"$error":"#VALUE!"},"",null,"c393"]
["",null,{"$f":"IF($A384<>\"\",VLOOKUP($A384,#REF!, 3, FALSE),\"\")","v":""},{"$f":"IF($A384<>\"\",VLOOKUP($A384,#REF!, 4, FALSE),\"\")","v":""},{"$f":"SUMIF(#REF!,'BANCO DE DADOS'!A384,#REF!)","v":{"$error":"#REF!"}},{"$f":"IF(A384=\"\",\"\",#REF!+24)","v":""},null,{"$error":"#VALUE!"},"",null,"c394"]
["",null,{"$f":"IF($A385<>\"\",VLOOKUP($A385,#REF!, 3, FALSE),\"\")","v":""},{"$f":"IF($A385<>\"\",VLOOKUP($A385,#REF!, 4, FALSE),\"\")","v":""},{"$f":"SUMIF(#REF!,'BANCO DE DADOS'!A385,#REF!)","v":{"$error":"#REF!"}},{"$f":"IF(A385=\"\",\"\",#REF!+24)","v":""},null,{"$error":"#VALUE!"},"",null,"c395"]
["",null,{"$f":"IF($A386<>\"\",VLOOKUP($A386,#REF!, 3, FALSE),\"\")","v":""},{"$f":"IF($A386<>\"\",VLOOKUP($A386,#REF!, 4, FALSE),\"\")","v":""},{"$f":"SUMIF(#REF!,'BANCO DE DADOS'!A386,#REF!)","v":{"$error":"#REF!"}},{"$f":"IF(A386=\"\",\"\",#REF!+24)","v":""},null,{"$error":"#VALUE!"},"",null,"c396"]
[{"$f":"IF(INDIRECT(\"RESUMO!\" & K387)=\"\",\"\",INDIRECT(\"RESUMO!\" & K387))","v":""},null,{"$f":"IF($A387<>\"\",VLOOKUP($A387,#REF!, 3, FALSE),\"\")","v":""},{"$f":"IF($A387<>\"\",VLOOKUP($A387,#REF!, 4, FALSE),\"\")","v":""},{"$f":"SUMIF(#REF!,'BANCO DE DADOS'!A387,#REF!)","v":{"$error":"#REF!"}},{"$f":"IF(A387=\"\",\"\",#REF!+24)","v":""},null,{"$f":"IF(OFFSET(INDIRECT(\"RESUMO!\" & K387),0,-1)=\"\",\"\",OFFSET(INDIRECT(\"RESUMO!\" & K387),0,-1))","v":{"$error":"#VALUE!"}},{"$f":"F387","v":""},null,"c397"]
["",null,{"$f":"IF($A388<>\"\",VLOOKUP($A388,#REF!, 3, FALSE),\"\")","v":""},{"$f":"IF($A388<>\"\",VLOOKUP($A388,#REF!, 4, FALSE),\"\")","v":""},{"$f":"SUMIF(#REF!,'BANCO DE DADOS'!A388,#REF!)","v":{"$error":"#REF!"}},{"$f":"IF(A388=\"\",\"\",#REF!+24)","v":""},null,{"$error":"#VALUE!"},"",null,"c398"]
["",null,{"$f":"IF($A389<>\"\",VLOOKUP($A389,#REF!, 3, FALSE),\"\")","v":""},{"$f":"IF($A389<>\"\",VLOOKUP($A389,#REF!, 4, FALSE),\"\")","v":""},{"$f":"SUMIF(#REF!,'BANCO DE DADOS'!A389,#REF!)","v":{"$error":"#REF!"}},{"$f":"IF(A389=\"\",\"\",#REF!+24)","v":""},null,{"$error":"#VALUE!"},"",null,"c399"]
["",null,{"$f":"IF($A390<>\"\",VLOOKUP($A390,#REF!, 3, FALSE),\"\")","v":""},{"$f":"IF($A390<>\"\",VLOOKUP($A390,#REF!, 4, FALSE),\"\")","v":""},{"$f":"SUMIF(#REF!,'BANCO DE DADOS'!A390,#REF!)","v":{"$error":"#REF!"}},{"$f":"IF(A390=\"\",\"\",#REF!+24)","v":""},null,{"$error":"#VALUE!"},"",null,"c400"]
["",null,{"$f":"IF($A391<>\"\",VLOOKUP($A391,#REF!, 3, FALSE),\"\")","v":""},{"$f":"IF($A391<>\"\",VLOOKUP($A391,#REF!, 4, FALSE),\"\")","v":""},{"$f":"SUMIF(#REF!,'BANCO DE DADOS'!A391,#REF!)","v":{"$error":"#REF!"}},{"$f":"IF(A391=\"\",\"\",#REF!+24)","v":""},null,{"$error":"#VALUE!"},"",null,"c401"]
["",null,{"$f":"IF($A392<>\"\",VLOOKUP($A392,#REF!, 3, FALSE),\"\")","v":""},{"$f":"IF($A392<>\"\",VLOOKUP($A392,#REF!, 4, FALSE),\"\")","v":""},{"$f":"SUMIF(#REF!,'BANCO DE DADOS'!A392,#REF!)","v":{"$error":"#REF!"}},{"$f":"IF(A392=\"\",\"\",#REF!+24)","v":""},null,{"$error":"#VALUE!"},"",null,"c402"]
["",null,{"$f":"IF($A393<>\"\",VLOOKUP($A393,#REF!, 3, FALSE),\"\")","v":""},{"$f":"IF($A393<>\"\",VLOOKUP($A393,#REF!, 4, FALSE),\"\")","v":""},{"$f":"SUMIF(#REF!,'BANCO DE DADOS'!A393,#REF!)","v":{"$error":"#REF!"}},{"$f":"IF(A393=\"\",\"\",#REF!+24)","v":""},null,{"$error":"#VALUE!"},"",null,"c403"]
["",null,{"$f":"IF($A394<>\"\",VLOOKUP($A394,#REF!, 3, FALSE),\"\")","v":""},{"$f":"IF($A394<>\"\",VLOOKUP($A394,#REF!, 4, FALSE),\"\")","v":""},{"$f":"SUMIF(#REF!,'BANCO DE DADOS'!A394,#REF!)","v":{"$error":"#REF!"}},{"$f":"IF(A394=\"\",\"\",#REF!+24)","v":""},null,{"$error":"#VALUE!"},"",null,"c404"]
["",null,{"$f":"IF($A395<>\"\",VLOOKUP($A395,#REF!, 3, FALSE),\"\")","v":""},{"$f":"IF($A395<>\"\",VLOOKUP($A395,#REF!, 4, FALSE),\"\")","v":""},{"$f":"SUMIF(#REF!,'BANCO DE DADOS'!A395,#REF!)","v":{"$error":"#REF!"}},{"$f":"IF(A395=\"\",\"\",#REF!+24)","v":""},null,{"$error":"#VALUE!"},"",null,"c405"]
["",null,{"$f":"IF($A396<>\"\",VLOOKUP($A396,#REF!, 3, FALSE),\"\")","v":""},{"$f":"IF($A396<>\"\",VLOOKUP($A396,#REF!, 4, FALSE),\"\")","v":""},{"$f":"SUMIF(#REF!,'BANCO DE DADOS'!A396,#REF!)","v":{"$error":"#REF!"}},{"$f":"IF(A396=\"\",\"\",#REF!+24)","v":""},null,{"$error":"#VALUE!"},"",null,"c406"]
["",null,{"$f":"IF($A397<>\"\",VLOOKUP($A397,#REF!, 3, FALSE),\"\")","v":""},{"$f":"IF($A397<>\"\",VLOOKUP($A397,#REF!, 4, FALSE),\"\")","v":""},{"$f":"SUMIF(#REF!,'BANCO DE DADOS'!A397,#REF!)","v":{"$error":"#REF!"}},{"$f":"IF(A397=\"\",\"\",#REF!+24)","v":""},null,{"$error":"#VALUE!"},"",null,"c407"]
["",null,{"$f":"IF($A398<>\"\",VLOOKUP($A398,#REF!, 3, FALSE),\"\")","v":""},{"$f":"IF($A398<>\"\",VLOOKUP($A398,#REF!, 4, FALSE),\"\")","v":""},{"$f":"SUMIF(#REF!,'BANCO DE DADOS'!A398,#REF!)","v":{"$error":"#REF!"}},{"$f":"IF(A398=\"\",\"\",#REF!+24)","v":""},null,{"$error":"#VALUE!"},"",null,"c408"]
["",null,{"$f":"IF($A399<>\"\",VLOOKUP($A399,#REF!, 3, FALSE),\"\")","v":""},{"$f":"IF($A399<>\"\",VLOOKUP($A399,#REF!, 4, FALSE),\"\")","v":""},{"$f":"SUMIF(#REF!,'BANCO DE DADOS'!A399,#REF!)","v":{"$error":"#REF!"}},{"$f":"IF(A399=\"\",\"\",#REF!+24)","v":""},null,{"$error":"#VALUE!"},"",null,"c409"]
["",null,{"$f":"IF($A400<>\"\",VLOOKUP($A400,#REF!, 3, FALSE),\"\")","v":""},{"$f":"IF($A400<>\"\",VLOOKUP($A400,#REF!, 4, FALSE),\"\")","v":""},{"$f":"SUMIF(#REF!,'BANCO DE DADOS'!A400,#REF!)","v":{"$error":"#REF!"}},{"$f":"IF(A400=\"\",\"\",#REF!+24)","v":""},null,{"$error":"#VALUE!"},"",null,"c410"]
["",null,{"$f":"IF($A401<>\"\",VLOOKUP($A401,#REF!, 3, FALSE),\"\")","v":""},{"$f":"IF($A401<>\"\",VLOOKUP($A401,#REF!, 4, FALSE),\"\")","v":""},{"$f":"SUMIF(#REF!,'BANCO DE DADOS'!A401,#REF!)","v":{"$error":"#REF!"}},{"$f":"IF(A401=\"\",\"\",#REF!+24)","v":""},null,{"$error":"#VALUE!"},"",null,"c411"]
["",null,{"$f":"IF($A402<>\"\",VLOOKUP($A402,#REF!, 3, FALSE),\"\")","v":""},{"$f":"IF($A402<>\"\",VLOOKUP($A402,#REF!, 4, FALSE),\"\")","v":""},{"$f":"SUMIF(#REF!,'BANCO DE DADOS'!A402,#REF!)","v":{"$error":"#REF!"}},{"$f":"IF(A402=\"\",\"\",#REF!+24)","v":""},null,{"$error":"#VALUE!"},"",null,"c412"]
["",null,{"$f":"IF($A403<>\"\",VLOOKUP($A403,#REF!, 3, FALSE),\"\")","v":""},{"$f":"IF($A403<>\"\",VLOOKUP($A403,#REF!, 4, FALSE),\"\")","v":""},{"$f":"SUMIF(#REF!,'BANCO DE DADOS'!A403,#REF!)","v":{"$error":"#REF!"}},{"$f":"IF(A403=\"\",\"\",#REF!+24)","v":""},null,{"$error":"#VALUE!"},"",null,"c413"]
["",null,{"$f":"IF($A404<>\"\",VLOOKUP($A404,#REF!, 3, FALSE),\"\")","v":""},{"$f":"IF($A404<>\"\",VLOOKUP($A404,#REF!, 4, FALSE),\"\")","v":""},{"$f":"SUMIF(#REF!,'BANCO DE DADOS'!A404,#REF!)","v":{"$error":"#REF!"}},{"$f":"IF(A404=\"\",\"\",#REF!+24)","v":""},null,{"$error":"#VALUE!"},"",null,"c414"]
["",null,{"$f":"IF($A405<>\"\",VLOOKUP($A405,#REF!, 3, FALSE),\"\")","v":""},{"$f":"IF($A405<>\"\",VLOOKUP($A405,#REF!, 4, FALSE),\"\")","v":""},{"$f":"SUMIF(#REF!,'BANCO DE DADOS'!A405,#REF!)","v":{"$error":"#REF!"}},{"$f":"IF(A405=\"\",\"\",#REF!+24)","v":""},null,{"$error":"#VALUE!"},"",null,"c415"]
["",null,{"$f":"IF($A406<>\"\",VLOOKUP($A406,#REF!, 3, FALSE),\"\")","v":""},{"$f":"IF($A406<>\"\",VLOOKUP($A406,#REF!, 4, FALSE),\"\")","v":""},{"$f":"SUMIF(#REF!,'BANCO DE DADOS'!A406,#REF!)","v":{"$error":"#REF!"}},{"$f":"IF(A406=\"\",\"\",#REF!+24)","v":""},null,{"$error":"#VALUE!"},"",null,"c416"]
["",null,{"$f":"IF($A407<>\"\",VLOOKUP($A407,#REF!, 3, FALSE),\"\")","v":""},{"$f":"IF($A407<>\"\",VLOOKUP($A407,#REF!, 4, FALSE),\"\")","v":""},{"$f":"SUMIF(#REF!,'BANCO DE DADOS'!A407,#REF!)","v":{"$error":"#REF!"}},{"$f":"IF(A407=\"\",\"\",#REF!+24)","v":""},null,{"$error":"#VALUE!"},"",null,"c417"]
["",null,{"$f":"IF($A408<>\"\",VLOOKUP($A408,#REF!, 3, FALSE),\"\")","v":""},{"$f":"IF($A408<>\"\",VLOOKUP($A408,#REF!, 4, FALSE),\"\")","v":""},{"$f":"SUMIF(#REF!,'BANCO DE DADOS'!A408,#REF!)","v":{"$error":"#REF!"}},{"$f":"IF(A408=\"\",\"\",#REF!+24)","v":""},null,{"$error":"#VALUE!"},"",null,"c418"]
["",null,{"$f":"IF($A409<>\"\",VLOOKUP($A409,#REF!, 3, FALSE),\"\")","v":""},{"$f":"IF($A409<>\"\",VLOOKUP($A409,#REF!, 4, FALSE),\"\")","v":""},{"$f":"SUMIF(#REF!,'BANCO DE DADOS'!A409,#REF!)","v":{"$error":"#REF!"}},{"$f":"IF(A409=\"\",\"\",#REF!+24)","v":""},null,{"$error":"#VALUE!"},"",null,"c419"]
["",null,{"$f":"IF($A410<>\"\",VLOOKUP($A410,#REF!, 3, FALSE),\"\")","v":""},{"$f":"IF($A410<>\"\",VLOOKUP($A410,#REF!, 4, FALSE),\"\")","v":""},{"$f":"SUMIF(#REF!,'BANCO DE DADOS'!A410,#REF!)","v":{"$error":"#REF!"}},{"$f":"IF(A410=\"\",\"\",#REF!+24)","v":""},null,{"$error":"#VALUE!"},"",null,"c420"]
["",null,{"$f":"IF($A411<>\"\",VLOOKUP($A411,#REF!, 3, FALSE),\"\")","v":""},{"$f":"IF($A411<>\"\",VLOOKUP($A411,#REF!, 4, FALSE),\"\")","v":""},{"$f":"SUMIF(#REF!,'BANCO DE DADOS'!A411,#REF!)","v":{"$error":"#REF!"}},{"$f":"IF(A411=\"\",\"\",#REF!+24)","v":""},null,{"$error":"#VALUE!"},"",null,"c421"]
["",null,{"$f":"IF($A412<>\"\",VLOOKUP($A412,#REF!, 3, FALSE),\"\")","v":""},{"$f":"IF($A412<>\"\",VLOOKUP($A412,#REF!, 4, FALSE),\"\")","v":""},{"$f":"SUMIF(#REF!,'BANCO DE DADOS'!A412,#REF!)","v":{"$error":"#REF!"}},{"$f":"IF(A412=\"\",\"\",#REF!+24)","v":""},null,{"$error":"#VALUE!"},"",null,"c422"]
["",null,{"$f":"IF($A413<>\"\",VLOOKUP($A413,#REF!, 3, FALSE),\"\")","v":""},{"$f":"IF($A413<>\"\",VLOOKUP($A413,#REF!, 4, FALSE),\"\")","v":""},{"$f":"SUMIF(#REF!,'BANCO DE DADOS'!A413,#REF!)","v":{"$error":"#REF!"}},{"$f":"IF(A413=\"\",\"\",#REF!+24)","v":""},null,{"$error":"#VALUE!"},"",null,"c423"]
["",null,{"$f":"IF($A414<>\"\",VLOOKUP($A414,#REF!, 3, FALSE),\"\")","v":""},{"$f":"IF($A414<>\"\",VLOOKUP($A414,#REF!, 4, FALSE),\"\")","v":""},{"$f":"SUMIF(#REF!,'BANCO DE DADOS'!A414,#REF!)","v":{"$error":"#REF!"}},{"$f":"IF(A414=\"\",\"\",#REF!+24)","v":""},null,{"$error":"#VALUE!"},"",null,"c424"]
["",null,{"$f":"IF($A415<>\"\",VLOOKUP($A415,#REF!, 3, FALSE),\"\")","v":""},{"$f":"IF($A415<>\"\",VLOOKUP($A415,#REF!, 4, FALSE),\"\")","v":""},{"$f":"SUMIF(#REF!,'BANCO DE DADOS'!A415,#REF!)","v":{"$error":"#REF!"}},{"$f":"IF(A415=\"\",\"\",#REF!+24)","v":""},null,{"$error":"#VALUE!"},"",null,"c425"]
["",null,{"$f":"IF($A416<>\"\",VLOOKUP($A416,#REF!, 3, FALSE),\"\")","v":""},{"$f":"IF($A416<>\"\",VLOOKUP($A416,#REF!, 4, FALSE),\"\")","v":""},{"$f":"SUMIF(#REF!,'BANCO DE DADOS'!A416,#REF!)","v":{"$error":"#REF!"}},{"$f":"IF(A416=\"\",\"\",#REF!+24)","v":""},null,{"$error":"#VALUE!"},"",null,"c426"]
["",null,{"$f":"IF($A417<>\"\",VLOOKUP($A417,#REF!, 3, FALSE),\"\")","v":""},{"$f":"IF($A417<>\"\",VLOOKUP($A417,#REF!, 4, FALSE),\"\")","v":""},{"$f":"SUMIF(#REF!,'BANCO DE DADOS'!A417,#REF!)","v":{"$error":"#REF!"}},{"$f":"IF(A417=\"\",\"\",#REF!+24)","v":""},null,{"$error":"#VALUE!"},"",null,"c427"]

{"sheet":"Padrão","index":1,"n_rows":9,"n_cols":22,"rows_kept":9,"cut":false,"hidden":false,"merged":[[6,16,6,21],[7,16,7,18],[7,19,7,21],[7,13,7,15],[7,5,8,5],[7,2,8,2],[6,10,6,12],[7,0,8,0],[7,1,8,1],[7,6,8,6],[7,10,7,12],[7,8,8,8],[7,9,8,9],[7,3,8,3],[7,4,8,4],[7,7,8,7]]}
[]
[]
["MUNICÍPIO"]
["MÊS ATUALIZAÇÃO","2021-09-01"]
["Nº OFÍCIO"]
[]
[null,null,null,null,null,null,null,null,null,null,null,null,null,null,null,null,"LÂMPADAS ACESAS 24 HORAS"]
["DATA ALTERAÇÃO EM CAMPO","NÚMERO TRANSFORMADOR","NÚMERO DE POSTE","COORDENADAS - LATITUDE","COORDENADAS - LONGITUDE","POSTE MAIS PRÓXIMO","ENDEREÇO (RUA E BAIRRO)","CIRCUITO MEDIDO? \n(SIM/NÃO)","SE CIRCUITO FOR MEDIDO, INSERIR Nº MEDIDOR","TIPO DE CABO","SITUAÇÃO ATUAL",null,null,"SITUAÇÃO ANTERIOR",null,null,"NOVO IP ACESO 24h",null,null,"REGULARIZAÇÃO DE IP 24h"]
[null,null,null,null,null,null,null,null,null,null,"TIPO","POTÊNCIA (W)","QTD","TIPO","POTÊNCIA (W)","QTD","TIPO","POTÊNCIA (W)","QTD","TIPO","POTÊNCIA (W)","QTD"]

{"sheet":"Base","index":2,"n_rows":750,"n_cols":6,"rows_kept":750,"cut":false,"hidden":false,"merged":[]}
["Tipo","Lâmp WATTS","Reator WATTS","NOME LAMP","LAMP + REAT","NOME"]
["DI",150,0,{"$f":"A2&\"-\"&B2","v":"DI-150"},150,"DICROICA"]
["FL",9,0,{"$f":"A3&\"-\"&B3","v":"FL-9"},9,"FLUORESCENTE"]
["FL",11,0,{"$f":"A4&\"-\"&B4","v":"FL-11"},11,"FLUORESCENTE"]
["FL",15,0,"FL-15",15,"FLUORESCENTE"]
["FL",16,0,"FL-16",16,"FLUORESCENTE"]
["FL",18,0,"FL-18",18,"FLUORESCENTE"]
["FL",20,0,"FL-20",20,"FLUORESCENTE"]
["FL",23,0,"FL-23",23,"FLUORESCENTE"]
["FL",24,0,"FL-24",24,"FLUORESCENTE"]
["FL",25,0,"FL-25",25,"FLUORESCENTE"]
["FL",27,0,"FL-27",27,"FLUORESCENTE"]
["FL",30,0,"FL-30",30,"FLUORESCENTE"]
["FL",32,0,"FL-32",32,"FLUORESCENTE"]
["FL",33,0,"FL-33",33,"FLUORESCENTE"]
["FL",34,0,"FL-34",34,"FLUORESCENTE"]
["FL",35,0,"FL-35",35,"FLUORESCENTE"]
["FL",36,0,"FL-36",36,"FLUORESCENTE"]
["FL",40,0,"FL-40",40,"FLUORESCENTE"]
["FL",42,0,"FL-42",42,"FLUORESCENTE"]
["FL",45,0,"FL-45",45,"FLUORESCENTE"]
["FL",46,0,"FL-46",46,"FLUORESCENTE"]
["FL",50,0,"FL-50",50,"FLUORESCENTE"]
["FL",51,0,"FL-51",51,"FLUORESCENTE"]
["FL",55,0,"FL-55",55,"FLUORESCENTE"]
["FL",60,0,"FL-60",60,"FLUORESCENTE"]
["FL",65,0,"FL-65",65,"FLUORESCENTE"]
["FL",70,0,"FL-70",70,"FLUORESCENTE"]
["FL",75,0,"FL-75",75,"FLUORESCENTE"]
["FL",80,0,"FL-80",80,"FLUORESCENTE"]
["FL",85,0,"FL-85",85,"FLUORESCENTE"]
["FL",90,0,"FL-90",90,"FLUORESCENTE"]
["FL",110,0,"FL-110",110,"FLUORESCENTE"]
["FL",250,0,"FL-250",250,"FLUORESCENTE"]
["FL",400,0,"FL-400",400,"FLUORESCENTE"]
["FL",500,0,"FL-500",500,"FLUORESCENTE"]
["HL",11,0,"HL-11",11,"HALOGENA"]
["HL",30,0,"HL-30",30,"HALOGENA"]
["HL",35,0,"HL-35",35,"HALOGENA"]
["HL",46,0,"HL-46",46,"HALOGENA"]
["HL",50,0,"HL-50",50,"HALOGENA"]
["HL",100,0,"HL-100",100,"HALOGENA"]
["HL",110,0,"HL-110",110,"HALOGENA"]
["HL",150,0,"HL-150",150,"HALOGENA"]
["HL",300,0,"HL-300",300,"HALOGENA"]
["HL",500,0,"HL-500",500,"HALOGENA"]
["HL",1000,0,"HL-1000",1000,"HALOGENA"]
["HL",1500,0,"HL-1500",1500,"HALOGENA"]
["HL",2000,0,"HL-2000",2000,"HALOGENA"]
["IN",20,0,"IN-20",20,"INCANDESCENTE"]
["IN",30,0,"IN-30",30,"INCANDESCENTE"]
["IN",40,0,"IN-40",40,"INCANDESCENTE"]
["IN",60,0,"IN-60",60,"INCANDESCENTE"]
["IN",70,0,"IN-70",70,"INCANDESCENTE"]
["IN",100,0,"IN-100",100,"INCANDESCENTE"]
["IN",150,0,"IN-150",150,"INCANDESCENTE"]
["IN",200,0,"IN-200",200,"INCANDESCENTE"]
["IN",300,0,"IN-300",300,"INCANDESCENTE"]
["IN",500,0,"IN-500",500,"INCANDESCENTE"]
["IN",600,0,"IN-600",600,"INCANDESCENTE"]
["IN",1000,0,"IN-1000",1000,"INCANDESCENTE"]
["LD",1,0,"LD-1",1,"LED"]
["LD",2,0,"LD-2",2,"LED"]
["LD",3,0,"LD-3",3,"LED"]
["LD",4,0,"LD-4",4,"LED"]
["LD",5,0,"LD-5",5,"LED"]
["LD",6,0,"LD-6",6,"LED"]
[null,6.5,0,"LD-6,5",6,"LED"]
["LD",7,0,"LD-7",7,"LED"]
["LD",8,0,"LD-8",8,"LED"]
["LD",9,0,"LD-9",9,"LED"]
["LD",10,0,"LD-10",10,"LED"]
["LD",11,0,"LD-11",11,"LED"]
["LD",12,0,"LD-12",12,"LED"]
["LD",13,0,"LD-13",13,"LED"]
["LD",14,0,"LD-14",14,"LED"]
["LD",15,0,"LD-15",15,"LED"]
["LD",16,0,"LD-16",16,"LED"]
["LD",17,0,"LD-17",17,"LED"]
["LD",18,0,"LD-18",18,"LED"]
["LD",18.39,0,{"$f":"A81&\"-\"&B81","v":"LD-18,39"},18.39,"LED"]
["LD",19,0,"LD-19",19,"LED"]
["LD",20,0,"LD-20",20,"LED"]
["LD",21,0,"LD-21",21,"LED"]
["LD",22,0,"LD-22",22,"LED"]
["LD",23,0,"LD-23",23,"LED"]
["LD",23.34,0,"LD-23,34",23.34,"LED"]
["LD",24,0,"LD-24",24,"LED"]
["LD",25,0,"LD-25",25,"LED"]
["LD",26,0,"LD-26",26,"LED"]
["LD",27,0,"LD-27",27,"LED"]
["LD",28,0,"LD-28",28,"LED"]
["LD",28.85,0,{"$f":"A93&\"-\"&B93","v":"LD-28,85"},28.85,"LED"]
["LD",29,0,"LD-29",29,"LED"]
["LD",30,0,"LD-30",30,"LED"]
["LD",31,0,"LD-31",31,"LED"]
["LD",32,0,"LD-32",32,"LED"]
["LD",33,0,"LD-33",33,"LED"]
["LD",34,0,"LD-34",34,"LED"]
["LD",35,0,"LD-35",35,"LED"]
["LD",36,0,"LD-36",36,"LED"]
["LD",37,0,"LD-37",37,"LED"]
["LD",38,0,"LD-38",38,"LED"]
["LD",39,0,"LD-39",39,"LED"]
["LD",40,0,"LD-40",40,"LED"]
["LD",41,0,"LD-41",41,"LED"]
["LD",42,0,"LD-42",42,"LED"]
["LD",43,0,"LD-43",43,"LED"]
["LD",44,0,"LD-44",44,"LED"]
["LD",45,0,"LD-45",45,"LED"]
["LD",46,0,"LD-46",46,"LED"]
["LD",47,0,"LD-47",47,"LED"]
["LD",47.5,0,{"$f":"A113&\"-\"&B113","v":"LD-47,5"},47.5,"LED"]
["LD",48,0,"LD-48",48,"LED"]
["LD",49,0,"LD-49",49,"LED"]
["LD",50,0,"LD-50",50,"LED"]
["LD",51,0,"LD-51",51,"LED"]
["LD",51.15,0,{"$f":"A118&\"-\"&B118","v":"LD-51,15"},51.15,"LED"]
["LD",51.34,0,"LD-51,34",51.34,"LED"]
["LD",52,0,"LD-52",52,"LED"]
["LD",53,0,"LD-53",53,"LED"]
["LD",54,0,"LD-54",54,"LED"]
["LD",55,0,"LD-55",55,"LED"]
["LD",56,0,"LD-56",56,"LED"]
["LD",57,0,"LD-57",57,"LED"]
["LD",58,0,"LD-58",58,"LED"]
["LD",59,0,"LD-59",59,"LED"]
["LD",60,0,"LD-60",60,"LED"]
["LD",61,0,"LD-61",61,"LED"]
["LD",62,0,"LD-62",62,"LED"]
["LD",63,0,"LD-63",63,"LED"]
["LD",64,0,"LD-64",64,"LED"]
["LD",65,0,"LD-65",65,"LED"]
["LD",66,0,"LD-66",66,"LED"]
["LD",67,0,"LD-67",67,"LED"]
["LD",68,0,"LD-68",68,"LED"]
["LD",69,0,"LD-69",69,"LED"]
["LD",70,0,"LD-70",70,"LED"]
["LD",71,0,"LD-71",71,"LED"]
["LD",72,0,"LD-72",72,"LED"]
["LD",73,0,"LD-73",73,"LED"]
["LD",74,0,"LD-74",74,"LED"]
["LD",75,0,"LD-75",75,"LED"]
["LD",76,0,"LD-76",76,"LED"]
["LD",77,0,"LD-77",77,"LED"]
["LD",77.34,0,{"$f":"A146&\"-\"&B146","v":"LD-77,34"},77.34,"LED"]
["LD",77.39,0,"LD-77,39",77.39,"LED"]
["LD",78,0,"LD-78",78,"LED"]
["LD",79,0,"LD-79",79,"LED"]
["LD",80,0,"LD-80",80,"LED"]
["LD",81,0,"LD-81",81,"LED"]
["LD",82,0,"LD-82",82,"LED"]
["LD",83,0,"LD-83",83,"LED"]
["LD",84,0,"LD-84",84,"LED"]
["LD",85,0,"LD-85",85,"LED"]
["LD",86,0,"LD-86",86,"LED"]
["LD",87,0,"LD-87",87,"LED"]
["LD",88,0,"LD-88",88,"LED"]
["LD",89,0,"LD-89",89,"LED"]
["LD",90,0,"LD-90",90,"LED"]
["LD",91,0,"LD-91",91,"LED"]
["LD",92,0,"LD-92",92,"LED"]
["LD",93,0,"LD-93",93,"LED"]
["LD",94,0,"LD-94",94,"LED"]
["LD",95,0,"LD-95",95,"LED"]
["LD",96,0,"LD-96",96,"LED"]
["LD",97,0,"LD-97",97,"LED"]
["LD",98,0,"LD-98",98,"LED"]
["LD",99,0,"LD-99",99,"LED"]
["LD",100,0,"LD-100",100,"LED"]
["LD",101,0,"LD-101",101,"LED"]
["LD",102,0,"LD-102",102,"LED"]
["LD",103,0,"LD-103",103,"LED"]
["LD",104,0,"LD-104",104,"LED"]
["LD",105,0,"LD-105",105,"LED"]
["LD",106,0,"LD-106",106,"LED"]
["LD",107,0,"LD-107",107,"LED"]
["LD",108,0,"LD-108",108,"LED"]
["LD",109,0,"LD-109",109,"LED"]
["LD",110,0,"LD-110",110,"LED"]
["LD",111,0,"LD-111",111,"LED"]
["LD",112,0,"LD-112",112,"LED"]
["LD",113,0,"LD-113",113,"LED"]
["LD",114,0,"LD-114",114,"LED"]
["LD",115,0,"LD-115",115,"LED"]
["LD",116,0,"LD-116",116,"LED"]
["LD",117,0,"LD-117",117,"LED"]
["LD",118,0,"LD-118",118,"LED"]
["LD",119,0,"LD-119",119,"LED"]
["LD",120,0,"LD-120",120,"LED"]
["LD",120.2,0,{"$f":"A191&\"-\"&B191","v":"LD-120,2"},120,"LED"]
["LD",121,0,"LD-121",121,"LED"]
["LD",122,0,"LD-122",122,"LED"]
["LD",123,0,"LD-123",123,"LED"]
["LD",124,0,"LD-124",124,"LED"]
["LD",125,0,"LD-125",125,"LED"]
["LD",126,0,"LD-126",126,"LED"]
["LD",127,0,"LD-127",127,"LED"]
["LD",128,0,"LD-128",128,"LED"]
["LD",129,0,"LD-129",129,"LED"]
["LD",130,0,"LD-130",130,"LED"]
["LD",131,0,"LD-131",131,"LED"]
["LD",132,0,"LD-132",132,"LED"]
["LD",133,0,"LD-133",133,"LED"]
["LD",134,0,"LD-134",134,"LED"]
["LD",135,0,"LD-135",135,"LED"]
["LD",136,0,"LD-136",136,"LED"]
["LD",137,0,"LD-137",137,"LED"]
["LD",138,0,"LD-138",138,"LED"]
["LD",139,0,"LD-139",139,"LED"]
["LD",140,0,"LD-140",140,"LED"]
["LD",141,0,"LD-141",141,"LED"]
["LD",142,0,"LD-142",142,"LED"]
["LD",143,0,"LD-143",143,"LED"]
["LD",144,0,"LD-144",144,"LED"]
["LD",145,0,"LD-145",145,"LED"]
["LD",146,0,"LD-146",146,"LED"]
["LD",147,0,"LD-147",147,"LED"]
["LD",148,0,"LD-148",148,"LED"]
["LD",149,0,"LD-149",149,"LED"]
["LD",150,0,"LD-150",150,"LED"]
["LD",151,0,"LD-151",151,"LED"]
["LD",152,0,"LD-152",152,"LED"]
["LD",153,0,"LD-153",153,"LED"]
["LD",154,0,"LD-154",154,"LED"]
["LD",155,0,"LD-155",155,"LED"]
["LD",156,0,"LD-156",156,"LED"]
["LD",157,0,"LD-157",157,"LED"]
["LD",158,0,"LD-158",158,"LED"]
["LD",159,0,"LD-159",159,"LED"]
["LD",160,0,"LD-160",160,"LED"]
["LD",161,0,"LD-161",161,"LED"]
["LD",162,0,"LD-162",162,"LED"]
["LD",163,0,"LD-163",163,"LED"]
["LD",164,0,"LD-164",164,"LED"]
["LD",165,0,"LD-165",165,"LED"]
["LD",166,0,"LD-166",166,"LED"]
["LD",167,0,"LD-167",167,"LED"]
["LD",168,0,"LD-168",168,"LED"]
["LD",169,0,"LD-169",169,"LED"]
["LD",170,0,"LD-170",170,"LED"]
["LD",171,0,"LD-171",171,"LED"]
["LD",172,0,"LD-172",172,"LED"]
["LD",173,0,"LD-173",173,"LED"]
["LD",174,0,"LD-174",174,"LED"]
["LD",175,0,"LD-175",175,"LED"]
["LD",176,0,"LD-176",176,"LED"]
["LD",177,0,"LD-177",177,"LED"]
["LD",178,0,"LD-178",178,"LED"]
["LD",179,0,"LD-179",179,"LED"]
["LD",180,0,"LD-180",180,"LED"]
["LD",181,0,"LD-181",181,"LED"]
["LD",182,0,"LD-182",182,"LED"]
["LD",183,0,"LD-183",183,"LED"]
["LD",184,0,"LD-184",184,"LED"]
["LD",185,0,"LD-185",185,"LED"]
["LD",186,0,"LD-186",186,"LED"]
["LD",187,0,"LD-187",187,"LED"]
["LD",188,0,"LD-188",188,"LED"]
["LD",189,0,"LD-189",189,"LED"]
["LD",190,0,"LD-190",190,"LED"]
["LD",191,0,"LD-191",191,"LED"]
["LD",192,0,"LD-192",192,"LED"]
["LD",193,0,"LD-193",193,"LED"]
["LD",194,0,{"$f":"A265&\"-\"&B265","v":"LD-194"},194,"LED"]
["LD",195,0,"LD-195",195,"LED"]
["LD",196,0,"LD-196",196,"LED"]
["LD",197,0,"LD-197",197,"LED"]
["LD",198,0,"LD-198",198,"LED"]
["LD",199,0,"LD-199",199,"LED"]
["LD",200,0,{"$f":"A271&\"-\"&B271","v":"LD-200"},200,"LED"]
["LD",201,0,"LD-201",201,"LED"]
["LD",202,0,"LD-202",202,"LED"]
["LD",203,0,"LD-203",203,"LED"]
["LD",204,0,"LD-204",204,"LED"]
["LD",205,0,"LD-205",205,"LED"]
["LD",206,0,"LD-206",206,"LED"]
["LD",207,0,"LD-207",207,"LED"]
["LD",208,0,"LD-208",208,"LED"]
["LD",209,0,"LD-209",209,"LED"]
["LD",210,0,"LD-210",210,"LED"]
["LD",211,0,"LD-211",211,"LED"]
["LD",212,0,"LD-212",212,"LED"]
["LD",213,0,"LD-213",213,"LED"]
["LD",214,0,"LD-214",214,"LED"]
["LD",215,0,"LD-215",215,"LED"]
["LD",216,0,"LD-216",216,"LED"]
["LD",217,0,"LD-217",217,"LED"]
["LD",218,0,"LD-218",218,"LED"]
["LD",219,0,"LD-219",219,"LED"]
["LD",220,0,"LD-220",220,"LED"]
["LD",221,0,{"$f":"A292&\"-\"&B292","v":"LD-221"},221,"LED"]
["LD",222,0,"LD-222",222,"LED"]
["LD",223,0,"LD-223",223,"LED"]
["LD",224,0,"LD-224",224,"LED"]
["LD",225,0,"LD-225",225,"LED"]
["LD",226,0,"LD-226",226,"LED"]
["LD",227,0,"LD-227",227,"LED"]
["LD",228,0,"LD-228",228,"LED"]
["LD",229,0,"LD-229",229,"LED"]
["LD",230,0,"LD-230",230,"LED"]
["LD",231,0,"LD-231",231,"LED"]
["LD",232,0,"LD-232",232,"LED"]
["LD",233,0,"LD-233",233,"LED"]
["LD",234,0,{"$f":"A305&\"-\"&B305","v":"LD-234"},234,"LED"]
["LD",235,0,"LD-235",235,"LED"]
["LD",236,0,"LD-236",236,"LED"]
["LD",237,0,"LD-237",237,"LED"]
["LD",238,0,{"$f":"A309&\"-\"&B309","v":"LD-238"},238,"LED"]
["LD",239,0,"LD-239",239,"LED"]
["LD",240,0,{"$f":"A311&\"-\"&B311","v":"LD-240"},240,"LED"]
["LD",241,0,"LD-241",241,"LED"]
["LD",242,0,"LD-242",242,"LED"]
["LD",243,0,"LD-243",243,"LED"]
["LD",244,0,"LD-244",244,"LED"]
["LD",245,0,"LD-245",245,"LED"]
["LD",246,0,{"$f":"A317&\"-\"&B317","v":"LD-246"},246,"LED"]
["LD",247,0,"LD-247",247,"LED"]
["LD",248,0,"LD-248",248,"LED"]
["LD",249,0,"LD-249",249,"LED"]
["LD",250,0,"LD-250",250,"LED"]
["LD",251,0,{"$f":"A322&\"-\"&B322","v":"LD-251"},251,"LED"]
["LD",252,0,"LD-252",252,"LED"]
["LD",253,0,"LD-253",253,"LED"]
["LD",254,0,"LD-254",254,"LED"]
["LD",255,0,"LD-255",255,"LED"]
["LD",256,0,"LD-256",256,"LED"]
["LD",257,0,"LD-257",257,"LED"]
["LD",258,0,{"$f":"A329&\"-\"&B329","v":"LD-258"},258,"LED"]
["LD",259,0,"LD-259",259,"LED"]
["LD",260,0,"LD-260",260,"LED"]
["LD",261,0,"LD-261",261,"LED"]
["LD",262,0,"LD-262",262,"LED"]
["LD",263,0,"LD-263",263,"LED"]
["LD",264,0,"LD-264",264,"LED"]
["LD",265,0,"LD-265",265,"LED"]
["LD",266,0,"LD-266",266,"LED"]
["LD",267,0,"LD-267",267,"LED"]
["LD",268,0,"LD-268",268,"LED"]
["LD",269,0,"LD-269",269,"LED"]
["LD",270,0,"LD-270",270,"LED"]
["LD",271,0,"LD-271",271,"LED"]
["LD",272,0,"LD-272",272,"LED"]
["LD",273,0,"LD-273",273,"LED"]
["LD",274,0,"LD-274",274,"LED"]
["LD",275,0,"LD-275",275,"LED"]
["LD",276,0,"LD-276",276,"LED"]
["LD",277,0,"LD-277",277,"LED"]
["LD",278,0,"LD-278",278,"LED"]
["LD",279,0,"LD-279",279,"LED"]
["LD",280,0,"LD-280",280,"LED"]
["LD",281,0,"LD-281",281,"LED"]
["LD",282,0,"LD-282",282,"LED"]
["LD",283,0,"LD-283",283,"LED"]
["LD",284,0,"LD-284",284,"LED"]
["LD",285,0,"LD-285",285,"LED"]
["LD",286,0,"LD-286",286,"LED"]
["LD",287,0,"LD-287",287,"LED"]
["LD",288,0,"LD-288",288,"LED"]
["LD",289,0,"LD-289",289,"LED"]
["LD",290,0,"LD-290",290,"LED"]
["LD",291,0,"LD-291",291,"LED"]
["LD",292,0,"LD-292",292,"LED"]
["LD",293,0,"LD-293",293,"LED"]
["LD",294,0,"LD-294",294,"LED"]
["LD",295,0,"LD-295",295,"LED"]
["LD",296,0,"LD-296",296,"LED"]
["LD",297,0,"LD-297",297,"LED"]
["LD",298,0,"LD-298",298,"LED"]
["LD",299,0,"LD-299",299,"LED"]
["LD",300,0,"LD-300",300,"LED"]
["LD",301,0,"LD-301",301,"LED"]
["LD",302,0,"LD-302",302,"LED"]
["LD",303,0,"LD-303",303,"LED"]
["LD",304,0,"LD-304",304,"LED"]
["LD",305,0,"LD-305",305,"LED"]
["LD",306,0,"LD-306",306,"LED"]
["LD",307,0,"LD-307",307,"LED"]
["LD",308,0,{"$f":"A379&\"-\"&B379","v":"LD-308"},308,"LED"]
["LD",309,0,"LD-309",309,"LED"]
["LD",310,0,"LD-310",310,"LED"]
["LD",311,0,"LD-311",311,"LED"]
["LD",312,0,"LD-312",312,"LED"]
["LD",313,0,"LD-313",313,"LED"]
["LD",314,0,"LD-314",314,"LED"]
["LD",315,0,"LD-315",315,"LED"]
["LD",316,0,"LD-316",316,"LED"]
["LD",317,0,"LD-317",317,"LED"]
["LD",318,0,"LD-318",318,"LED"]
["LD",319,0,"LD-319",319,"LED"]
["LD",320,0,"LD-320",320,"LED"]
["LD",321,0,"LD-321",321,"LED"]
["LD",322,0,"LD-322",322,"LED"]
["LD",323,0,"LD-323",323,"LED"]
["LD",324,0,"LD-324",324,"LED"]
["LD",325,0,"LD-325",325,"LED"]
["LD",326,0,"LD-326",326,"LED"]
["LD",327,0,"LD-327",327,"LED"]
["LD",328,0,"LD-328",328,"LED"]
["LD",329,0,"LD-329",329,"LED"]
["LD",330,0,"LD-330",330,"LED"]
["LD",331,0,"LD-331",331,"LED"]
["LD",332,0,"LD-332",332,"LED"]
["LD",333,0,"LD-333",333,"LED"]
["LD",334,0,"LD-334",334,"LED"]
["LD",335,0,"LD-335",335,"LED"]
["LD",336,0,"LD-336",336,"LED"]
["LD",337,0,"LD-337",337,"LED"]
["LD",338,0,"LD-338",338,"LED"]
["LD",339,0,"LD-339",339,"LED"]
["LD",340,0,"LD-340",340,"LED"]
["LD",341,0,"LD-341",341,"LED"]
["LD",342,0,"LD-342",342,"LED"]
["LD",343,0,"LD-343",343,"LED"]
["LD",344,0,"LD-344",344,"LED"]
["LD",345,0,"LD-345",345,"LED"]
["LD",346,0,"LD-346",346,"LED"]
["LD",347,0,"LD-347",347,"LED"]
["LD",348,0,"LD-348",348,"LED"]
["LD",349,0,"LD-349",349,"LED"]
["LD",350,0,"LD-350",350,"LED"]
["LD",351,0,"LD-351",351,"LED"]
["LD",352,0,"LD-352",352,"LED"]
["LD",353,0,"LD-353",353,"LED"]
["LD",354,0,"LD-354",354,"LED"]
["LD",355,0,"LD-355",355,"LED"]
["LD",356,0,"LD-356",356,"LED"]
["LD",357,0,"LD-357",357,"LED"]
["LD",358,0,"LD-358",358,"LED"]
["LD",359,0,"LD-359",359,"LED"]
["LD",360,0,"LD-360",360,"LED"]
["LD",361,0,"LD-361",361,"LED"]
["LD",362,0,"LD-362",362,"LED"]
["LD",363,0,"LD-363",363,"LED"]
["LD",364,0,"LD-364",364,"LED"]
["LD",365,0,"LD-365",365,"LED"]
["LD",366,0,"LD-366",366,"LED"]
["LD",367,0,"LD-367",367,"LED"]
["LD",368,0,"LD-368",368,"LED"]
["LD",369,0,"LD-369",369,"LED"]
["LD",370,0,"LD-370",370,"LED"]
["LD",371,0,"LD-371",371,"LED"]
["LD",372,0,{"$f":"A443&\"-\"&B443","v":"LD-372"},372,"LED"]
["LD",373,0,"LD-373",373,"LED"]
["LD",374,0,"LD-374",374,"LED"]
["LD",375,0,"LD-375",375,"LED"]
["LD",376,0,"LD-376",376,"LED"]
["LD",377,0,"LD-377",377,"LED"]
["LD",378,0,"LD-378",378,"LED"]
["LD",379,0,"LD-379",379,"LED"]
["LD",380,0,"LD-380",380,"LED"]
["LD",381,0,"LD-381",381,"LED"]
["LD",382,0,"LD-382",382,"LED"]
["LD",383,0,"LD-383",383,"LED"]
["LD",384,0,"LD-384",384,"LED"]
["LD",385,0,"LD-385",385,"LED"]
["LD",386,0,"LD-386",386,"LED"]
["LD",387,0,"LD-387",387,"LED"]
["LD",388,0,"LD-388",388,"LED"]
["LD",389,0,"LD-389",389,"LED"]
["LD",390,0,"LD-390",390,"LED"]
["LD",391,0,"LD-391",391,"LED"]
["LD",392,0,"LD-392",392,"LED"]
["LD",393,0,"LD-393",393,"LED"]
["LD",394,0,"LD-394",394,"LED"]
["LD",395,0,"LD-395",395,"LED"]
["LD",396,0,"LD-396",396,"LED"]
["LD",397,0,"LD-397",397,"LED"]
["LD",398,0,"LD-398",398,"LED"]
["LD",399,0,"LD-399",399,"LED"]
["LD",400,0,"LD-400",400,"LED"]
["LD",401,0,"LD-401",401,"LED"]
["LD",402,0,"LD-402",402,"LED"]
["LD",403,0,"LD-403",403,"LED"]
["LD",404,0,"LD-404",404,"LED"]
["LD",405,0,"LD-405",405,"LED"]
["LD",406,0,"LD-406",406,"LED"]
["LD",407,0,"LD-407",407,"LED"]
["LD",408,0,"LD-408",408,"LED"]
["LD",409,0,"LD-409",409,"LED"]
["LD",410,0,"LD-410",410,"LED"]
["LD",411,0,"LD-411",411,"LED"]
["LD",412,0,"LD-412",412,"LED"]
["LD",413,0,"LD-413",413,"LED"]
["LD",414,0,"LD-414",414,"LED"]
["LD",415,0,"LD-415",415,"LED"]
["LD",416,0,"LD-416",416,"LED"]
["LD",417,0,"LD-417",417,"LED"]
["LD",418,0,"LD-418",418,"LED"]
["LD",419,0,"LD-419",419,"LED"]
["LD",420,0,"LD-420",420,"LED"]
["LD",421,0,"LD-421",421,"LED"]
["LD",422,0,"LD-422",422,"LED"]
["LD",423,0,"LD-423",423,"LED"]
["LD",424,0,"LD-424",424,"LED"]
["LD",425,0,"LD-425",425,"LED"]
["LD",426,0,"LD-426",426,"LED"]
["LD",427,0,"LD-427",427,"LED"]
["LD",428,0,"LD-428",428,"LED"]
["LD",429,0,"LD-429",429,"LED"]
["LD",430,0,"LD-430",430,"LED"]
["LD",431,0,"LD-431",431,"LED"]
["LD",432,0,"LD-432",432,"LED"]
["LD",433,0,"LD-433",433,"LED"]
["LD",434,0,"LD-434",434,"LED"]
["LD",435,0,"LD-435",435,"LED"]
["LD",436,0,{"$f":"A507&\"-\"&B507","v":"LD-436"},436,"LED"]
["LD",437,0,"LD-437",437,"LED"]
["LD",438,0,"LD-438",438,"LED"]
["LD",439,0,"LD-439",439,"LED"]
["LD",440,0,"LD-440",440,"LED"]
["LD",441,0,"LD-441",441,"LED"]
["LD",442,0,"LD-442",442,"LED"]
["LD",443,0,"LD-443",443,"LED"]
["LD",444,0,"LD-444",444,"LED"]
["LD",445,0,"LD-445",445,"LED"]
["LD",446,0,"LD-446",446,"LED"]
["LD",447,0,"LD-447",447,"LED"]
["LD",448,0,"LD-448",448,"LED"]
["LD",449,0,"LD-449",449,"LED"]
["LD",450,0,"LD-450",450,"LED"]
["LD",451,0,"LD-451",451,"LED"]
["LD",452,0,"LD-452",452,"LED"]
["LD",453,0,"LD-453",453,"LED"]
["LD",454,0,"LD-454",454,"LED"]
["LD",455,0,"LD-455",455,"LED"]
["LD",456,0,"LD-456",456,"LED"]
["LD",457,0,"LD-457",457,"LED"]
["LD",458,0,"LD-458",458,"LED"]
["LD",459,0,"LD-459",459,"LED"]
["LD",460,0,"LD-460",460,"LED"]
["LD",461,0,"LD-461",461,"LED"]
["LD",462,0,"LD-462",462,"LED"]
["LD",463,0,"LD-463",463,"LED"]
["LD",464,0,"LD-464",464,"LED"]
["LD",465,0,"LD-465",465,"LED"]
["LD",466,0,"LD-466",466,"LED"]
["LD",467,0,"LD-467",467,"LED"]
["LD",468,0,"LD-468",468,"LED"]
["LD",469,0,"LD-469",469,"LED"]
["LD",470,0,"LD-470",470,"LED"]
["LD",471,0,"LD-471",471,"LED"]
["LD",472,0,"LD-472",472,"LED"]
["LD",473,0,"LD-473",473,"LED"]
["LD",474,0,"LD-474",474,"LED"]
["LD",475,0,"LD-475",475,"LED"]
["LD",476,0,"LD-476",476,"LED"]
["LD",477,0,"LD-477",477,"LED"]
["LD",478,0,"LD-478",478,"LED"]
["LD",479,0,"LD-479",479,"LED"]
["LD",480,0,"LD-480",480,"LED"]
["LD",481,0,"LD-481",481,"LED"]
["LD",482,0,"LD-482",482,"LED"]
["LD",483,0,"LD-483",483,"LED"]
["LD",484,0,"LD-484",484,"LED"]
["LD",485,0,"LD-485",485,"LED"]
["LD",486,0,"LD-486",486,"LED"]
["LD",487,0,"LD-487",487,"LED"]
["LD",488,0,"LD-488",488,"LED"]
["LD",489,0,"LD-489",489,"LED"]
["LD",490,0,"LD-490",490,"LED"]
["LD",491,0,"LD-491",491,"LED"]
["LD",492,0,"LD-492",492,"LED"]
["LD",493,0,"LD-493",493,"LED"]
["LD",494,0,"LD-494",494,"LED"]
["LD",495,0,"LD-495",495,"LED"]
["LD",496,0,"LD-496",496,"LED"]
["LD",497,0,"LD-497",497,"LED"]
["LD",498,0,"LD-498",498,"LED"]
["LD",499,0,"LD-499",499,"LED"]
["LD",500,0,{"$f":"A571&\"-\"&B571","v":"LD-500"},500,"LED"]
["LD",501,0,"LD-501",501,"LED"]
["LD",502,0,"LD-502",502,"LED"]
["LD",503,0,"LD-503",503,"LED"]
["LD",504,0,"LD-504",504,"LED"]
["LD",505,0,"LD-505",505,"LED"]
["LD",506,0,"LD-506",506,"LED"]
["LD",507,0,"LD-507",507,"LED"]
["LD",508,0,"LD-508",508,"LED"]
["LD",509,0,"LD-509",509,"LED"]
["LD",510,0,"LD-510",510,"LED"]
["LD",511,0,"LD-511",511,"LED"]
["LD",512,0,"LD-512",512,"LED"]
["LD",513,0,"LD-513",513,"LED"]
["LD",514,0,"LD-514",514,"LED"]
["LD",515,0,"LD-515",515,"LED"]
["LD",516,0,"LD-516",516,"LED"]
["LD",517,0,"LD-517",517,"LED"]
["LD",518,0,"LD-518",518,"LED"]
["LD",550,0,"LD-550",550,"LED"]
["LD",600,0,"LD-600",600,"LED"]
["LD",650,0,"LD-650",650,"LED"]
["LD",700,0,"LD-700",700,"LED"]
["LD",750,0,"LD-750",750,"LED"]
["LD",800,0,"LD-800",800,"LED"]
["LD",850,0,"LD-850",850,"LED"]
["LD",900,0,"LD-900",900,"LED"]
["LD",1000,0,"LD-1000",1000,"LED"]
["LD",2000,0,"LD-2000",2000,"LED"]
["ME",15,5,{"$f":"A600&\"-\"&B600","v":"ME-15"},20,"VAPOR METALICO"]
["ME",20,8,"ME-20",28,"VAPOR METALICO"]
["ME",25,8,"ME-25",33,"VAPOR METALICO"]
["ME",30,10,"ME-30",40,"VAPOR METALICO"]
["ME",32,10,"ME-32",42,"VAPOR METALICO"]
["ME",45,10,"ME-45",55,"VAPOR METALICO"]
["ME",60,15,"ME-60",75,"VAPOR METALICO"]
["ME",70,15,"ME-70",85,"VAPOR METALICO"]
["ME",80,15,"ME-80",95,"VAPOR METALICO"]
["ME",84,15,"ME-84",99,"VAPOR METALICO"]
["ME",100,20,"ME-100",120,"VAPOR METALICO"]
["ME",125,20,"ME-125",145,"VAPOR METALICO"]
["ME",150,23,"ME-150",173,"VAPOR METALICO"]
["ME",160,23,"ME-160",183,"VAPOR METALICO"]
["ME",172,23,"ME-172",195,"VAPOR METALICO"]
["ME",173,23,"ME-173",196,"VAPOR METALICO"]
["ME",180,23,"ME-180",203,"VAPOR METALICO"]
["ME",250,23,"ME-250",273,"VAPOR METALICO"]
["ME",273,23,"ME-273",296,"VAPOR METALICO"]
["ME",280,23,"ME-280",303,"VAPOR METALICO"]
["ME",400,29,"ME-400",429,"VAPOR METALICO"]
["ME",429,29,"ME-429",458,"VAPOR METALICO"]
["ME",438,29,"ME-438",467,"VAPOR METALICO"]
["ME",440,29,"ME-440",469,"VAPOR METALICO"]
["ME",500,30,"ME-500",530,"VAPOR METALICO"]
["ME",700,35,"ME-700",735,"VAPOR METALICO"]
["ME",1000,50,"ME-1000",1050,"VAPOR METALICO"]
["ME",1050,50,"ME-1050",1100,"VAPOR METALICO"]
["ME",2000,100,"ME-2000",2100,"VAPOR METALICO"]
["MS",160,0,"MS-160",160,"MISTA"]
["MS",250,0,"MS-250",250,"MISTA"]
["MS",500,0,"MS-500",500,"MISTA"]
["MS",70,0,"MS-70",70,"MISTA"]
["MS",80,0,"MS-80",80,"MISTA"]
["MS",125,0,"MS-125",125,"MISTA"]
["MS",150,0,"MS-150",150,"MISTA"]
["MS",160,0,"MS-160",160,"MISTA"]
["MS",250,0,"MS-250",250,"MISTA"]
["MS",305,0,"MS-305",305,"MISTA"]
["MS",400,0,"MS-400",400,"MISTA"]
["MS",500,0,"MS-500",500,"MISTA"]
["MS",1000,0,"MS-1000",1000,"MISTA"]
["MV",30,10,"MV-30",40,"MULTI VAPOR METALICO"]
["MV",36,10,"MV-36",46,"MULTI VAPOR METALICO"]
["MV",40,10,"MV-40",50,"MULTI VAPOR METALICO"]
["MV",70,15,"MV-70",85,"MULTI VAPOR METALICO"]
["MV",80,20,"MV-80",100,"MULTI VAPOR METALICO"]
["MV",100,20,"MV-100",120,"MULTI VAPOR METALICO"]
["MV",125,20,"MV-125",145,"MULTI VAPOR METALICO"]
["MV",150,23,"MV-150",173,"MULTI VAPOR METALICO"]
["MV",175,23,"MV-175",198,"MULTI VAPOR METALICO"]
["MV",250,23,"MV-250",273,"MULTI VAPOR METALICO"]
["MV",400,29,"MV-400",429,"MULTI VAPOR METALICO"]
["MV",500,30,"MV-500",530,"MULTI VAPOR METALICO"]
["MV",1000,50,"MV-1000",1050,"MULTI VAPOR METALICO"]
["PL",9,0,"PL-9",9,"FLUORESCENTE COMPACTA"]
["PL",11,0,"PL-11",11,"FLUORESCENTE COMPACTA"]
["PL",15,0,"PL-15",15,"FLUORESCENTE COMPACTA"]
["PL",18,0,"PL-18",18,"FLUORESCENTE COMPACTA"]
["PL",20,0,"PL-20",20,"FLUORESCENTE COMPACTA"]
["PL",21,0,"PL-21",21,"FLUORESCENTE COMPACTA"]
["PL",23,0,"PL-23",23,"FLUORESCENTE COMPACTA"]
["PL",24,0,"PL-24",24,"FLUORESCENTE COMPACTA"]
["PL",25,0,"PL-25",25,"FLUORESCENTE COMPACTA"]
["PL",27,0,{"$f":"A664&\"-\"&B664","v":"PL-27"},27,"FLUORESCENTE COMPACTA"]
["PL",30,0,"PL-30",30,"FLUORESCENTE COMPACTA"]
["PL",32,0,"PL-32",32,"FLUORESCENTE COMPACTA"]
["PL",33,0,"PL-33",33,"FLUORESCENTE COMPACTA"]
["PL",34,0,"PL-34",34,"FLUORESCENTE COMPACTA"]
["PL",35,0,"PL-35",35,"FLUORESCENTE COMPACTA"]
["PL",36,0,"PL-36",36,"FLUORESCENTE COMPACTA"]
["PL",40,0,"PL-40",40,"FLUORESCENTE COMPACTA"]
["PL",42,0,"PL-42",42,"FLUORESCENTE COMPACTA"]
["PL",45,0,"PL-45",45,"FLUORESCENTE COMPACTA"]
["PL",46,0,"PL-46",46,"FLUORESCENTE COMPACTA"]
["PL",50,0,"PL-50",50,"FLUORESCENTE COMPACTA"]
["PL",55,0,"PL-55",55,"FLUORESCENTE COMPACTA"]
["PL",56,0,"PL-56",56,"FLUORESCENTE COMPACTA"]
["PL",60,0,"PL-60",60,"FLUORESCENTE COMPACTA"]
["PL",65,0,"PL-65",65,"FLUORESCENTE COMPACTA"]
["PL",70,0,"PL-70",70,"FLUORESCENTE COMPACTA"]
["PL",80,0,"PL-80",80,"FLUORESCENTE COMPACTA"]
["PL",85,0,"PL-85",85,"FLUORESCENTE COMPACTA"]
["PL",86,0,"PL-86",86,"FLUORESCENTE COMPACTA"]
["PL",125,0,"PL-125",125,"FLUORESCENTE COMPACTA"]
["PL",135,0,"PL-135",135,"FLUORESCENTE COMPACTA"]
["PL",250,0,"PL-250",250,"FLUORESCENTE COMPACTA"]
["VM",40,5,"VM-40",45,"VAPOR DE MERCURIO"]
["VM",45,5,"VM-45",50,"VAPOR DE MERCURIO"]
["VM",70,10,"VM-70",80,"VAPOR DE MERCURIO"]
["VM",75,10,"VM-75",85,"VAPOR DE MERCURIO"]
["VM",80,11,"VM-80",91,"VAPOR DE MERCURIO"]
["VM",91,11,"VM-91",102,"VAPOR DE MERCURIO"]
["VM",100,11,"VM-100",111,"VAPOR DE MERCURIO"]
["VM",125,15,"VM-125",140,"VAPOR DE MERCURIO"]
["VM",140,20,"VM-140",160,"VAPOR DE MERCURIO"]
["VM",150,20,"VM-150",170,"VAPOR DE MERCURIO"]
["VM",160,20,"VM-160",180,"VAPOR DE MERCURIO"]
["VM",174,22,"VM-174",196,"VAPOR DE MERCURIO"]
["VM",250,28,"VM-250",278,"VAPOR DE MERCURIO"]
["VM",278,28,"VM-278",306,"VAPOR DE MERCURIO"]
["VM",400,40,"VM-400",440,"VAPOR DE MERCURIO"]
["VM",440,40,"VM-440",480,"VAPOR DE MERCURIO"]
["VM",700,53,"VM-700",753,"VAPOR DE MERCURIO"]
["VM",1000,75,"VM-1000",1075,"VAPOR DE MERCURIO"]
["VM",1075,75,"VM-1075",1150,"VAPOR DE MERCURIO"]
["VM",2000,105,"VM-2000",2105,"VAPOR DE MERCURIO"]
["VM",3000,150,"VM-3000",3150,"VAPOR DE MERCURIO"]
["VM",4000,200,"VM-4000",4200,"VAPOR DE MERCURIO"]
["VM",5000,250,"VM-5000",5250,"VAPOR DE MERCURIO"]
["VM",6000,300,"VM-6000",6300,"VAPOR DE MERCURIO"]
["VM",7000,350,"VM-7000",7350,"VAPOR DE MERCURIO"]
["VM",8000,400,"VM-8000",8400,"VAPOR DE MERCURIO"]
["VM",9000,450,"VM-9000",9450,"VAPOR DE MERCURIO"]
["VM",10000,500,"VM-10000",10500,"VAPOR DE MERCURIO"]
["VM",15000,750,"VM-15000",15750,"VAPOR DE MERCURIO"]
["VM",20000,1000,"VM-20000",21000,"VAPOR DE MERCURIO"]
["VM",30000,1500,"VM-30000",31500,"VAPOR DE MERCURIO"]
["VM",40000,2000,"VM-40000",42000,"VAPOR DE MERCURIO"]
["VM",60000,3000,"VM-60000",63000,"VAPOR DE MERCURIO"]
["VM",70000,3500,"VM-70000",73500,"VAPOR DE MERCURIO"]
["VM",90000,4500,"VM-90000",94500,"VAPOR DE MERCURIO"]
["VS",15,5,"VS-15",20,"VAPOR DE SODIO"]
["VS",20,8,"VS-20",28,"VAPOR DE SODIO"]
["VS",30,10,"VS-30",40,"VAPOR DE SODIO"]
["VS",32,10,"VS-32",42,"VAPOR DE SODIO"]
["VS",40,12,"VS-40",52,"VAPOR DE SODIO"]
["VS",45,12,"VS-45",57,"VAPOR DE SODIO"]
["VS",50,12,{"$f":"A728&\"-\"&B728","v":"VS-50"},62,"VAPOR DE SODIO"]
["VS",70,14,"VS-70",84,"VAPOR DE SODIO"]
["VS",75,14,"VS-75",89,"VAPOR DE SODIO"]
["VS",80,15,"VS-80",95,"VAPOR DE SODIO"]
["VS",84,15,"VS-84",99,"VAPOR DE SODIO"]
["VS",100,17,"VS-100",117,"VAPOR DE SODIO"]
["VS",117,17,"VS-117",134,"VAPOR DE SODIO"]
["VS",125,20,"VS-125",145,"VAPOR DE SODIO"]
["VS",150,22,"VS-150",172,"VAPOR DE SODIO"]
["VS",160,25,"VS-160",185,"VAPOR DE SODIO"]
["VS",172,25,"VS-172",197,"VAPOR DE SODIO"]
["VS",200,28,"VS-200",228,"VAPOR DE SODIO"]
["VS",205,28,"VS-205",233,"VAPOR DE SODIO"]
["VS",220,30,"VS-220",250,"VAPOR DE SODIO"]
["VS",250,30,"VS-250",280,"VAPOR DE SODIO"]
["VS",280,30,"VS-280",310,"VAPOR DE SODIO"]
["VS",350,35,"VS-350",385,"VAPOR DE SODIO"]
["VS",360,40,"VS-360",400,"VAPOR DE SODIO"]
["VS",400,38,"VS-400",438,"VAPOR DE SODIO"]
["VS",438,38,"VS-438",476,"VAPOR DE SODIO"]
["VS",500,48,"VS-500",548,"VAPOR DE SODIO"]
["VS",700,78,"VS-700",778,"VAPOR DE SODIO"]
["VS",1000,90,"VS-1000",1090,"VAPOR DE SODIO"]

{"sheet":"Relatorio","index":3,"n_rows":283330,"n_cols":2,"rows_kept":4500,"cut":true,"hidden":true,"merged":[],"bounds":{"rows_first":2000,"rows_last":500,"rows_between":2000,"halvings":0}}
["Placa","MUNICÍPIO"]
["A10599","ALCOBACA"]
["A58336","ALCOBACA"]
["A58335","ALCOBACA"]
["A28276","ALCOBACA"]
["A28277","ALCOBACA"]
["A28274","ALCOBACA"]
["A06562","ALCOBACA"]
["A28275","ALCOBACA"]
["A28273","ALCOBACA"]
["A05051","ALCOBACA"]
["A05638","ALCOBACA"]
["A57159","ALCOBACA"]
["A57157","ALCOBACA"]
["A58342","ALCOBACA"]
["A58346","ALCOBACA"]
["A05892","ALCOBACA"]
["A05897","ALCOBACA"]
["A05834","ALCOBACA"]
["A05784","ALCOBACA"]
["A21734","ALCOBACA"]
["A21752","ALCOBACA"]
["A56825","ALCOBACA"]
["A05717","TEIXEIRA DE FREITAS"]
["Y03267","TEIXEIRA DE FREITAS"]
["A05726","ALCOBACA"]
["A05720","ALCOBACA"]
["T32881","ANGICAL"]
["T33212","COTEGIPE"]
["T33211","COTEGIPE"]
["T33210","COTEGIPE"]
["T33208","COTEGIPE"]
["T33207","COTEGIPE"]
["T33204","COTEGIPE"]
["T34886","CRISTOPOLIS"]
["T34887","CRISTOPOLIS"]
["T34888","CRISTOPOLIS"]
["T34890","CRISTOPOLIS"]
["T34900","CRISTOPOLIS"]
["T34899","CRISTOPOLIS"]
["T34898","CRISTOPOLIS"]
["T34897","CRISTOPOLIS"]
["T34896","CRISTOPOLIS"]
["T34894","CRISTOPOLIS"]
["T34893","CRISTOPOLIS"]
["T33205","COTEGIPE"]
["T34891","CRISTOPOLIS"]
["T34892","CRISTOPOLIS"]
["T35002","CRISTOPOLIS"]
["K40002","ANGICAL"]
["K02252","ANGICAL"]
["T13658","TABOCAS DO BREJO VELHO"]
["T13657","TABOCAS DO BREJO VELHO"]
["K30047","WANDERLEY"]
["K13771","WANDERLEY"]
["K13805","WANDERLEY"]
["K07499","BAIANOPOLIS"]
["T35475","TABOCAS DO BREJO VELHO"]
["T35476","TABOCAS DO BREJO VELHO"]
["T34747","WANDERLEY"]
["T34748","WANDERLEY"]
["T34750","WANDERLEY"]
["T34754","WANDERLEY"]
["T34755","WANDERLEY"]
["T34756","WANDERLEY"]
["T34752","WANDERLEY"]
["T35536","COTEGIPE"]
["T35532","COTEGIPE"]
["T35534","COTEGIPE"]
["F01116","SALVADOR"]
["F25499","SALVADOR"]
["F25500","SALVADOR"]
["F25506","SALVADOR"]
["F20603","SALVADOR"]
["F22986","SALVADOR"]
["F06095","SALVADOR"]
["F03423","SALVADOR"]
["F20312","SALVADOR"]
["F03422","SALVADOR"]
["F25173","SALVADOR"]
["F27450","SALVADOR"]
["F23432","SALVADOR"]
["F25697","SALVADOR"]
["F25693","SALVADOR"]
["F25692","SALVADOR"]
["F07621","SALVADOR"]
["F25691","SALVADOR"]
["F32877","SALVADOR"]
["F36151","SALVADOR"]
["F36420","SALVADOR"]
["F16042","SALVADOR"]
["F18600","SALVADOR"]
["900691","SALVADOR"]
["F18999","SALVADOR"]
["F09790","SALVADOR"]
["F09613","SALVADOR"]
["F24497","SALVADOR"]
["F22089","SALVADOR"]
["F28026","SALVADOR"]
["F20827","SALVADOR"]
["F18186","SALVADOR"]
["903527","SALVADOR"]
["F09795","SALVADOR"]
["F02406","SALVADOR"]
["F18165","SALVADOR"]
["F02409","SALVADOR"]
["F02399","SALVADOR"]
["H05168","SAO GONCALO DOS CAMPOS"]
["H04999","SAO GONCALO DOS CAMPOS"]
["H04789","SAO GONCALO DOS CAMPOS"]
["H04788","SAO GONCALO DOS CAMPOS"]
["H04793","SAO GONCALO DOS CAMPOS"]
["H04794","SAO GONCALO DOS CAMPOS"]
["H04796","SAO GONCALO DOS CAMPOS"]
["H04798","SAO GONCALO DOS CAMPOS"]
["H04799","SAO GONCALO DOS CAMPOS"]
["H05167","SAO GONCALO DOS CAMPOS"]
["H05171","SAO GONCALO DOS CAMPOS"]
["H05170","SAO GONCALO DOS CAMPOS"]
["H05551","SAO GONCALO DOS CAMPOS"]
["H05553","SAO GONCALO DOS CAMPOS"]
["H05822","SAO GONCALO DOS CAMPOS"]
["H05827","SAO GONCALO DOS CAMPOS"]
["H05828","SAO GONCALO DOS CAMPOS"]
["H05829","SAO GONCALO DOS CAMPOS"]
["H05867","SAO GONCALO DOS CAMPOS"]
["H05866","SAO GONCALO DOS CAMPOS"]
["H05833","SAO GONCALO DOS CAMPOS"]
["H05834","SAO GONCALO DOS CAMPOS"]
["H05585","SAO GONCALO DOS CAMPOS"]
["H05584","SAO GONCALO DOS CAMPOS"]
["H05838","SAO GONCALO DOS CAMPOS"]
["H05840","SAO GONCALO DOS CAMPOS"]
["H05841","SAO GONCALO DOS CAMPOS"]
["H05824","SAO GONCALO DOS CAMPOS"]
["H05825","SAO GONCALO DOS CAMPOS"]
["H05103","SAO GONCALO DOS CAMPOS"]
["H05101","SAO GONCALO DOS CAMPOS"]
["H04787","SAO GONCALO DOS CAMPOS"]
["H05165","SAO GONCALO DOS CAMPOS"]
["H05173","SAO GONCALO DOS CAMPOS"]
["H05188","SAO GONCALO DOS CAMPOS"]
["H05857","SAO GONCALO DOS CAMPOS"]
["H05858","SAO GONCALO DOS CAMPOS"]
["H05859","SAO GONCALO DOS CAMPOS"]
["H04797","SAO GONCALO DOS CAMPOS"]
["H05102","SAO GONCALO DOS CAMPOS"]
["H04990","SAO GONCALO DOS CAMPOS"]
["H04991","SAO GONCALO DOS CAMPOS"]
["H04984","SAO GONCALO DOS CAMPOS"]
["H04985","SAO GONCALO DOS CAMPOS"]
["H04987","SAO GONCALO DOS CAMPOS"]
["A58344","ALCOBACA"]
["A58337","ALCOBACA"]
["A56827","ALCOBACA"]
["A05734","ALCOBACA"]
["A05055","ALCOBACA"]
["A05586","ALCOBACA"]
["A58320","ALCOBACA"]
["A58324","ALCOBACA"]
["A58327","ALCOBACA"]
["A58321","ALCOBACA"]
["A05625","ALCOBACA"]
["A56832","ALCOBACA"]
["A05396","ALCOBACA"]
["A05439","ALCOBACA"]
["A10567","ALCOBACA"]
["A21769","ALCOBACA"]
["A21772","ALCOBACA"]
["A21774","ALCOBACA"]
["A21779","ALCOBACA"]
["A21777","ALCOBACA"]
["A56803","ALCOBACA"]
["A75152","ALCOBACA"]
["A57165","ALCOBACA"]
["A21799","ALCOBACA"]
["A21738","ALCOBACA"]
["A21739","ALCOBACA"]
["A21741","ALCOBACA"]
["A21742","ALCOBACA"]
["A05242","ALCOBACA"]
["A05203","ALCOBACA"]
["A05048","ALCOBACA"]
["A05531","ALCOBACA"]
["A05030","ALCOBACA"]
["A05049","ALCOBACA"]
["A75174","ALCOBACA"]
["A58334","ALCOBACA"]
["A58331","ALCOBACA"]
["A75168","ALCOBACA"]
["A56808","ALCOBACA"]
["A21768","ALCOBACA"]
["A56846","ALCOBACA"]
["A05626","ALCOBACA"]
["A56834","ALCOBACA"]
["A56841","ALCOBACA"]
["A56847","ALCOBACA"]
["A21797","ALCOBACA"]
["A75156","ALCOBACA"]
["A56810","ALCOBACA"]
["A57154","ALCOBACA"]
["A57155","ALCOBACA"]
["A57152","ALCOBACA"]
["A21763","ALCOBACA"]
["A21761","ALCOBACA"]
["A21758","ALCOBACA"]
["A21755","ALCOBACA"]
["A56838","ALCOBACA"]
["A21726","ALCOBACA"]
["A21729","ALCOBACA"]
["A21731","ALCOBACA"]
["A21732","ALCOBACA"]
["A58400","ALCOBACA"]
["A21753","ALCOBACA"]
["A56816","ALCOBACA"]
["T35539","COTEGIPE"]
["T35542","COTEGIPE"]
["T37398","ANGICAL"]
["T35530","COTEGIPE"]
["T35531","COTEGIPE"]
["T35533","COTEGIPE"]
["T34711","WANDERLEY"]
["T34712","WANDERLEY"]
["T34714","WANDERLEY"]
["T34715","WANDERLEY"]
["T34716","WANDERLEY"]
["T34718","WANDERLEY"]
["T34723","WANDERLEY"]
["T34724","WANDERLEY"]
["T34720","WANDERLEY"]
["T34725","WANDERLEY"]
["T34728","WANDERLEY"]
["T34729","WANDERLEY"]
["T34731","WANDERLEY"]
["T34732","WANDERLEY"]
["T34733","WANDERLEY"]
["T34736","WANDERLEY"]
["T34737","WANDERLEY"]
["T34734","WANDERLEY"]
["T34744","WANDERLEY"]
["T34743","WANDERLEY"]
["T34742","WANDERLEY"]
["T34739","WANDERLEY"]
["T34738","WANDERLEY"]
["T36145","CRISTOPOLIS"]
["T33288","CRISTOPOLIS"]
["T27801","BAIANOPOLIS"]
["T34571","BAIANOPOLIS"]
["T36824","BAIANOPOLIS"]
["T36828","BAIANOPOLIS"]
["T36827","BAIANOPOLIS"]
["T28660","COTEGIPE"]
["T28663","COTEGIPE"]
["T28667","COTEGIPE"]
["T28666","COTEGIPE"]
["T28669","COTEGIPE"]
["T28670","COTEGIPE"]
["T28674","COTEGIPE"]
["T28677","COTEGIPE"]
["F12639","SALVADOR"]
["F01141","SALVADOR"]
["F01144","SALVADOR"]
["F01154","SALVADOR"]
["F03533","SALVADOR"]
["F01152","SALVADOR"]
["F01163","SALVADOR"]
["F16140","SALVADOR"]
["F01145","SALVADOR"]
["F06433","SALVADOR"]
["F01143","SALVADOR"]
["F27325","SALVADOR"]
["F01166","SALVADOR"]
["F01165","SALVADOR"]
["F01158","SALVADOR"]
["F01157","SALVADOR"]
["F01161","SALVADOR"]
["F22611","SALVADOR"]
["F15098","SALVADOR"]
["F15100","SALVADOR"]
["F01150","SALVADOR"]
["F01148","SALVADOR"]
["F05404","SALVADOR"]
["F18268","SALVADOR"]
["F18118","SALVADOR"]
["F01119","SALVADOR"]
["F05426","SALVADOR"]
["F18127","SALVADOR"]
["F16917","SALVADOR"]
["F27620","SALVADOR"]
["F14772","SALVADOR"]
["F27617","SALVADOR"]
["F22724","SALVADOR"]
["F20706","SALVADOR"]
["F13968","SALVADOR"]
["F18869","SALVADOR"]
["F18615","SALVADOR"]
["F00832","SALVADOR"]
["F27603","SALVADOR"]
["F00836","SALVADOR"]
["F22133","SALVADOR"]
["F12101","SALVADOR"]
["F03177","SALVADOR"]
["F01128","SALVADOR"]
["F01127","SALVADOR"]
["F02124","SALVADOR"]
["F01130","SALVADOR"]
["F02635","SALVADOR"]
["F04386","SALVADOR"]
["F16733","SALVADOR"]
["F16597","SALVADOR"]
["F02463","SALVADOR"]
["F01124","SALVADOR"]
["F25694","SALVADOR"]
["F01125","SALVADOR"]
["F16028","SALVADOR"]
["H05111","SAO GONCALO DOS CAMPOS"]
["H05164","SAO GONCALO DOS CAMPOS"]
["H05880","SAO GONCALO DOS CAMPOS"]
["H05884","SAO GONCALO DOS CAMPOS"]
["H05566","SAO GONCALO DOS CAMPOS"]
["H05563","SAO GONCALO DOS CAMPOS"]
["H05569","SAO GONCALO DOS CAMPOS"]
["H05579","SAO GONCALO DOS CAMPOS"]
["H05592","SAO GONCALO DOS CAMPOS"]
["H05593","SAO GONCALO DOS CAMPOS"]
["H05594","SAO GONCALO DOS CAMPOS"]
["H05595","SAO GONCALO DOS CAMPOS"]
["H05596","SAO GONCALO DOS CAMPOS"]
["H05597","SAO GONCALO DOS CAMPOS"]
["H05598","SAO GONCALO DOS CAMPOS"]
["H05599","SAO GONCALO DOS CAMPOS"]
["H05600","SAO GONCALO DOS CAMPOS"]
["H05830","SAO GONCALO DOS CAMPOS"]
["H05586","SAO GONCALO DOS CAMPOS"]
["H05832","SAO GONCALO DOS CAMPOS"]
["H05583","SAO GONCALO DOS CAMPOS"]
["H05883","FEIRA DE SANTANA"]
["H04993","SAO GONCALO DOS CAMPOS"]
["H04983","SAO GONCALO DOS CAMPOS"]
["H04995","SAO GONCALO DOS CAMPOS"]
["H04997","SAO GONCALO DOS CAMPOS"]
["H05106","SAO GONCALO DOS CAMPOS"]
["H05186","SAO GONCALO DOS CAMPOS"]
["H05852","SAO GONCALO DOS CAMPOS"]
["H05865","SAO GONCALO DOS CAMPOS"]
["H05856","SAO GONCALO DOS CAMPOS"]
["H05863","SAO GONCALO DOS CAMPOS"]
["H05864","SAO GONCALO DOS CAMPOS"]
["H05862","SAO GONCALO DOS CAMPOS"]
["H05556","SAO GONCALO DOS CAMPOS"]
["H05560","SAO GONCALO DOS CAMPOS"]
["H05565","SAO GONCALO DOS CAMPOS"]
["H05561","SAO GONCALO DOS CAMPOS"]
["H05191","SAO GONCALO DOS CAMPOS"]
["H05169","SAO GONCALO DOS CAMPOS"]
["H05567","SAO GONCALO DOS CAMPOS"]
["H05570","SAO GONCALO DOS CAMPOS"]
["H05574","SAO GONCALO DOS CAMPOS"]
["H05881","SAO GONCALO DOS CAMPOS"]
["H05843","SAO GONCALO DOS CAMPOS"]
["H05587","SAO GONCALO DOS CAMPOS"]
["H05589","SAO GONCALO DOS CAMPOS"]
["H05590","SAO GONCALO DOS CAMPOS"]
["H05846","SAO GONCALO DOS CAMPOS"]
["H05848","SAO GONCALO DOS CAMPOS"]
["H05847","SAO GONCALO DOS CAMPOS"]
["H05868","SAO GONCALO DOS CAMPOS"]
["H05580","SAO GONCALO DOS CAMPOS"]
["H05178","SAO GONCALO DOS CAMPOS"]
["H05179","SAO GONCALO DOS CAMPOS"]
["H05181","SAO GONCALO DOS CAMPOS"]
["H05182","SAO GONCALO DOS CAMPOS"]
["H05183","SAO GONCALO DOS CAMPOS"]
["H05184","SAO GONCALO DOS CAMPOS"]
["A56809","ALCOBACA"]
["A56818","ALCOBACA"]
["A56820","ALCOBACA"]
["A56822","ALCOBACA"]
["A75153","ALCOBACA"]
["A21788","ALCOBACA"]
["A21793","ALCOBACA"]
["A58315","ALCOBACA"]
["A21781","ALCOBACA"]
["A75164","ALCOBACA"]
["A21786","ALCOBACA"]
["A21783","ALCOBACA"]
["A58313","ALCOBACA"]
["A06582","ALCOBACA"]
["A06583","ALCOBACA"]
["A10600","ALCOBACA"]
["A56848","ALCOBACA"]
["A05563","ALCOBACA"]
["A05580","ALCOBACA"]
["A58316","ALCOBACA"]
["T28682","COTEGIPE"]
["T37704","WANDERLEY"]
["T36649","WANDERLEY"]
["T36650","WANDERLEY"]
["T37737","ANGICAL"]
["T37735","ANGICAL"]
["T37734","ANGICAL"]
["T38573","CRISTOPOLIS"]
["T38574","CRISTOPOLIS"]
["T37910","CRISTOPOLIS"]
["T38560","COTEGIPE"]
["T38344","WANDERLEY"]
["T37894","CRISTOPOLIS"]
["T38421","ANGICAL"]
["T38561","COTEGIPE"]
["T37635","TABOCAS DO BREJO VELHO"]
["T37634","TABOCAS DO BREJO VELHO"]
["T37633","TABOCAS DO BREJO VELHO"]
["T37632","TABOCAS DO BREJO VELHO"]
["T37629","TABOCAS DO BREJO VELHO"]
["T37628","TABOCAS DO BREJO VELHO"]
["T37627","TABOCAS DO BREJO VELHO"]
["T37618","TABOCAS DO BREJO VELHO"]
["T37574","TABOCAS DO BREJO VELHO"]
["T37619","TABOCAS DO BREJO VELHO"]
["T37621","TABOCAS DO BREJO VELHO"]
["T37623","TABOCAS DO BREJO VELHO"]
["T38105","CRISTOPOLIS"]
["T39827","COTEGIPE"]
["T39828","COTEGIPE"]
["T39989","WANDERLEY"]
["T36861","WANDERLEY"]
["T39820","WANDERLEY"]
["T39819","WANDERLEY"]
["T39818","WANDERLEY"]
["T39817","WANDERLEY"]
["T39811","WANDERLEY"]
["T39887","COTEGIPE"]
["T39803","WANDERLEY"]
["T39805","WANDERLEY"]
["T39806","WANDERLEY"]
["F25419","SALVADOR"]
["F25064","SALVADOR"]
["500670","SALVADOR"]
["F02422","SALVADOR"]
["F25062","SALVADOR"]
["F16810","SALVADOR"]
["F02424","SALVADOR"]
["F02440","SALVADOR"]
["F02436","SALVADOR"]
["F02445","SALVADOR"]
["F21968","SALVADOR"]
["F25065","SALVADOR"]
["F25066","SALVADOR"]
["F02415","SALVADOR"]
["F24521","SALVADOR"]
["F03547","SALVADOR"]
["F21775","SALVADOR"]
["F02443","SALVADOR"]
["F09797","SALVADOR"]
["F02442","SALVADOR"]
["F23085","SALVADOR"]
["F14518","SALVADOR"]
["500586","SALVADOR"]
["500590","SALVADOR"]
["F20865","SALVADOR"]
["500743","SALVADOR"]
["500663","SALVADOR"]
["F09812","SALVADOR"]
["F14678","SALVADOR"]
["F02438","SALVADOR"]
["F02451","SALVADOR"]
["500609","SALVADOR"]
["500601","SALVADOR"]
["F09808","SALVADOR"]
["F00598","SALVADOR"]
["F24878","SALVADOR"]
["F25364","SALVADOR"]
["F11694","SALVADOR"]
["F11695","SALVADOR"]
["F20411","SALVADOR"]
["F20757","SALVADOR"]
["500579","SALVADOR"]
["500668","SALVADOR"]
["500582","SALVADOR"]
["500587","SALVADOR"]
["500577","SALVADOR"]
["F24446","SALVADOR"]
["F16928","SALVADOR"]
["F18861","SALVADOR"]
["F20756","SALVADOR"]
["500606","SALVADOR"]
["F13953","SALVADOR"]
["500575","SALVADOR"]
["F23999","SALVADOR"]
["F09814","SALVADOR"]
["F18839","SALVADOR"]
["F14181","SALVADOR"]
["H05185","SAO GONCALO DOS CAMPOS"]
["H05189","SAO GONCALO DOS CAMPOS"]
["H05193","SAO GONCALO DOS CAMPOS"]
["H28953","SAO GONCALO DOS CAMPOS"]
["H26101","SAO GONCALO DOS CAMPOS"]
["H18427","SAO GONCALO DOS CAMPOS"]
["H05815","FEIRA DE SANTANA"]
["H40776","SAO GONCALO DOS CAMPOS"]
["H30044","SAO GONCALO DOS CAMPOS"]
["H30017","SAO GONCALO DOS CAMPOS"]
["H42137","SAO GONCALO DOS CAMPOS"]
["H42134","SAO GONCALO DOS CAMPOS"]
["H45484","SAO GONCALO DOS CAMPOS"]
["H40578","SAO GONCALO DOS CAMPOS"]
["H43557","SAO GONCALO DOS CAMPOS"]
["H43555","FEIRA DE SANTANA"]
["H44156","SAO GONCALO DOS CAMPOS"]
["H44000","SAO GONCALO DOS CAMPOS"]
["H46291","SAO GONCALO DOS CAMPOS"]
["H46292","SAO GONCALO DOS CAMPOS"]
["H46293","SAO GONCALO DOS CAMPOS"]
["H46185","SAO GONCALO DOS CAMPOS"]
["H48552","SAO GONCALO DOS CAMPOS"]
["H46702","SAO GONCALO DOS CAMPOS"]
["H49156","SAO GONCALO DOS CAMPOS"]
["H49588","SAO GONCALO DOS CAMPOS"]
["H43700","SAO GONCALO DOS CAMPOS"]
["H47687","SAO GONCALO DOS CAMPOS"]
["H47338","SAO GONCALO DOS CAMPOS"]
["H52945","SAO GONCALO DOS CAMPOS"]
["H48298","SAO GONCALO DOS CAMPOS"]
["H55470","SAO GONCALO DOS CAMPOS"]
["H46633","SAO GONCALO DOS CAMPOS"]
["H55984","SAO GONCALO DOS CAMPOS"]
["H55985","SAO GONCALO DOS CAMPOS"]
["H55986","SAO GONCALO DOS CAMPOS"]
["H56126","SAO GONCALO DOS CAMPOS"]
["H56171","SAO GONCALO DOS CAMPOS"]
["H56325","SAO GONCALO DOS CAMPOS"]
["H56247","SAO GONCALO DOS CAMPOS"]
["H56652","SAO GONCALO DOS CAMPOS"]
["H57550","SAO GONCALO DOS CAMPOS"]
["H57503","SAO GONCALO DOS CAMPOS"]
["H64176","SAO GONCALO DOS CAMPOS"]
["H64639","SAO GONCALO DOS CAMPOS"]
["H64637","SAO GONCALO DOS CAMPOS"]
["H58065","SAO GONCALO DOS CAMPOS"]
["H66809","SAO GONCALO DOS CAMPOS"]
["H70293","SAO GONCALO DOS CAMPOS"]
["H72868","SAO GONCALO DOS CAMPOS"]
["K00585","ANGICAL"]
["K02014","ANGICAL"]
["A56921","ALCOBACA"]
["A56843","ALCOBACA"]
["A79551","ALCOBACA"]
["A79553","ALCOBACA"]
["A79554","ALCOBACA"]
["A79555","ALCOBACA"]
["A91301","PRADO"]
["A54525","PRADO"]
["A54526","PRADO"]
["A54527","PRADO"]
["A54528","PRADO"]
["A54530","PRADO"]
["A54531","PRADO"]
["A90594","ALCOBACA"]
["A91341","ALCOBACA"]
["A91267","PRADO"]
["T39808","WANDERLEY"]
["T39809","WANDERLEY"]
["T38851","WANDERLEY"]
["T38852","WANDERLEY"]
["T38860","WANDERLEY"]
["T38859","WANDERLEY"]
["T38862","WANDERLEY"]
["T38863","WANDERLEY"]
["T38865","WANDERLEY"]
["T38866","WANDERLEY"]
["T38867","WANDERLEY"]
["T38868","WANDERLEY"]
["T38871","WANDERLEY"]
["T38873","WANDERLEY"]
["T38878","WANDERLEY"]
["T39813","WANDERLEY"]
["T38876","WANDERLEY"]
["T38855","WANDERLEY"]
["T38854","WANDERLEY"]
["T38884","WANDERLEY"]
["T38869","WANDERLEY"]
["T39110","BAIANOPOLIS"]
["T39111","BAIANOPOLIS"]
["T39112","BAIANOPOLIS"]
["T39113","BAIANOPOLIS"]
["T39117","BAIANOPOLIS"]
["T39118","BAIANOPOLIS"]
["T39115","BAIANOPOLIS"]
["T38879","WANDERLEY"]
["T38887","WANDERLEY"]
["T38888","WANDERLEY"]
["T38889","WANDERLEY"]
["T38899","WANDERLEY"]
["T38900","WANDERLEY"]
["T39851","WANDERLEY"]
["T39854","WANDERLEY"]
["T39859","WANDERLEY"]
["T39856","WANDERLEY"]
["T39860","WANDERLEY"]
["T39861","WANDERLEY"]
["T39863","WANDERLEY"]
["T39864","WANDERLEY"]
["F32178","SALVADOR"]
["F32504","SALVADOR"]
["F32770","SALVADOR"]
["F32642","SALVADOR"]
["F34320","SALVADOR"]
["F34531","SALVADOR"]
["F36178","SALVADOR"]
["F32804","SALVADOR"]
["A22012","ABAIRA"]
["A22010","ABAIRA"]
["A22011","ABAIRA"]
["A22004","ABAIRA"]
["A22005","ABAIRA"]
["A22003","ABAIRA"]
["A22007","ABAIRA"]
["A22013","ABAIRA"]
["A77812","ABAIRA"]
["A77813","ABAIRA"]
["A92438","PIATA"]
["A92443","PIATA"]
["A92447","PIATA"]
["A92449","PIATA"]
["A92448","PIATA"]
["A92445","PIATA"]
["A99626","PIATA"]
["A99628","PIATA"]
["A99630","PIATA"]
["A99660","PIATA"]
["A99652","PIATA"]
["A99655","PIATA"]
["A99631","PIATA"]
["S00920","PIATA"]
["S00915","PIATA"]
["S00605","PIATA"]
["S00606","PIATA"]
["S00603","PIATA"]
["S00602","PIATA"]
["S00657","PIATA"]
["S00666","PIATA"]
["S00658","PIATA"]
["S00932","PIATA"]
["S00931","PIATA"]
["S00936","PIATA"]
["S00935","PIATA"]
["S00948","PIATA"]
["S00919","PIATA"]
["S00924","PIATA"]
["S00944","PIATA"]
["S00943","PIATA"]
["S04455","ABAIRA"]
["S09744","ABAIRA"]
["K02015","ANGICAL"]
["K02016","ANGICAL"]
["K02017","ANGICAL"]
["K02019","ANGICAL"]
["K00589","ANGICAL"]
["K02012","ANGICAL"]
["K02013","ANGICAL"]
["K30043","ANGICAL"]
["T37386","ANGICAL"]
["F25198","SALVADOR"]
["F16791","SALVADOR"]
["F16945","SALVADOR"]
["F24143","SALVADOR"]
["F28077","SALVADOR"]
["F29859","SALVADOR"]
["F00769","SALVADOR"]
["F25163","SALVADOR"]
["F25199","SALVADOR"]
["F25200","SALVADOR"]
["F02413","SALVADOR"]
["500764","SALVADOR"]
["F14628","SALVADOR"]
["F10077","SALVADOR"]
["F02405","SALVADOR"]
["F22949","SALVADOR"]
["F25179","SALVADOR"]
["F18010","SALVADOR"]
["F10080","SALVADOR"]
["F10081","SALVADOR"]
["500765","SALVADOR"]
["F14399","SALVADOR"]
["F14924","SALVADOR"]
["F25350","SALVADOR"]
["F14397","SALVADOR"]
["F14396","SALVADOR"]
["F25325","SALVADOR"]
["F02408","SALVADOR"]
["F25188","SALVADOR"]
["F25193","SALVADOR"]
["500763","SALVADOR"]
["500757","SALVADOR"]
["F25349","SALVADOR"]
["F02418","SALVADOR"]
["F18434","SALVADOR"]
["F13547","SALVADOR"]
["F16511","SALVADOR"]
["F25162","SALVADOR"]
["F25182","SALVADOR"]
["F25187","SALVADOR"]
["F14371","SALVADOR"]
["F03984","SALVADOR"]
["F18465","SALVADOR"]
["A90584","ALCOBACA"]
["A91205","ALCOBACA"]
["A90495","ALCOBACA"]
["A92712","ALCOBACA"]
["A92688","ALCOBACA"]
["A90972","ALCOBACA"]
["A97798","ALCOBACA"]
["Y01259","ALCOBACA"]
["Y01263","ALCOBACA"]
["Y01496","ALCOBACA"]
["Y01495","ALCOBACA"]
["A97806","ALCOBACA"]
["A97805","ALCOBACA"]
["A97803","ALCOBACA"]
["A97808","ALCOBACA"]
["A97807","ALCOBACA"]
["A97809","ALCOBACA"]
["A97802","ALCOBACA"]
["A97810","ALCOBACA"]
["Y02088","ALCOBACA"]
["Y01992","ALCOBACA"]
["Y01991","ALCOBACA"]
["Y01993","ALCOBACA"]
["Y02318","ALCOBACA"]
["Y02321","ALCOBACA"]
["Y02306","ALCOBACA"]
["Y03151","ALCOBACA"]
["A57136","ALCOBACA"]
["Y03261","ALCOBACA"]
["Y03156","ALCOBACA"]
["A21737","ALCOBACA"]
["Y03157","ALCOBACA"]
["A58329","ALCOBACA"]
["Y03155","PRADO"]
["Y02386","ALCOBACA"]
["Y02684","ALCOBACA"]
["Y02667","ALCOBACA"]
["Y03904","ALCOBACA"]
["Y10782","ALCOBACA"]
["Y10784","ALCOBACA"]
["Y10785","ALCOBACA"]
["K07495","CRISTOPOLIS"]
["K02317","COTEGIPE"]
["K02318","COTEGIPE"]
["T18586","RODELAS"]
["T18588","RODELAS"]
["T18587","RODELAS"]
["T18589","RODELAS"]
["T18583","RODELAS"]
["J55800","RODELAS"]
["J57283","GLORIA"]
["T18244","GLORIA"]
["T18236","GLORIA"]
["T18242","GLORIA"]
["T18253","GLORIA"]
["T18252","GLORIA"]
["T18259","GLORIA"]
["T18258","GLORIA"]
["T18247","GLORIA"]
["T18256","GLORIA"]
["T18255","GLORIA"]
["T18245","GLORIA"]
["T18582","GLORIA"]
["H63142","GLORIA"]
["H66489","GLORIA"]
["H66490","GLORIA"]
["F18456","SALVADOR"]
["F25625","SALVADOR"]
["F03078","SALVADOR"]
["F16151","SALVADOR"]
["F27656","SALVADOR"]
["F09780","SALVADOR"]
["F18607","SALVADOR"]
["F22087","SALVADOR"]
["F24208","SALVADOR"]
["F13402","SALVADOR"]
["F18238","SALVADOR"]
["F22238","SALVADOR"]
["F20699","SALVADOR"]
["F09966","SALVADOR"]
["F14250","SALVADOR"]
["F25620","SALVADOR"]
["F25626","SALVADOR"]
["F03435","SALVADOR"]
["F03403","SALVADOR"]
["F24859","SALVADOR"]
["F15082","SALVADOR"]
["F20698","SALVADOR"]
["F16670","SALVADOR"]
["F22749","SALVADOR"]
["F11595","SALVADOR"]
["F13964","SALVADOR"]
["F26192","SALVADOR"]
["F26191","SALVADOR"]
["F26198","SALVADOR"]
["F26199","SALVADOR"]
["F24255","SALVADOR"]
["F26236","SALVADOR"]
["F26197","SALVADOR"]
["F26686","SALVADOR"]
["F26193","SALVADOR"]
["F24276","SALVADOR"]
["F26194","SALVADOR"]
["F27250","SALVADOR"]
["F27349","SALVADOR"]
["F27445","SALVADOR"]
["F29379","SALVADOR"]
["F26234","SALVADOR"]
["F29447","SALVADOR"]
["F29657","SALVADOR"]
["F25529","SALVADOR"]
["F31791","SALVADOR"]
["F16792","SALVADOR"]
["500753","SALVADOR"]
["500751","SALVADOR"]
["F09799","SALVADOR"]
["F25160","SALVADOR"]
["F25161","SALVADOR"]
["F25059","SALVADOR"]
["500669","SALVADOR"]
["F02450","SALVADOR"]
["F22932","SALVADOR"]
["500740","SALVADOR"]
["500738","SALVADOR"]
["F10068","SALVADOR"]
["F22336","SALVADOR"]
["F25073","SALVADOR"]
["500735","SALVADOR"]
["F20954","SALVADOR"]
["F25168","SALVADOR"]
["F02412","SALVADOR"]
["F14664","SALVADOR"]
["F16568","SALVADOR"]
["F14217","SALVADOR"]
["F18001","SALVADOR"]
["F10835","SALVADOR"]
["F00777","SALVADOR"]
["F25171","SALVADOR"]
["F20958","SALVADOR"]
["F14941","SALVADOR"]
["F25174","SALVADOR"]
["F25175","SALVADOR"]
["F25176","SALVADOR"]
["F14392","SALVADOR"]
["F28084","SALVADOR"]
["F01267","SALVADOR"]
["512655","SALVADOR"]
["F16109","SALVADOR"]
["F18433","SALVADOR"]
["F00779","SALVADOR"]
["F14393","SALVADOR"]
["F13454","SALVADOR"]
["F13452","SALVADOR"]
["F00783","SALVADOR"]
["F00790","SALVADOR"]
["F00789","SALVADOR"]
["F22002","SALVADOR"]
["F20878","SALVADOR"]
["F12216","SALVADOR"]
["F25326","SALVADOR"]
["F25327","SALVADOR"]
["K02334","COTEGIPE"]
["K02322","COTEGIPE"]
["K01994","CRISTOPOLIS"]
["K07042","CRISTOPOLIS"]
["K07051","CRISTOPOLIS"]
["K07128","CRISTOPOLIS"]
["K01904","WANDERLEY"]
["K01909","WANDERLEY"]
["K02354","WANDERLEY"]
["K02379","WANDERLEY"]
["K02392","WANDERLEY"]
["K02364","WANDERLEY"]
["T13566","CRISTOPOLIS"]
["K02186","ANGICAL"]
["K02189","ANGICAL"]
["K02190","ANGICAL"]
["K02191","ANGICAL"]
["K02195","ANGICAL"]
["K02197","ANGICAL"]
["K02217","ANGICAL"]
["K02237","ANGICAL"]
["K02241","COTEGIPE"]
["T40199","ANGICAL"]
["T40200","COTEGIPE"]
["T40201","COTEGIPE"]
["T39868","WANDERLEY"]
["T39866","WANDERLEY"]
["T39870","WANDERLEY"]
["T39871","WANDERLEY"]
["T39872","WANDERLEY"]
["T39873","WANDERLEY"]
["T39875","WANDERLEY"]
["T39876","WANDERLEY"]
["T39877","WANDERLEY"]
["T38849","WANDERLEY"]
["T38846","WANDERLEY"]
["T40333","COTEGIPE"]
["T40332","COTEGIPE"]
["T40815","COTEGIPE"]
["T40816","COTEGIPE"]
["T40226","COTEGIPE"]
["T40225","COTEGIPE"]
["T40168","COTEGIPE"]
["T40229","COTEGIPE"]
["T40230","COTEGIPE"]
["T40232","COTEGIPE"]
["T40233","COTEGIPE"]
["T40235","COTEGIPE"]
["T40236","COTEGIPE"]
["T40239","COTEGIPE"]
["T40240","COTEGIPE"]
["T40241","COTEGIPE"]
["T40243","COTEGIPE"]
["T40248","COTEGIPE"]
["T40250","COTEGIPE"]
["T40251","COTEGIPE"]
["T40252","COTEGIPE"]
["T40254","COTEGIPE"]
["T40255","COTEGIPE"]
["T40257","ANGICAL"]
["T40258","ANGICAL"]
["T40259","ANGICAL"]
["T40260","ANGICAL"]
["T40246","COTEGIPE"]
["T40247","COTEGIPE"]
["T40192","CRISTOPOLIS"]
["T40194","CRISTOPOLIS"]
["T40195","CRISTOPOLIS"]
["T40197","CRISTOPOLIS"]
["Y07007","PIATA"]
["Y07006","PIATA"]
["Y07005","PIATA"]
["Y07004","PIATA"]
["Y07003","PIATA"]
["F22005","SALVADOR"]
["F10051","SALVADOR"]
["F25600","SALVADOR"]
["F25097","SALVADOR"]
["F28097","SALVADOR"]
["F20896","SALVADOR"]
["F16809","SALVADOR"]
["F18076","SALVADOR"]
["F20846","SALVADOR"]
["F24692","SALVADOR"]
["F24690","SALVADOR"]
["F21935","SALVADOR"]
["F25153","SALVADOR"]
["F20761","SALVADOR"]
["F23922","SALVADOR"]
["500685","SALVADOR"]
["500520","SALVADOR"]
["F18342","SALVADOR"]
["F16913","SALVADOR"]
["F25156","SALVADOR"]
["F24691","SALVADOR"]
["F18190","SALVADOR"]
["F18269","SALVADOR"]
["F20966","SALVADOR"]
["F18258","SALVADOR"]
["F25098","SALVADOR"]
["F10052","SALVADOR"]
["F24740","SALVADOR"]
["F25096","SALVADOR"]
["500689","SALVADOR"]
["F16856","SALVADOR"]
["F20047","SALVADOR"]
["F10057","SALVADOR"]
["F13124","SALVADOR"]
["F28103","SALVADOR"]
["F25847","SALVADOR"]
["F25846","SALVADOR"]
["F25845","SALVADOR"]
["F25844","SALVADOR"]
["F26400","SALVADOR"]
["F16377","SALVADOR"]
["F18282","SALVADOR"]
["F25077","SALVADOR"]
["F21822","SALVADOR"]
["F10060","SALVADOR"]
["F20982","SALVADOR"]
["F23734","SALVADOR"]
["F25091","SALVADOR"]
["500699","SALVADOR"]
["F20221","SALVADOR"]
["F12831","SALVADOR"]
["F25194","SALVADOR"]
["F18204","SALVADOR"]
["F25195","SALVADOR"]
["F16860","SALVADOR"]
["F14698","SALVADOR"]
["F18650","SALVADOR"]
["F00800","SALVADOR"]
["F02392","SALVADOR"]
["F02393","SALVADOR"]
["F16705","SALVADOR"]
["F16704","SALVADOR"]
["F03872","SALVADOR"]
["F26438","SALVADOR"]
["F25339","SALVADOR"]
["F25340","SALVADOR"]
["F25167","SALVADOR"]
["F24681","SALVADOR"]
["F27351","SALVADOR"]
["F27350","SALVADOR"]
["F27780","SALVADOR"]
["527682","SALVADOR"]
["F26239","SALVADOR"]
["F26240","SALVADOR"]
["F26575","SALVADOR"]
["F25151","SALVADOR"]
["F25164","SALVADOR"]
["F28228","SALVADOR"]
["T13653","TABOCAS DO BREJO VELHO"]
["T13656","TABOCAS DO BREJO VELHO"]
["K07641","WANDERLEY"]
["K07642","WANDERLEY"]
["K07643","WANDERLEY"]
["K12297","COTEGIPE"]
["K12294","COTEGIPE"]
["K13680","COTEGIPE"]
["K07661","WANDERLEY"]
["K07651","WANDERLEY"]
["T17946","GLORIA"]
["T17948","GLORIA"]
["T17743","GLORIA"]
["T17744","GLORIA"]
["T17745","GLORIA"]
["T17876","GLORIA"]
["T17875","GLORIA"]
["T17865","GLORIA"]
["T17770","GLORIA"]
["T17771","GLORIA"]
["T17867","GLORIA"]
["T17868","GLORIA"]
["T17869","GLORIA"]
["T17870","GLORIA"]
["T17872","GLORIA"]
["T17873","GLORIA"]
["T17874","GLORIA"]
["T17856","GLORIA"]
["T17853","GLORIA"]
["T17852","GLORIA"]
["T17851","GLORIA"]
["T17950","GLORIA"]
["T17861","GLORIA"]
["T17862","GLORIA"]
["T17863","GLORIA"]
["T17859","GLORIA"]
["T17860","GLORIA"]
["T17858","GLORIA"]
["T17949","GLORIA"]
["T17798","GLORIA"]
["J50402","GLORIA"]
["J52208","GLORIA"]
["J52209","GLORIA"]
["J60094","GLORIA"]
["J60095","GLORIA"]
["J58354","GLORIA"]
["J58752","GLORIA"]
["J58751","GLORIA"]
["J58750","GLORIA"]
["J63466","GLORIA"]
["J63464","GLORIA"]
["H70856","GLORIA"]
["T18261","GLORIA"]
["T17786","GLORIA"]
["T17784","GLORIA"]
["T17785","GLORIA"]
["T18264","GLORIA"]
["T18267","GLORIA"]
["T18269","GLORIA"]
["T18599","RODELAS"]
["T18250","GLORIA"]
["T17781","RODELAS"]
["T18594","RODELAS"]
["T18598","RODELAS"]
["F22234","SALVADOR"]
["500544","SALVADOR"]
["F18201","SALVADOR"]
["F28092","SALVADOR"]
["F18604","SALVADOR"]
["500529","SALVADOR"]
["F25070","SALVADOR"]
["F04486","SALVADOR"]
["F25084","SALVADOR"]
["F16975","SALVADOR"]
["F25086","SALVADOR"]
["500726","SALVADOR"]
["F20002","SALVADOR"]
["F20984","SALVADOR"]
["F20070","SALVADOR"]
["F09033","SALVADOR"]
["F10059","SALVADOR"]
["500683","SALVADOR"]
["F21790","SALVADOR"]
["F25088","SALVADOR"]
["F09442","SALVADOR"]
["F20863","SALVADOR"]
["F25068","SALVADOR"]
["F16855","SALVADOR"]
["F16751","SALVADOR"]
["500706","SALVADOR"]
["F24833","SALVADOR"]
["F29886","SALVADOR"]
["F20818","SALVADOR"]
["F28098","SALVADOR"]
["F26358","SALVADOR"]
["F20858","SALVADOR"]
["520916","SALVADOR"]
["F21712","SALVADOR"]
["F20637","SALVADOR"]
["F20918","SALVADOR"]
["F23031","SALVADOR"]
["F14526","SALVADOR"]
["F00792","SALVADOR"]
["F26370","SALVADOR"]
["F26371","SALVADOR"]
["F26305","SALVADOR"]
["F26221","SALVADOR"]
["F24379","SALVADOR"]
["F22361","SALVADOR"]
["F25074","SALVADOR"]
["F29729","SALVADOR"]
["F28083","SALVADOR"]
["F52825","SALVADOR"]
["F25196","SALVADOR"]
["F25197","SALVADOR"]
["F31925","SALVADOR"]
["F31924","SALVADOR"]
["F32071","SALVADOR"]
["F32134","SALVADOR"]
["F32825","SALVADOR"]
["F32826","SALVADOR"]
["F26238","SALVADOR"]
["F36357","SALVADOR"]
["K02073","RIACHAO DAS NEVES"]
["K02076","RIACHAO DAS NEVES"]
["K02105","RIACHAO DAS NEVES"]
["K00794","ANGICAL"]
["K02050","RIACHAO DAS NEVES"]
["K02080","RIACHAO DAS NEVES"]
["K02047","RIACHAO DAS NEVES"]
["K02049","RIACHAO DAS NEVES"]
["K02101","RIACHAO DAS NEVES"]
["K02035","ANGICAL"]
["K02036","ANGICAL"]
["K02038","ANGICAL"]
["K00795","ANGICAL"]
["K02077","RIACHAO DAS NEVES"]
["K02083","RIACHAO DAS NEVES"]
["K02103","RIACHAO DAS NEVES"]
["K02031","ANGICAL"]
["K02032","ANGICAL"]
["K02034","ANGICAL"]
["K02063","RIACHAO DAS NEVES"]
["K02072","RIACHAO DAS NEVES"]
["K02075","RIACHAO DAS NEVES"]
["K02081","RIACHAO DAS NEVES"]
["K02082","RIACHAO DAS NEVES"]
["K02085","RIACHAO DAS NEVES"]
["K02106","RIACHAO DAS NEVES"]
["K02107","RIACHAO DAS NEVES"]
["K02066","RIACHAO DAS NEVES"]
["K02068","RIACHAO DAS NEVES"]
["K02069","RIACHAO DAS NEVES"]
["K02070","RIACHAO DAS NEVES"]
["K02180","ANGICAL"]
["K02199","ANGICAL"]
["K02201","ANGICAL"]
["K02206","ANGICAL"]
["K02212","ANGICAL"]
["K02224","ANGICAL"]
["K02225","ANGICAL"]
["K02226","ANGICAL"]
["K02228","ANGICAL"]
["K02233","ANGICAL"]
["K02234","ANGICAL"]
["K02260","ANGICAL"]
["K02265","ANGICAL"]
["K02266","ANGICAL"]
["K02269","ANGICAL"]
["K02272","COTEGIPE"]
["K02094","ANGICAL"]
["K02287","COTEGIPE"]
["K02303","COTEGIPE"]
["K02231","ANGICAL"]
["K02232","ANGICAL"]
["K02283","ANGICAL"]
["K02284","ANGICAL"]
["K02220","ANGICAL"]
["T14741","ANGICAL"]
["K07653","ANGICAL"]
["K07654","ANGICAL"]
["K07655","ANGICAL"]
["K07494","CRISTOPOLIS"]
["K07497","BAIANOPOLIS"]
["K07504","BAIANOPOLIS"]
["K07505","BAIANOPOLIS"]
["K07506","BAIANOPOLIS"]
["K07507","BAIANOPOLIS"]
["K07509","BAIANOPOLIS"]
["K02235","ANGICAL"]
["K02095","ANGICAL"]
["K02098","ANGICAL"]
["K02242","ANGICAL"]
["K02244","ANGICAL"]
["K02245","ANGICAL"]
["K02247","ANGICAL"]
["K02248","ANGICAL"]
["K02249","ANGICAL"]
["K02253","ANGICAL"]
["K02281","ANGICAL"]
["K07156","TABOCAS DO BREJO VELHO"]
["K07469","CRISTOPOLIS"]
["K01905","WANDERLEY"]
["K01935","COTEGIPE"]
["K01945","COTEGIPE"]
["K01946","COTEGIPE"]
["K01947","COTEGIPE"]
["K01948","COTEGIPE"]
["K01949","COTEGIPE"]
["K01950","COTEGIPE"]
["F02345","SALVADOR"]
["F03433","SALVADOR"]
["F25627","SALVADOR"]
["F25628","SALVADOR"]
["F22090","SALVADOR"]
["F16787","SALVADOR"]
["F14104","SALVADOR"]
["F13404","SALVADOR"]
["F24530","SALVADOR"]
["F03430","SALVADOR"]
["F20741","SALVADOR"]
["F03425","SALVADOR"]
["F02326","SALVADOR"]
["F18314","SALVADOR"]
["F29884","SALVADOR"]
["F22643","SALVADOR"]
["F13399","SALVADOR"]
["F18386","SALVADOR"]
["F22670","SALVADOR"]
["F22458","SALVADOR"]
["F01090","SALVADOR"]
["F02337","SALVADOR"]
["F03405","SALVADOR"]
["F24688","SALVADOR"]
["F03406","SALVADOR"]
["F22151","SALVADOR"]
["F26241","SALVADOR"]
["F13257","SALVADOR"]
["F27157","SALVADOR"]
["F27486","SALVADOR"]
["F27488","SALVADOR"]
["F09246","SALVADOR"]
["F29074","SALVADOR"]
["F32622","SALVADOR"]
["F31929","SALVADOR"]
["F23397","SALVADOR"]
["F29798","SALVADOR"]
["F25100","SALVADOR"]
["F25159","SALVADOR"]
["F25158","SALVADOR"]
["F26771","SALVADOR"]
["F26878","SALVADOR"]
["F22032","SALVADOR"]
["F27769","SALVADOR"]
["F27752","SALVADOR"]
["F26356","SALVADOR"]
["F29067","SALVADOR"]
["F22071","SALVADOR"]
["F29316","SALVADOR"]
["F29514","SALVADOR"]
["F25095","SALVADOR"]
["F29885","SALVADOR"]
["F29706","SALVADOR"]
["F29743","SALVADOR"]
["F10053","SALVADOR"]
["F10054","SALVADOR"]
["F26357","SALVADOR"]
["F31643","SALVADOR"]
["F31735","SALVADOR"]
["F31734","SALVADOR"]
["F25087","SALVADOR"]
["F31789","SALVADOR"]
["F31878","SALVADOR"]
["F32026","SALVADOR"]
["F32119","SALVADOR"]
["F32055","SALVADOR"]
["F32481","SALVADOR"]
["F32742","SALVADOR"]
["F33460","SALVADOR"]
["F32415","SALVADOR"]
["F32414","SALVADOR"]
["T08044","ANGICAL"]
["T08043","ANGICAL"]
["T08042","ANGICAL"]
["T08040","ANGICAL"]
["K13772","ANGICAL"]
["T08041","ANGICAL"]
["T08038","ANGICAL"]
["T08037","ANGICAL"]
["T08046","ANGICAL"]
["T26128","ANGICAL"]
["T29274","RIACHAO DAS NEVES"]
["T31151","ANGICAL"]
["T33460","RIACHAO DAS NEVES"]
["T33462","RIACHAO DAS NEVES"]
["T35745","ANGICAL"]
["T35746","ANGICAL"]
["T35748","ANGICAL"]
["T35756","ANGICAL"]
["T35757","ANGICAL"]
["T35758","ANGICAL"]
["T35750","ANGICAL"]
["T35753","ANGICAL"]
["T25021","ANGICAL"]
["T36191","RIACHAO DAS NEVES"]
["T36647","ANGICAL"]
["T36643","ANGICAL"]
["T38029","ANGICAL"]
["T38485","ANGICAL"]
["T38487","ANGICAL"]
["T38488","ANGICAL"]
["T38489","ANGICAL"]
["T38491","ANGICAL"]
["T38492","ANGICAL"]
["T38499","ANGICAL"]
["T38497","ANGICAL"]
["T38496","ANGICAL"]
["T38494","ANGICAL"]
["K01953","COTEGIPE"]
["K01954","COTEGIPE"]
["K01957","COTEGIPE"]
["K01959","COTEGIPE"]
["K01960","COTEGIPE"]
["K01962","COTEGIPE"]
["K01902","WANDERLEY"]
["K01913","WANDERLEY"]
["K01916","WANDERLEY"]
["K01917","WANDERLEY"]
["K01918","WANDERLEY"]
["K01920","WANDERLEY"]
["K01924","WANDERLEY"]
["K01926","WANDERLEY"]
["K07454","CRISTOPOLIS"]
["K01928","WANDERLEY"]
["K01931","WANDERLEY"]
["K01932","WANDERLEY"]
["K07089","BAIANOPOLIS"]
["K07090","BAIANOPOLIS"]
["K07100","BAIANOPOLIS"]
["K07102","BAIANOPOLIS"]
["K07103","BAIANOPOLIS"]
["K07105","BAIANOPOLIS"]
["K02394","WANDERLEY"]
["K02396","WANDERLEY"]
["K02397","WANDERLEY"]
["K02399","WANDERLEY"]
["K02400","WANDERLEY"]
["K01937","WANDERLEY"]
["K07073","CRISTOPOLIS"]
["K07074","CRISTOPOLIS"]
["K07075","CRISTOPOLIS"]
["K07076","CRISTOPOLIS"]
["K07458","CRISTOPOLIS"]
["K07472","CRISTOPOLIS"]
["K07473","CRISTOPOLIS"]
["K07474","CRISTOPOLIS"]
["K07125","CRISTOPOLIS"]
["K07459","CRISTOPOLIS"]
["K07461","CRISTOPOLIS"]
["K07464","CRISTOPOLIS"]
["K07466","CRISTOPOLIS"]
["K07467","CRISTOPOLIS"]
["K07055","CRISTOPOLIS"]
["K07057","CRISTOPOLIS"]
["K07058","CRISTOPOLIS"]
["K07142","CRISTOPOLIS"]
["K07493","CRISTOPOLIS"]
["K07138","CRISTOPOLIS"]
["K07139","CRISTOPOLIS"]
["K07001","CRISTOPOLIS"]
["K07004","CRISTOPOLIS"]
["K07005","CRISTOPOLIS"]
["K01964","COTEGIPE"]
["K07006","CRISTOPOLIS"]
["K07008","CRISTOPOLIS"]
["K01939","WANDERLEY"]
["K01940","WANDERLEY"]
["K01941","WANDERLEY"]
["K01943","WANDERLEY"]
["K02342","WANDERLEY"]
["K02351","WANDERLEY"]
["K02353","WANDERLEY"]
["K02355","WANDERLEY"]
["K02360","WANDERLEY"]
["T40261","ANGICAL"]
["T40253","COTEGIPE"]
["T40242","COTEGIPE"]
["T40932","COTEGIPE"]
["T36189","WANDERLEY"]
["T41004","COTEGIPE"]
["T41036","WANDERLEY"]
["T41056","WANDERLEY"]
["T41057","WANDERLEY"]
["T41054","WANDERLEY"]
["T41051","WANDERLEY"]
["T41052","WANDERLEY"]
["T41053","WANDERLEY"]
["T41055","WANDERLEY"]
["T38503","COTEGIPE"]
["T38423","ANGICAL"]
["T12295","COTEGIPE"]
["T41003","COTEGIPE"]
["T40186","WANDERLEY"]
["T42100","MUQUEM DO SAO FRANCISCO"]
["T44440","ANGICAL"]
["T44444","ANGICAL"]
["T44443","ANGICAL"]
["T44438","ANGICAL"]
["T44402","COTEGIPE"]
["T44404","COTEGIPE"]
["T44405","COTEGIPE"]
["T44408","COTEGIPE"]
["T44413","COTEGIPE"]
["T44414","COTEGIPE"]
["T44415","COTEGIPE"]
["T17800","GLORIA"]
["T17787","GLORIA"]
["T17789","GLORIA"]
["T17790","GLORIA"]
["T17792","GLORIA"]
["T17795","GLORIA"]
["T17776","GLORIA"]
["T17773","GLORIA"]
["F34367","SALVADOR"]
["F35059","SALVADOR"]
["F35060","SALVADOR"]
["F35102","SALVADOR"]
["F35103","SALVADOR"]
["F35061","SALVADOR"]
["F35250","SALVADOR"]
["F28100","SALVADOR"]
["F35706","SALVADOR"]
["F36162","SALVADOR"]
["F36272","SALVADOR"]
["F36502","SALVADOR"]
["A20861","ABAIRA"]
["A20867","ABAIRA"]
["A20868","ABAIRA"]
["A14350","ABAIRA"]
["A20967","ABAIRA"]
["A20881","ABAIRA"]
["A20878","ABAIRA"]
["A20879","ABAIRA"]
["A94134","ABAIRA"]
["A20875","ABAIRA"]
["A12575","ABAIRA"]
["A20885","ABAIRA"]
["A14385","PIATA"]
["A20956","PIATA"]
["A14389","PIATA"]
["A14392","PIATA"]
["A14391","PIATA"]
["A14394","PIATA"]
["A14396","PIATA"]
["A14395","PIATA"]
["A20954","PIATA"]
["A20953","PIATA"]
["A14398","PIATA"]
["A14399","PIATA"]
["A34487","PIATA"]
["A34486","PIATA"]
["A14346","ABAIRA"]
["A20958","PIATA"]
["A34500","PIATA"]
["A34495","PIATA"]
["A34499","PIATA"]
["A34494","PIATA"]
["T38304","ANGICAL"]
["T38305","ANGICAL"]
["T38308","ANGICAL"]
["T38309","ANGICAL"]
["T38310","ANGICAL"]
["T38311","ANGICAL"]
["T38312","ANGICAL"]
["T38313","ANGICAL"]
["T38314","ANGICAL"]
["T38315","ANGICAL"]
["T38324","ANGICAL"]
["T38460","ANGICAL"]
["T38480","ANGICAL"]
["T38481","ANGICAL"]
["T38482","ANGICAL"]
["T38477","ANGICAL"]
["T38303","ANGICAL"]
["T38307","ANGICAL"]
["T38317","ANGICAL"]
["T38319","ANGICAL"]
["T38328","ANGICAL"]
["T38474","ANGICAL"]
["T38476","ANGICAL"]
["T38479","ANGICAL"]
["T38986","ANGICAL"]
["T38985","ANGICAL"]
["T38987","ANGICAL"]
["T38989","ANGICAL"]
["T38992","ANGICAL"]
["T38993","ANGICAL"]
["T38994","ANGICAL"]
["H26468","ALAGOINHAS"]
["H26405","ALAGOINHAS"]
["H26408","ALAGOINHAS"]
["H26407","ALAGOINHAS"]
["H26412","ALAGOINHAS"]
["H26420","ALAGOINHAS"]
["H26438","ALAGOINHAS"]
["H26466","ALAGOINHAS"]
["H26475","ALAGOINHAS"]
["H26490","ALAGOINHAS"]
["H24701","ALAGOINHAS"]
["H24723","ALAGOINHAS"]
["H24746","ALAGOINHAS"]
["H28253","ALAGOINHAS"]
["K02362","WANDERLEY"]
["K02367","WANDERLEY"]
["K02368","WANDERLEY"]
["K02369","WANDERLEY"]
["K02371","WANDERLEY"]
["K02373","WANDERLEY"]
["K02374","WANDERLEY"]
["K02376","WANDERLEY"]
["K02377","WANDERLEY"]
["K02381","WANDERLEY"]
["K02383","WANDERLEY"]
["K02385","WANDERLEY"]
["K02386","WANDERLEY"]
["K02387","WANDERLEY"]
["K02390","WANDERLEY"]
["K07045","CRISTOPOLIS"]
["K07047","CRISTOPOLIS"]
["K07049","CRISTOPOLIS"]
["K07060","CRISTOPOLIS"]
["K07064","CRISTOPOLIS"]
["K01968","COTEGIPE"]
["K01969","COTEGIPE"]
["K01983","COTEGIPE"]
["K01985","COTEGIPE"]
["K01987","COTEGIPE"]
["K02276","COTEGIPE"]
["K02277","COTEGIPE"]
["K02278","COTEGIPE"]
["K02280","COTEGIPE"]
["K02289","COTEGIPE"]
["K02290","COTEGIPE"]
["K02294","COTEGIPE"]
["K02301","COTEGIPE"]
["K02302","COTEGIPE"]
["K02311","COTEGIPE"]
["K02313","COTEGIPE"]
["K02314","COTEGIPE"]
["K02328","WANDERLEY"]
["K02332","COTEGIPE"]
["K02335","COTEGIPE"]
["K02339","WANDERLEY"]
["K07148","TABOCAS DO BREJO VELHO"]
["K07150","TABOCAS DO BREJO VELHO"]
["K07151","TABOCAS DO BREJO VELHO"]
["K07452","TABOCAS DO BREJO VELHO"]
["K07013","CRISTOPOLIS"]
["K07014","CRISTOPOLIS"]
["K07015","CRISTOPOLIS"]
["K07646","COTEGIPE"]
["K02308","COTEGIPE"]
["K02309","COTEGIPE"]
["K02310","COTEGIPE"]
["K01972","CRISTOPOLIS"]
["K01974","CRISTOPOLIS"]
["K01977","CRISTOPOLIS"]
["K01991","CRISTOPOLIS"]
["K01996","CRISTOPOLIS"]
["K01997","CRISTOPOLIS"]
["K01999","CRISTOPOLIS"]
["K07017","CRISTOPOLIS"]
["K07019","CRISTOPOLIS"]
["K07026","CRISTOPOLIS"]
["K07027","CRISTOPOLIS"]
["K07028","CRISTOPOLIS"]
["K07029","CRISTOPOLIS"]
["K07032","CRISTOPOLIS"]
["T27958","FORMOSA DO RIO PRETO"]
["T27955","FORMOSA DO RIO PRETO"]
["T28578","FORMOSA DO RIO PRETO"]
["T28579","FORMOSA DO RIO PRETO"]
["T27905","FORMOSA DO RIO PRETO"]
["T27911","FORMOSA DO RIO PRETO"]
["T27913","FORMOSA DO RIO PRETO"]
["T27915","FORMOSA DO RIO PRETO"]
["T27907","FORMOSA DO RIO PRETO"]
["T27920","FORMOSA DO RIO PRETO"]
["F25052","SALVADOR"]
["F23967","SALVADOR"]
["F10371","SALVADOR"]
["F10385","SALVADOR"]
["F23965","SALVADOR"]
["500624","SALVADOR"]
["F23113","SALVADOR"]
["F23974","SALVADOR"]
["500596","SALVADOR"]
["F23971","SALVADOR"]
["F09817","SALVADOR"]
["F22923","SALVADOR"]
["500623","SALVADOR"]
["F11697","SALVADOR"]
["F10381","SALVADOR"]
["F10382","SALVADOR"]
["F24809","SALVADOR"]
["F14436","SALVADOR"]
["F24811","SALVADOR"]
["F28016","SALVADOR"]
["500382","SALVADOR"]
["F24563","SALVADOR"]
["F28019","SALVADOR"]
["F16941","SALVADOR"]
["F10380","SALVADOR"]
["F28020","SALVADOR"]
["F10852","SALVADOR"]
["F24562","SALVADOR"]
["A34497","PIATA"]
["A34489","PIATA"]
["A14342","ABAIRA"]
["A20884","ABAIRA"]
["A34519","ABAIRA"]
["A14393","PIATA"]
["A20959","PIATA"]
["A34491","PIATA"]
["A34503","PIATA"]
["A34509","PIATA"]
["A20860","ABAIRA"]
["A20874","ABAIRA"]
["A14377","ABAIRA"]
["A14379","ABAIRA"]
["A14380","ABAIRA"]
["A14376","ABAIRA"]
["A14345","ABAIRA"]
["A14382","ABAIRA"]
["A14381","ABAIRA"]
["A34518","ABAIRA"]
["A20969","ABAIRA"]
["A20870","ABAIRA"]
["A20858","ABAIRA"]
["A20857","ABAIRA"]
["A20854","ABAIRA"]
["A20855","ABAIRA"]
["A20856","ABAIRA"]
["A20862","ABAIRA"]
["A34511","PIATA"]
["A34510","PIATA"]
["A20972","PIATA"]
["A20968","ABAIRA"]
["A20963","ABAIRA"]
["A34418","PIATA"]
["A34517","PIATA"]
["A34507","PIATA"]
["A34516","PIATA"]
["A20978","PIATA"]
["A20964","ABAIRA"]
["A20966","ABAIRA"]
["A34662","ABAIRA"]
["A51551","ABAIRA"]
["A34521","ABAIRA"]
["A34522","ABAIRA"]
["A14373","ABAIRA"]
["A34416","PIATA"]
["A34506","PIATA"]
["H24758","ALAGOINHAS"]
["H26402","ALAGOINHAS"]
["H26434","ALAGOINHAS"]
["H26435","ALAGOINHAS"]
["H26436","ALAGOINHAS"]
["H26440","ALAGOINHAS"]
["H26441","ALAGOINHAS"]
["H26442","ALAGOINHAS"]
["H26444","ALAGOINHAS"]
["H26445","ALAGOINHAS"]
["H26447","ALAGOINHAS"]
["H26448","ALAGOINHAS"]
["H26449","ALAGOINHAS"]
["H26450","ALAGOINHAS"]
["H26453","ALAGOINHAS"]
["H26455","ALAGOINHAS"]
["H26456","ALAGOINHAS"]
["H26457","ALAGOINHAS"]
["H26461","ALAGOINHAS"]
["H26462","ALAGOINHAS"]
["H26467","ALAGOINHAS"]
["H26409","ALAGOINHAS"]
["H26404","ALAGOINHAS"]
["H26413","ALAGOINHAS"]
["H26416","ALAGOINHAS"]
["H26417","ALAGOINHAS"]
["H26493","ALAGOINHAS"]
["H26496","ALAGOINHAS"]
["H26498","ALAGOINHAS"]
["K07034","CRISTOPOLIS"]
["K07035","CRISTOPOLIS"]
["K07036","CRISTOPOLIS"]
["K07037","CRISTOPOLIS"]
["T14740","ANGICAL"]
["T08089","CRISTOPOLIS"]
["K07731","CRISTOPOLIS"]
["K07065","CRISTOPOLIS"]
["K07066","CRISTOPOLIS"]
["K07068","CRISTOPOLIS"]
["K07069","CRISTOPOLIS"]
["K07070","CRISTOPOLIS"]
["K07081","CRISTOPOLIS"]
["K07083","CRISTOPOLIS"]
["K07085","CRISTOPOLIS"]
["K07086","CRISTOPOLIS"]
["K07087","CRISTOPOLIS"]
["K07091","TABOCAS DO BREJO VELHO"]
["K07095","TABOCAS DO BREJO VELHO"]
["K07096","TABOCAS DO BREJO VELHO"]
["K07097","TABOCAS DO BREJO VELHO"]
["K07111","TABOCAS DO BREJO VELHO"]
["K07112","TABOCAS DO BREJO VELHO"]
["K07116","TABOCAS DO BREJO VELHO"]
["K07117","TABOCAS DO BREJO VELHO"]
["K07118","TABOCAS DO BREJO VELHO"]
["K07122","TABOCAS DO BREJO VELHO"]
["K07123","TABOCAS DO BREJO VELHO"]
["K07124","TABOCAS DO BREJO VELHO"]
["K07132","TABOCAS DO BREJO VELHO"]
["K07133","TABOCAS DO BREJO VELHO"]
["K07134","TABOCAS DO BREJO VELHO"]
["K07135","TABOCAS DO BREJO VELHO"]
["K07145","CRISTOPOLIS"]
["K07147","TABOCAS DO BREJO VELHO"]
["K07077","CRISTOPOLIS"]
["K07078","CRISTOPOLIS"]
["T16667","CRISTOPOLIS"]
["K02345","WANDERLEY"]
["K01910","WANDERLEY"]
["K01908","WANDERLEY"]
["K07054","CRISTOPOLIS"]
["K02358","WANDERLEY"]
["K02337","COTEGIPE"]
["K02320","COTEGIPE"]
["K07023","CRISTOPOLIS"]
["K07114","CRISTOPOLIS"]
["K02227","ANGICAL"]
["K02099","ANGICAL"]
["K07670","CRISTOPOLIS"]
["K07677","WANDERLEY"]
["T13684","COTEGIPE"]
["T13685","COTEGIPE"]
["T13686","COTEGIPE"]
["K07021","CRISTOPOLIS"]
["T13671","TABOCAS DO BREJO VELHO"]
["T13677","TABOCAS DO BREJO VELHO"]
["T13672","TABOCAS DO BREJO VELHO"]
["T13674","TABOCAS DO BREJO VELHO"]
["T14743","COTEGIPE"]
["T14738","CRISTOPOLIS"]
["T13601","CRISTOPOLIS"]
["T14745","COTEGIPE"]
["T25191","CRISTOPOLIS"]
["T26162","COTEGIPE"]
["T26126","ANGICAL"]
["T26117","WANDERLEY"]
["F10386","SALVADOR"]
["F24808","SALVADOR"]
["F13768","SALVADOR"]
["F23963","SALVADOR"]
["F22058","SALVADOR"]
["F26205","SALVADOR"]
["F26501","SALVADOR"]
["F26500","SALVADOR"]
["F26839","SALVADOR"]
["F26856","SALVADOR"]
["F26857","SALVADOR"]
["F29497","SALVADOR"]
["F29495","SALVADOR"]
["F27360","SALVADOR"]
["F26491","SALVADOR"]
["F29040","SALVADOR"]
["F24689","SALVADOR"]
["F26492","SALVADOR"]
["F29354","SALVADOR"]
["F29370","SALVADOR"]
["A77810","PIATA"]
["A77190","PIATA"]
["A77808","PIATA"]
["A77807","PIATA"]
["A77805","PIATA"]
["A77804","PIATA"]
["A77803","PIATA"]
["A77811","PIATA"]
["A77817","PIATA"]
["A77809","PIATA"]
["A77823","ABAIRA"]
["A77850","ABAIRA"]
["A90138","ABAIRA"]
["A12576","ABAIRA"]
["A94136","ABAIRA"]
["A94133","ABAIRA"]
["A94132","ABAIRA"]
["A91760","ABAIRA"]
["A91763","ABAIRA"]
["A93772","PIATA"]
["A97213","PIATA"]
["A97217","PIATA"]
["A97216","PIATA"]
["A97215","PIATA"]
["A98216","PIATA"]
["A98217","PIATA"]
["A98845","PIATA"]
["A98841","PIATA"]
["A98843","PIATA"]
["A99314","PIATA"]
["A99313","PIATA"]
["S00950","PIATA"]
["S00916","PIATA"]
["S00902","PIATA"]
["S00901","PIATA"]
["S00905","PIATA"]
["S00906","PIATA"]
["S00908","PIATA"]
["S00909","PIATA"]
["S00941","PIATA"]
["S00912","PIATA"]
["S00933","PIATA"]
["S00937","PIATA"]
["S00934","PIATA"]
["H24703","ALAGOINHAS"]
["H24704","ALAGOINHAS"]
["H24705","ALAGOINHAS"]
["H24706","ALAGOINHAS"]
["H24707","ALAGOINHAS"]
["H24708","ALAGOINHAS"]
["H24709","ALAGOINHAS"]
["H24711","ALAGOINHAS"]
["H24712","ALAGOINHAS"]
["H24714","ALAGOINHAS"]
["H24716","ALAGOINHAS"]
["H24717","ALAGOINHAS"]
["H24718","ALAGOINHAS"]
["H24719","ALAGOINHAS"]
["H24721","ALAGOINHAS"]
["H24726","ALAGOINHAS"]
["H24727","ALAGOINHAS"]
["H26422","ALAGOINHAS"]
["H26423","ALAGOINHAS"]
["H37772","ALAGOINHAS"]
["H26426","ALAGOINHAS"]
["H26427","ALAGOINHAS"]
["H26428","ALAGOINHAS"]
["H26429","ALAGOINHAS"]
["H26430","ALAGOINHAS"]
["H26432","ALAGOINHAS"]
["H26433","ALAGOINHAS"]
["H24742","ALAGOINHAS"]
["H24743","ALAGOINHAS"]
["H24747","ALAGOINHAS"]
["H24748","ALAGOINHAS"]
["H24749","ALAGOINHAS"]
["H24753","ALAGOINHAS"]
["H24756","ALAGOINHAS"]
["H24757","ALAGOINHAS"]
["H24759","ALAGOINHAS"]
["H28131","ALAGOINHAS"]
["H28132","ALAGOINHAS"]
["H26472","ALAGOINHAS"]
["H26499","ALAGOINHAS"]
["H24720","ALAGOINHAS"]
["H24724","ALAGOINHAS"]
["H24754","ALAGOINHAS"]
["H26469","ALAGOINHAS"]
["H26470","ALAGOINHAS"]
["H26483","ALAGOINHAS"]
["W85724","ALAGOINHAS"]
["H26485","ALAGOINHAS"]
["H24728","ALAGOINHAS"]
["H24730","ALAGOINHAS"]
["T25838","CRISTOPOLIS"]
["T27379","CRISTOPOLIS"]
["T27380","CRISTOPOLIS"]
["T27381","CRISTOPOLIS"]
["T27382","CRISTOPOLIS"]
["T27376","CRISTOPOLIS"]
["T27133","WANDERLEY"]
["T27013","CRISTOPOLIS"]
["T27014","CRISTOPOLIS"]
["T27015","CRISTOPOLIS"]
["T27113","ANGICAL"]
["T27360","ANGICAL"]
["T27008","CRISTOPOLIS"]
["T27515","ANGICAL"]
["T27522","ANGICAL"]
["T25523","TABOCAS DO BREJO VELHO"]
["T25524","TABOCAS DO BREJO VELHO"]
["T25526","TABOCAS DO BREJO VELHO"]
["T25529","TABOCAS DO BREJO VELHO"]
["T25533","TABOCAS DO BREJO VELHO"]
["T27993","ANGICAL"]
["T27994","ANGICAL"]
["T27999","ANGICAL"]
["T28100","ANGICAL"]
["T25527","TABOCAS DO BREJO VELHO"]
["T28053","CRISTOPOLIS"]
["T27516","ANGICAL"]
["T27518","COTEGIPE"]
["T27521","COTEGIPE"]
["T27519","COTEGIPE"]
["T27927","WANDERLEY"]
["T27928","WANDERLEY"]
["T27929","WANDERLEY"]
["T27936","WANDERLEY"]
["T27932","WANDERLEY"]
["T27934","WANDERLEY"]
["T27935","WANDERLEY"]
["T27944","WANDERLEY"]
["T27937","WANDERLEY"]
["T27938","WANDERLEY"]
["F32279","SALVADOR"]
["F33554","SALVADOR"]
["F33553","SALVADOR"]
["F33729","SALVADOR"]
["F34122","SALVADOR"]
["534707","SALVADOR"]
["F34606","SALVADOR"]
["F34605","SALVADOR"]
["F36544","SALVADOR"]
["F34121","SALVADOR"]
["A07047","ENCRUZILHADA"]
["A07052","ENCRUZILHADA"]
["A07048","ENCRUZILHADA"]
["A07057","ENCRUZILHADA"]
["A07046","ENCRUZILHADA"]
["A07054","ENCRUZILHADA"]
["A07051","ENCRUZILHADA"]
["A07050","ENCRUZILHADA"]
["S00896","ENCRUZILHADA"]
["S01991","ENCRUZILHADA"]
["A99519","ENCRUZILHADA"]
["A22189","MUCUGE"]
["A22175","MUCUGE"]
["S00921","PIATA"]
["S00926","PIATA"]
["S00925","PIATA"]
["S00945","PIATA"]
["S00911","PIATA"]
["S00930","PIATA"]
["S00929","PIATA"]
["S00918","PIATA"]
["A98499","ABAIRA"]
["S02083","ABAIRA"]
["S01669","ABAIRA"]
["S01671","PIATA"]
["S01258","PIATA"]
["S03372","PIATA"]
["S03371","PIATA"]
["S03361","PIATA"]
["S03359","PIATA"]
["S03362","PIATA"]
["S03356","PIATA"]
["S03353","PIATA"]
["S03352","PIATA"]
["S03351","PIATA"]
["S03350","PIATA"]
["S02855","PIATA"]
["A98846","PIATA"]
["S04456","PIATA"]
["S04454","ABAIRA"]
["S04453","ABAIRA"]
["S05561","PIATA"]
["S05546","ABAIRA"]
["S05545","ABAIRA"]
["S05553","ABAIRA"]
["S05598","PIATA"]
["S05573","PIATA"]
["S05550","ABAIRA"]
["S04401","PIATA"]
["S04403","PIATA"]
["S04408","PIATA"]
["S04405","PIATA"]
["S04406","PIATA"]
["S04409","PIATA"]
["S04411","PIATA"]
["H24731","ALAGOINHAS"]
["H24732","ALAGOINHAS"]
["H24733","ALAGOINHAS"]
["H24734","ALAGOINHAS"]
["H56181","ALAGOINHAS"]
["T31021","CRISTOPOLIS"]
["T31480","COTEGIPE"]
["F31795","SALVADOR"]
["F33899","CAMACARI"]
["F41154","CAMACARI"]
["J17854","AMERICA DOURADA"]
["J50550","AMERICA DOURADA"]
["A44129","UBAITABA"]
["H26740","ALAGOINHAS"]
["A55436","SANTA TEREZINHA"]
["H57975","AMERICA DOURADA"]
["F23122","SALVADOR"]
["A47104","ELISIO MEDRADO"]
["F01178","SALVADOR"]
["J11690","JAGUARARI"]
["A56994","CARAVELAS"]
["J55930","ANDORINHA"]
["H62994","UAUA"]
["H28887","ALAGOINHAS"]
["J59179","CURACA"]
["F44438","CAMACARI"]
["J18634","AMERICA DOURADA"]
["T02526","BOM JESUS DA LAPA"]
["J02615","CAPIM GROSSO"]
["T02576","BOM JESUS DA LAPA"]
["T26327","BOM JESUS DA LAPA"]
["T30975","BOM JESUS DA LAPA"]
["J51576","ABARE"]
["T02012","BOM JESUS DA LAPA"]
["T37681","BOM JESUS DA LAPA"]
["A66478","UNA"]
["A29706","BELMONTE"]
["T30256","BOM JESUS DA LAPA"]
["M00220","VERA CRUZ"]
["J06133","CASA NOVA"]
["A47198","AMARGOSA"]
["A47125","ELISIO MEDRADO"]
["J54432","CASA NOVA"]
["A55489","MUTUIPE"]
["J57013","CASA NOVA"]
["H66265","SANTA TEREZINHA"]
["H68502","AMARGOSA"]
["H73456","BONITO"]
["H35834","BONITO"]
["F25390","SALVADOR"]
["H51422","BONITO"]
["H08675","AMELIA RODRIGUES"]
["F36575","SALVADOR"]
["H37607","TEODORO SAMPAIO"]
["H10769","CORACAO DE MARIA"]
["H10799","CORACAO DE MARIA"]
["H99686","ALAGOINHAS"]
["H36133","PIATA"]
["H51392","CORACAO DE MARIA"]
["A76963","VERA CRUZ"]
["A68789","VERA CRUZ"]
["M00112","VERA CRUZ"]
["524784","SALVADOR"]
["H09769","AMELIA RODRIGUES"]
["H08772","AMELIA RODRIGUES"]
["A47161","AMARGOSA"]
["J53777","MULUNGU DO MORRO"]
["F20823","SALVADOR"]
["H45846","SEABRA"]
["T32988","BROTAS DE MACAUBAS"]
["H19379","ICHU"]
["H20464","CONCEICAO DO COITE"]
["A52540","CRUZ DAS ALMAS"]
["J50796","CURACA"]
["H20492","CONCEICAO DO COITE"]
["H20693","RIACHAO DO JACUIPE"]
["T37401","BOQUIRA"]
["H55369","RIACHAO DO JACUIPE"]
["A60169","CRUZ DAS ALMAS"]
["H36922","PEDRAO"]
["H70729","CONCEICAO DO COITE"]
["J15110","SOUTO SOARES"]
["T34988","IBITIARA"]
["J02721","JUAZEIRO"]
["J17440","BARRA DO MENDES"]
["H13942","PE DE SERRA"]
["J17701","IBIPEBA"]
["J17733","BARRO ALTO"]
["J53764","CANARANA"]
["A37265","ILHEUS"]
["T06479","IBITIARA"]
["F29880","SALVADOR"]
["A69307","SAPEACU"]
["F36101","SALVADOR"]
["Y00341","ITABUNA"]
["A61484","CRUZ DAS ALMAS"]
["A62848","SAPEACU"]
["F33773","SALVADOR"]
["A61459","CRUZ DAS ALMAS"]
["F01242","SALVADOR"]
["F29863","SALVADOR"]
["F18200","SALVADOR"]
["T32331","MACAUBAS"]
["A66604","CANAVIEIRAS"]
["A37084","BUERAREMA"]
["K01227","BARREIRAS"]
["K01198","BARREIRAS"]
["K00630","BARREIRAS"]
["A65518","CAMAMU"]
["T35036","BARREIRAS"]
["H17692","CICERO DANTAS"]
["T07018","BARRA"]
["H18319","CICERO DANTAS"]
["F43537","CANDEIAS"]
["T30628","GUANAMBI"]
["H70099","CICERO DANTAS"]
["K00735","BARREIRAS"]
["H30398","ESPLANADA"]
["K00011","BARREIRAS"]
["K00123","BARREIRAS"]
["H36611","ESPLANADA"]
["T33652","BURITIRAMA"]
["K01007","BARREIRAS"]
["H51147","CONDE"]
["K00590","BARREIRAS"]
["J55962","ANDORINHA"]
["J15926","LAPAO"]
["A71990","RAFAEL JAMBEIRO"]
["A71865","RAFAEL JAMBEIRO"]
["A77531","RAFAEL JAMBEIRO"]
["J14838","LAPAO"]
["F31853","SIMOES FILHO"]
["A45876","CAMACA"]
["A93117","RAFAEL JAMBEIRO"]
["A45005","CAMACA"]
["A45774","SANTA LUZIA"]
["J13684","IRECE"]
["A45248","CAMACA"]
["A71649","CASTRO ALVES"]
["J13699","CENTRAL"]
["A59169","SANTA TEREZINHA"]
["J14247","CENTRAL"]
["J09650","ITIUBA"]
["A79309","SAPEACU"]
["H25894","CATU"]
["H27041","ALAGOINHAS"]
["T28035","BARREIRAS"]
["A52966","MASCOTE"]
["T36007","BARREIRAS"]
["A65206","CAMAMU"]
["A52730","MASCOTE"]
["A52691","CAMACA"]
["K01619","LUIS EDUARDO MAGALHAES"]
["A90747","MASCOTE"]
["Y06507","CAMACA"]
["H23636","CATU"]
["H65684","JUAZEIRO"]
["T04396","CARINHANHA"]
["J56442","JUAZEIRO"]
["J05329","JUAZEIRO"]
["A52147","PAU BRASIL"]
["A52341","ITAPETINGA"]
["F21428","SALVADOR"]
["F34983","SALVADOR"]
["T30859","CORRENTINA"]
["T33045","CORRENTINA"]
["F06597","SALVADOR"]
["H56824","POJUCA"]
["A30496","CANAVIEIRAS"]
["A78237","COARACI"]
["T12383","LUIS EDUARDO MAGALHAES"]
["A31334","COARACI"]
["J13500","JOAO DOURADO"]
["T37667","COCOS"]
["A78743","ITAJUIPE"]
["T13167","SANTA MARIA DA VITORIA"]
["T13265","CORRENTINA"]
["T13383","SANTA MARIA DA VITORIA"]
["H26504","POJUCA"]
["J52903","SAO GABRIEL"]
["H28673","ARACAS"]
["J58460","UIBAI"]
["H21790","EUCLIDES DA CUNHA"]
["T06270","SAO FELIX DO CORIBE"]
["H21517","EUCLIDES DA CUNHA"]
["T28185","SAO FELIX DO CORIBE"]
["T03962","SANTA MARIA DA VITORIA"]
["H47035","EUCLIDES DA CUNHA"]
["H29057","CAMACARI"]
["A43983","SANTA CRUZ CABRALIA"]
["J09931","ITIUBA"]
["T09960","SAO FELIX DO CORIBE"]
["A93617","COARACI"]
["H30199","CAMACARI"]
["J08965","JUSSARA"]
["M00131","MATA DE SAO JOAO"]
["T37149","JABORANDI"]
["J12035","SAO GABRIEL"]
["A32530","COARACI"]
["J12106","UIBAI"]
["H21597","TUCANO"]
["H51861","MONTE SANTO"]
["T11662","JABORANDI"]
["H20917","EUCLIDES DA CUNHA"]
["H20752","EUCLIDES DA CUNHA"]
["T05808","URANDI"]
["T00026","GUANAMBI"]
["T00180","GUANAMBI"]
["H67902","MONTE SANTO"]
["H67937","MONTE SANTO"]
["A49526","ILHEUS"]
["A70657","ILHEUS"]
["F03166","SALVADOR"]
["F23312","SALVADOR"]
["H20851","MONTE SANTO"]
["A90427","ILHEUS"]
["T05445","SEBASTIAO LARANJEIRAS"]
["A43698","PORTO SEGURO"]
["A43651","PORTO SEGURO"]
["J53580","MONTE SANTO"]
["H49154","CRISOPOLIS"]
["Y03329","EUNAPOLIS"]
["H66862","CRISOPOLIS"]
["A40627","EUNAPOLIS"]
["F41666","CAMACARI"]
["F47003","CAMACARI"]
["A40069","EUNAPOLIS"]
["A37984","EUNAPOLIS"]
["T00847","GUANAMBI"]
["T00554","GUANAMBI"]
["T01019","CANDIBA"]
["F33583","CAMACARI"]
["A68977","ILHEUS"]
["T32643","GUANAMBI"]
["A93462","ILHEUS"]
["J04180","SAUDE"]
["H38238","ACAJUTIBA"]
["A34925"]
["J63372","CALDEIRAO GRANDE"]
["H45061","CRISOPOLIS"]
["T31588","IBOTIRAMA"]
["F41639","CAMACARI"]
["H51075","ESPLANADA"]
["A50565","PORTO SEGURO"]
["J02352","UMBURANAS"]
["J03786","OUROLANDIA"]
["T27729","MUQUEM DO SAO FRANCISCO"]
["J03989","JACOBINA"]
["J02378","OUROLANDIA"]
["J05655","MIRANGABA"]
["T05167","GUAJERU"]
["T41326","IGAPORA"]
["J04935","CAEN"]
["J03920","CAEN"]
["J52362","OUROLANDIA"]
["F40617","CAMACARI"]
["J04952","CAEN"]
["J59448","JACOBINA"]
["H70507","UMBURANAS"]
["H62640","CAPIM GROSSO"]
["A41118","GONGOGI"]
["T42485","JACARACI"]
["H29185","ENTRE RIOS"]
["A53937","IGRAPIUNA"]
["A51829","IBIRAPITANGA"]
["A46732","ITAPITANGA"]
["A46799","AURELINO LEAL"]
["Y02344","SANTA CRUZ CABRALIA"]
["J02276","CAPIM GROSSO"]
["J02132","CAEN"]
["J23113","QUIXABEIRA"]
["F40698","SIMOES FILHO"]
["T05866","MORTUGABA"]
["H29378","ENTRE RIOS"]
["J54780","QUIXABEIRA"]
["H68835","ENTRE RIOS"]
["S03538","GUAJERU"]
["A41573","EUNAPOLIS"]
["A67889","NOVA IBIA"]
["J17033","LAPAO"]
["F43765","SAO FRANCISCO DO CONDE"]
["J16654","LAPAO"]
["T17351","JEREMOABO"]
["J16391","LAPAO"]
["J15641","JOAO DOURADO"]
["A79701","GANDU"]
["T17974","CANUDOS"]
["H02606","FEIRA DE SANTANA"]
["Y01658","UBATA"]
["A46864","IBIRAPITANGA"]
["H44389","FEIRA DE SANTANA"]
["H02802","FEIRA DE SANTANA"]
["A90749","CAMAMU"]
["H14278","FEIRA DE SANTANA"]
["Y02463","IBIRAPITANGA"]
["J16059","JOAO DOURADO"]
["T17309","JEREMOABO"]
["A78512","ITAPEBI"]
["F02726","SALVADOR"]
["J55345","JUAZEIRO"]
["F02730","SALVADOR"]
["F22212","SALVADOR"]
["F25638","SALVADOR"]
["F22918","SALVADOR"]
["F09939","SALVADOR"]
["H04029","FEIRA DE SANTANA"]
["T05391","IUIU"]
["A78517","ITAPEBI"]
["F02973","SALVADOR"]
["H07454","FEIRA DE SANTANA"]
["K30159","PALMAS DE MONTE ALTO"]
["F24114","SALVADOR"]
["T05349","MALHADA"]
["T05359","MALHADA"]
["H48314","FEIRA DE SANTANA"]
["H47440","FEIRA DE SANTANA"]
["T04906","MALHADA"]
["H51130","FEIRA DE SANTANA"]
["T10353","OLIVEIRA DOS BREJINHOS"]
["T29462","NOVO HORIZONTE"]
["T29595","IPUPIARA"]
["H43072","FEIRA DE SANTANA"]
["H45961","FEIRA DE SANTANA"]
["T38025","BROTAS DE MACAUBAS"]
["T38917","IPUPIARA"]
["T10335","OLIVEIRA DOS BREJINHOS"]
["T25781","OLIVEIRA DOS BREJINHOS"]
["A21490","ITAJU DO COLONIA"]
["T13916","MORPARA"]
["T12616","FEIRA DA MATA"]
["H04779","CORACAO DE MARIA"]
["H03244","FEIRA DE SANTANA"]
["T06995","IBOTIRAMA"]
["H03292","FEIRA DE SANTANA"]
["A65419","IGRAPIUNA"]
["H03353","FEIRA DE SANTANA"]
["H04264","FEIRA DE SANTANA"]
["Y10879","IGRAPIUNA"]
["F33509","CAMACARI"]
["H03450","FEIRA DE SANTANA"]
["T00853","PINDAI"]
["J00945","JUAZEIRO"]
["H04681","FEIRA DE SANTANA"]
["T29008","PINDAI"]
["A36167","ILHEUS"]
["A93645","ILHEUS"]
["J00077","JUAZEIRO"]
["F45846","MATA DE SAO JOAO"]
["T35680","PARATINGA"]
["A38039","ITAPE"]
["T36697","PARATINGA"]
["A90343","IBICARAI"]
["F05710","SALVADOR"]
["T29858","RIACHAO DAS NEVES"]
["J00722","JUAZEIRO"]
["T39137","RIACHAO DAS NEVES"]
["A90620","ILHEUS"]
["T06244","SANTANA"]
["Y00127","ILHEUS"]
["T15300","RIACHAO DAS NEVES"]
["J17515","MORRO DO CHAPEU"]
["T27890","SANTA RITA DE CASSIA"]
["T03817","SITIO DO MATO"]
["F02644","SALVADOR"]
["F15287","SALVADOR"]
["T31545","FORMOSA DO RIO PRETO"]
["F45366","CAMACARI"]
["T37787","SANTA RITA DE CASSIA"]
["H02787","FEIRA DE SANTANA"]
["T39022","SANTA RITA DE CASSIA"]
["H03062","FEIRA DE SANTANA"]
["A54129","ILHEUS"]
["Y02438","ILHEUS"]
["T16058","RIACHAO DAS NEVES"]
["A54305","ILHEUS"]
["F03088","SALVADOR"]
["H71358","IPIRA"]
["J14580","VARZEA DO POCO"]
["J17602","VARZEA NOVA"]
["J03822","MIGUEL CALMON"]
["H07179","ANTONIO CARDOSO"]
["A78476","ILHEUS"]
["A31383","ILHEUS"]
["K01668","LUIS EDUARDO MAGALHAES"]
["H57093","ANTONIO CARDOSO"]
["T38565","LUIS EDUARDO MAGALHAES"]
["H13473","IPIRA"]
["H12193","ANGUERA"]
["F03913","SALVADOR"]
["J18561","IBITITA"]
["F03056","SALVADOR"]
["F23009","SALVADOR"]
["H54124","IPIRA"]
["F20218","SALVADOR"]
["J16046","IBITITA"]
["H00666","FEIRA DE SANTANA"]
["A57508","JEQUIE"]
["T11220","SAO DESIDERIO"]
["A18175","ITAGIBA"]
["T31416","SAO DESIDERIO"]
["J12449","MIGUEL CALMON"]
["T35266","RIACHO DE SANTANA"]
["T11273","SAO DESIDERIO"]
["F05113","SALVADOR"]
["F20674","SALVADOR"]
["A25734","IPIAU"]
["F02094","SALVADOR"]
["F33981","ITANAGRA"]
["J10508","PAULO AFONSO"]
["J10614","PAULO AFONSO"]
["A04725","ITAGI"]
["H00322","FEIRA DE SANTANA"]
["H01460","FEIRA DE SANTANA"]
["T40510","SANTA MARIA DA VITORIA"]
["H32761","ITABERABA"]
["T15428","SANTANA"]
["A67771","ITAGIBA"]
["T15148","SERRA DOURADA"]
["T28484","SANTANA"]
["A27179","ITAGIBA"]
["A67221","ITAGIBA"]
["A47586","ITAGIBA"]
["J19068","PAULO AFONSO"]
["T21265","PAULO AFONSO"]
["T00975","SEBASTIAO LARANJEIRAS"]
["F03790","SALVADOR"]
["A25793","BARRA DO ROCHA"]
["F14175","SALVADOR"]
["J10240","PAULO AFONSO"]
["J60070","PAULO AFONSO"]
["J10357","PAULO AFONSO"]
["T15410","CANAPOLIS"]
["T15447","CANAPOLIS"]
["H24522","INHAMBUPE"]
["T47587","MACAUBAS"]
["A79808","ITAGIBA"]
["A25590","IPIAU"]
["T14205","MUNDO NOVO"]
["H43421","ITABERABA"]
["T14266","MUNDO NOVO"]
["H68810","APORA"]
["A29876","IPIAU"]
["A04950","IBIRATAIA"]
["Y25711","TABOCAS DO BREJO VELHO"]
["H25735","ENTRE RIOS"]
["A47417","IPIAU"]
["T37019","SERRA DOURADA"]
["H24868","INHAMBUPE"]
["H25712","INHAMBUPE"]
["H25526","APORA"]
["T42304","TABOCAS DO BREJO VELHO"]
["A27366","IPIAU"]
["S00997","CARAIBAS"]
["F18402","LAURO DE FREITAS"]
["S04910","CARAIBAS"]
["F21492","LAURO DE FREITAS"]
["F26119","LAURO DE FREITAS"]
["F10417","LAURO DE FREITAS"]
["F31881","LAURO DE FREITAS"]
["S00622","BARRA DA ESTIVA"]
["F34059","LAURO DE FREITAS"]
["F34045","SALVADOR"]
["H30622","ARACAS"]
["H28279","ITANAGRA"]
["H51380","ITANAGRA"]
["T20427","MAIRI"]
["T15922","BAIXA GRANDE"]
["A09423","BRUMADO"]
["A91921","TREMEDAL"]
["T16004","BAIXA GRANDE"]
["J54867","BAIXA GRANDE"]
["A93771","ARACATU"]
["A60895","WENCESLAU GUIMARAES"]
["J10300","PAULO AFONSO"]
["J10024","PAULO AFONSO"]
["A93290","NILO PECANHA"]
["Y12541","MALHADA DE PEDRAS"]
["A79871","ITAJUIPE"]
["H70891","PAULO AFONSO"]
["H35727","IRAQUARA"]
["H31125","ITABERABA"]
["H31030","ITABERABA"]
["A10249","BRUMADO"]
["A32328","ITAJUIPE"]
["A10137","BRUMADO"]
["A15407","BRUMADO"]
["J21038","GLORIA"]
["H66418","GLORIA"]
["A92232","BRUMADO"]
["A64904","NILO PECANHA"]
["A64736","TEOLANDIA"]
["H31219","ITABERABA"]
["H65438","NORDESTINA"]
["A47724","URUCUCA"]
["S09867","VITORIA DA CONQUISTA"]
["F23135","LAURO DE FREITAS"]
["H47357","IBIQUERA"]
["A06453","CANDIDO SALES"]
["H31485","ITABERABA"]
["Y09506","ENCRUZILHADA"]
["S02113","VITORIA DA CONQUISTA"]
["F15217","LAURO DE FREITAS"]
["F18230","LAURO DE FREITAS"]
["A03032","VITORIA DA CONQUISTA"]
["J56358","MACURURE"]
["F36757","LAURO DE FREITAS"]
["H31736","ITABERABA"]
["A97351","VITORIA DA CONQUISTA"]
["H31292","ITABERABA"]
["A47686","URUCUCA"]
["S09656","ITAPETINGA"]
["J07980","CAMPO FORMOSO"]
["A70444","VITORIA DA CONQUISTA"]
["J50150","JAGUARARI"]
["A58195","BARRA DO CHOCA"]
["A58150","BARRA DO CHOCA"]
["H68634","CURACA"]
["H63004","CAMPO FORMOSO"]
["F06551","SALVADOR"]
["F04323","SALVADOR"]
["H43180","IRAQUARA"]
["S02256","VITORIA DA CONQUISTA"]
["F25899","SALVADOR"]
["A38616","CANDIDO SALES"]
["J06943","CAMPO FORMOSO"]
["J07738","CAMPO FORMOSO"]
["J06728","CAMPO FORMOSO"]
["J60165","CAMPO FORMOSO"]
["A38692","PLANALTO"]
["A17557","CAATIBA"]
["F20847","SALVADOR"]
["F04162","SALVADOR"]
["J51895","CAMPO ALEGRE DE LOURDES"]
["A07570","ITAPETINGA"]
["T40825","MACAUBAS"]
["S09947","TANQUE NOVO"]
["A23160","MACARANI"]
["F04604","SALVADOR"]
["A97103","RIBEIRAO DO LARGO"]
["A15221","BOTUPORA"]
["A01342","VITORIA DA CONQUISTA"]
["A00864","VITORIA DA CONQUISTA"]
["A15387","MACAUBAS"]
["F04477","SALVADOR"]
["A07865","ITAPETINGA"]
["A49820","BOTUPORA"]
["A02057","VITORIA DA CONQUISTA"]
["M00204","VERA CRUZ"]
["A98002","IRAJUBA"]
["J08750","NORDESTINA"]
["A76047","VERA CRUZ"]
["905241","SALVADOR"]
["F05296","SALVADOR"]
["A53286","JAGUAQUARA"]
["H50939","MILAGRES"]
["A16325","JAGUAQUARA"]
["A99960","JEQUIE"]
["A10704","JEQUIE"]
["S06582","VITORIA DA CONQUISTA"]
["A38269","ITAQUARA"]
["H66538","UBAIRA"]
["J11906","SAUDE"]
["Y10947","WENCESLAU GUIMARAES"]
["A09031","JEQUIE"]
["A16066","JAGUAQUARA"]
["H58545","ITATIM"]
["A17214","ITAQUARA"]
["A58835","MUTUIPE"]
["F40168","MADRE DE DEUS"]
["A28984","PRESIDENTE TANCREDO NEVES"]
["F46332","SALVADOR"]
["Y02767","ITAMARAJU"]
["A78185","LAJE"]
["F42878","CANDEIAS"]
["J11863","PILAO ARCADO"]
["H50978","JAGUARIPE"]
["T18560","ABARE"]
["A53184","JAGUAQUARA"]
["J11827","CAMPO ALEGRE DE LOURDES"]
["J10394"]
["A62779","JUCURUCU"]
["S03974","JAGUAQUARA"]
["J52883","PILAO ARCADO"]
["A61707","ITAMARAJU"]
["J57529","CAMPO ALEGRE DE LOURDES"]
["Y01054","TEIXEIRA DE FREITAS"]
["A74267","PRADO"]
["J51378","SENHOR DO BONFIM"]
["A24817","ITAMARAJU"]
["A62445","MUCURI"]
["Y01484","MUCURI"]
["A74381","PRADO"]
["A64351","MEDEIROS NETO"]
["A26129","MEDEIROS NETO"]
["A26768","IBIRAPUA"]
["J20601","SENHOR DO BONFIM"]
["J20586","PINDOBACU"]
["A39666","CARAVELAS"]
["A26868","TEIXEIRA DE FREITAS"]
["J55459","ANTONIO GONCALVES"]
["H26055","MURITIBA"]
["F10106","SALVADOR"]
["J14673","ITAGUACU DA BAHIA"]
["J21032","SENHOR DO BONFIM"]
["J14671","ITAGUACU DA BAHIA"]
["A65672","ARATUIPE"]
["H24380","ITAPICURU"]
["A93687","IBIRAPUA"]
["J57160","JAGUARARI"]
["A59883","VEREDA"]
["F32564","SALVADOR"]
["A63514","VEREDA"]
["H22975","OLINDINA"]
["A70964","MUNIZ FERREIRA"]
["H71945","ARATUIPE"]
["A06493","ITANHEM"]
["H54720","NAZARE"]
["F01560","SALVADOR"]
["J20092","SENHOR DO BONFIM"]
["J20350","SENHOR DO BONFIM"]
["A30928","IBIRAPUA"]
["A97827","ITANHEM"]
["A26488","LAJEDAO"]
["H23738","SATIRO DIAS"]
["J07218","SOBRADINHO"]
["500429","SALVADOR"]
["J06247","SOBRADINHO"]
["H54185","ITAPICURU"]
["A69928","TAPEROA"]
["F25410","SALVADOR"]
["F31727","SALVADOR"]
["F02959","SALVADOR"]
["H68532","OLINDINA"]
["F22660","SALVADOR"]
["A09897","JEQUIE"]
["A99179","JEQUIE"]
["F29849","SALVADOR"]
["F10399","SALVADOR"]
["A09924","JEQUIE"]
["A14732","JEQUIE"]
["H44953","SATIRO DIAS"]
["J18742","SANTA BRIGIDA"]
["J19172","PEDRO ALEXANDRE"]
["H52589","OLINDINA"]
["F31755","SALVADOR"]
["H58225","SENTO SE"]
["J07482","SOBRADINHO"]
["H68415","MONTE SANTO"]
["A19974","ITIRUCU"]
["J52849","SOBRADINHO"]
["A90517","MUCURI"]
["A62084","MUCURI"]
["A20185","LAJEDO DO TABOCAL"]
["A19930","ITIRUCU"]
["A62373","NOVA VICOSA"]
["A16807","LAFAIETE COUTINHO"]
["F28163","SALVADOR"]
["J06900","SOBRADINHO"]
["920880","SALVADOR"]
["J09364","SENTO SE"]
["A62241","NOVA VICOSA"]
["J09250","SENTO SE"]
["H22212","ADUSTINA"]
["H23012","CICERO DANTAS"]
["H47475","ADUSTINA"]
["S03698","BREJOES"]
["H53964","ADUSTINA"]
["A47956","PRADO"]
["A56863","PRADO"]
["J12271","TAPIRAMUTA"]
["J54817","TAPIRAMUTA"]
["A36252","MARACAS"]
["A36516","MARACAS"]
["F07523","SALVADOR"]
["A92945","MARCIONILIO SOUZA"]
["J08489","UMBURANAS"]
["A36372","BREJOES"]
["J52895","JUAZEIRO"]
["S04876","JAGUAQUARA"]
["J11203","SENTO SE"]
["H21464","FATIMA"]
["H68084","NOVO TRIUNFO"]
["A13284","LIVRAMENTO DE NOSSA SENHORA"]
["S04089","DOM BASILIO"]
["S09137","LIVRAMENTO DE NOSSA SENHORA"]
["T21108","VARZEA DA ROCA"]
["A43043","PORTO SEGURO"]
["F43495","SAO SEBASTIAO DO PASSE"]
["A48488","PORTO SEGURO"]
["F13109","SALVADOR"]
["H70703","NOVA FATIMA"]
["H68580","PE DE SERRA"]
["A14334","JUSSIAPE"]
["A15881","RIO DE CONTAS"]
["F32351","SALVADOR"]
["J14558","MAIRI"]
["J15843","XIQUE-XIQUE"]
["A13336","DOM BASILIO"]
["A51573","DOM BASILIO"]
["A43441","PORTO SEGURO"]
["A42097","TEIXEIRA DE FREITAS"]
["A42487","TEIXEIRA DE FREITAS"]
["A91203","PORTO SEGURO"]
["A42870","ALCOBACA"]
["F21865","SALVADOR"]
["H12701","CONCEICAO DO JACUIPE"]
["F23673","SALVADOR"]
["H12950","SAO SEBASTIAO DO PASSE"]
["F12917","SALVADOR"]
["H16553","RIBEIRA DO POMBAL"]
["A23719","POTIRAGUA"]
["A11599","ITARANTIM"]
["T14918","GENTIO DO OURO"]
["A11598","ITARANTIM"]
["A23414","ITARANTIM"]
["H56914","RIBEIRA DO POMBAL"]
["H22621","RIACHAO DO JACUIPE"]
["A29450","ILHEUS"]
["H49472","RIACHAO DO JACUIPE"]
["F35672","SALVADOR"]
["H17897","RIBEIRA DO AMPARO"]
["H55076","RIBEIRA DO POMBAL"]
["H16267","RIBEIRA DO POMBAL"]
["H16293","RIBEIRA DO POMBAL"]
["A08804","MAIQUINIQUE"]
["H11562","SERRINHA"]
["H12477","BIRITINGA"]
["H11380","SERRINHA"]
["Y07479","IGUAI"]
["A42312","TEIXEIRA DE FREITAS"]
["H91155","XIQUE-XIQUE"]
["A39189","TEIXEIRA DE FREITAS"]
["S04219","PLANALTINO"]
["H18246","CIPO"]
["Y01698","ALCOBACA"]
["H18277","CIPO"]
["F24528","SALVADOR"]
["F18545","SALVADOR"]
["A90011","ITORORO"]
["F18491","SALVADOR"]
["Y07989","ITORORO"]
["A11633","ITAJU DO COLONIA"]
["Y01386","VALENCA"]
["Y04698","VALENCA"]
["A22597","IBICUI"]
["A11846","ITAJU DO COLONIA"]
["A70102","CAIRU"]
["Y08486","IBICUI"]
["H11284","AGUA FRIA"]
["H45682","SERRINHA"]
["H47422","BIRITINGA"]
["H10152","SERRINHA"]
["A73074","VALENCA"]
["H10694","LAMARAO"]
["A90668","TEIXEIRA DE FREITAS"]
["A31803","CARAVELAS"]
["A17159","ITORORO"]
["A99067","PRESIDENTE JANIO QUADROS"]
["F21502","SALVADOR"]
["A10388","MAETINGA"]
["F32673","SALVADOR"]
["H48455","BIRITINGA"]
["S06942","CORDEIROS"]
["H06681","FEIRA DE SANTANA"]
["A00215","POCOES"]
["F23956","SALVADOR"]
["H36000","MARAGOGIPE"]
["A64669","VALENCA"]
["A70337","VALENCA"]
["A10471","CONDEUBA"]
["A98090","TREMEDAL"]
["A98155","PRESIDENTE JANIO QUADROS"]
["A10699","CONDEUBA"]
["A12303","CORDEIROS"]
["F08272","SALVADOR"]
["A10452","CONDEUBA"]
["H40589","SALINAS DA MARGARIDA"]
["A10798","CORDEIROS"]
["H06007","SANTA BARBARA"]
["Y11345","IGUAI"]
["Y09659","PLANALTO"]
["H06558","FEIRA DE SANTANA"]
["F24874","SALVADOR"]
["560855","CATU"]
["H08864","IPECAETA"]
["A00188","POCOES"]
["F11301","SALVADOR"]
["H08582","SANTO ESTEVAO"]
["H56632","SANTO ESTEVAO"]
["A46094","NOVA CANAA"]
["A97132","NOVA CANAA"]
["S09217","POCOES"]
["S09221","POCOES"]
["H40283","CANDEAL"]
["F33087","SAO SEBASTIAO DO PASSE"]
["S09904","NOVA CANAA"]
["A03558","VITORIA DA CONQUISTA"]
["H53188","TUCANO"]
["A01100","VITORIA DA CONQUISTA"]
["A04487","VITORIA DA CONQUISTA"]
["H57470","ARACI"]
["A03300","ANAGE"]
["A00653","VITORIA DA CONQUISTA"]
["H18546","TUCANO"]
["A00534","CARAIBAS"]
["H17076","TUCANO"]
["H60684","TUCANO"]
["A03214","VITORIA DA CONQUISTA"]
["A16535","CARAIBAS"]
["A01383","VITORIA DA CONQUISTA"]
["S04132","BELO CAMPO"]
["H28977","SANTO ESTEVAO"]
["H20043","QUIJINGUE"]
["Y06360","VITORIA DA CONQUISTA"]
["A03662","VITORIA DA CONQUISTA"]
["A49767","PLANALTO"]
["H52342","QUIJINGUE"]
["A01881","VITORIA DA CONQUISTA"]
["A15014","RIO DO ANTONIO"]
["T27126","BAIANOPOLIS"]
["A01560","VITORIA DA CONQUISTA"]
["A01501","VITORIA DA CONQUISTA"]
["K02109","RIACHAO DAS NEVES"]
["K07736","BAIANOPOLIS"]
["S09696","CARAIBAS"]
["H27000","ALAGOINHAS"]
["H01262","FEIRA DE SANTANA"]
["H29107","ALAGOINHAS"]
["A07106","ENCRUZILHADA"]
["H15667","TEOFILANDIA"]
["A92268","ANAGE"]
["A93803","VITORIA DA CONQUISTA"]
["H54536","ALAGOINHAS"]
["H57409","ALAGOINHAS"]
["A99269","CARAIBAS"]
["S00359","ANAGE"]
["S00771","VITORIA DA CONQUISTA"]
["A14254","TANHACU"]
["T38727","CAETITE"]
["S01276","BARRA DA ESTIVA"]
["H26912","ALAGOINHAS"]
["F09014","SALVADOR"]
["S01228","TANHACU"]
["H00891","FEIRA DE SANTANA"]
["H65947","ALAGOINHAS"]
["F32514","SALVADOR"]
["H05997","FEIRA DE SANTANA"]
["H17523","CONCEICAO DO COITE"]
["H05664","ANTONIO CARDOSO"]
["H26819","ALAGOINHAS"]
["T09276","CAETITE"]
["A21919","IBICOARA"]
["F06516","SALVADOR"]
["T30663","CAETITE"]
["A20721","BARRA DA ESTIVA"]
["A51710","ITAETE"]
["A72334","TANHACU"]
["T36704","CAETITE"]
["H71762","CONCEICAO DO COITE"]
["A67137","SANTO ANTONIO DE JESUS"]
["A71443","SAO MIGUEL DAS MATAS"]
["A18012","TANHACU"]
["T12082","LICINIO DE ALMEIDA"]
["H44172","FEIRA DE SANTANA"]
["A77461","SANTO ANTONIO DE JESUS"]
["H11487","SANTO AMARO"]
["T16756","MACAJUBA"]
["A75311","CONCEICAO DO ALMEIDA"]
["H56067","SANTO ANTONIO DE JESUS"]
["A14435","ITUACU"]
["H52499","SANTO ANTONIO DE JESUS"]
["H02006","FEIRA DE SANTANA"]
["A93754","ITUACU"]
["A66831","SANTO ANTONIO DE JESUS"]
["A76874","ARATUIPE"]
["H49589","FEIRA DE SANTANA"]
["H19977","CONCEICAO DO COITE"]
["H20573","BARROCAS"]
["A71450","VARZEDO"]
["H19853","CONCEICAO DO COITE"]
["H09973","SAUBARA"]
["H99989","SAO DOMINGOS"]
["H43318","SAO DOMINGOS"]
["H01900","FEIRA DE SANTANA"]
["H48446","VARZEDO"]
["H36424","SEABRA"]
["H46696","SEABRA"]
["A92970","CONCEICAO DO ALMEIDA"]
["H21231","RETIROLANDIA"]
["H43808","CONCEICAO DO JACUIPE"]
["H01681","FEIRA DE SANTANA"]
["H02399","FEIRA DE SANTANA"]
["A69538","CONCEICAO DO ALMEIDA"]
["H43346","FEIRA DE SANTANA"]
["A18586","JACARACI"]
["A61418","SAO FELIPE"]
["H02100","FEIRA DE SANTANA"]
["T32188","JACARACI"]
["A72120","CONCEICAO DO ALMEIDA"]
["A72058","CONCEICAO DO ALMEIDA"]
["H07385","SANTO AMARO"]
["H33671","IBIQUERA"]
["H13201","SERRA PRETA"]
["H32477","UTINGA"]
["H04814","SAO GONCALO DOS CAMPOS"]
["H49244","SAO GONCALO DOS CAMPOS"]
["H60672","SERRA PRETA"]
["H33808","UTINGA"]
["H06190","SAO GONCALO DOS CAMPOS"]
["H11087","CACHOEIRA"]
["H47891","UTINGA"]
["H12680","CACHOEIRA"]
["H21811","SANTA LUZ"]
["A73558","MARAGOGIPE"]
["A73585","MARAGOGIPE"]
["H53341","SAO GONCALO DOS CAMPOS"]
["H48601","SANTA LUZ"]
["H19398","VALENTE"]
["H32973","RUI BARBOSA"]
["H54963","PARIPIRANGA"]
["H73231","SANTA LUZ"]
["A62933","SAO FELIPE"]
["H09628","CORACAO DE MARIA"]
["A19296","NOVA VICOSA"]
["A71185","ITABELA"]
["H06869","IRARA"]
["H07765","CORACAO DE MARIA"]
["H70357","QUEIMADAS"]
["T05644","URANDI"]
["F35907","MATA DE SAO JOAO"]
["A91468","ITABELA"]
["F46914","MATA DE SAO JOAO"]
["J07363","CASA NOVA"]
["J51226","OUROLANDIA"]
["F20772","SALVADOR"]
["F28217","SALVADOR"]
["H43680","CACHOEIRA"]
["A63206","NOVA VICOSA"]
["H10012","CONCEICAO DO JACUIPE"]
["H06721","IRARA"]
["J62047","CASA NOVA"]
["Y02630","MUCURI"]
["H05324","CONCEICAO DA FEIRA"]
["H35080","SOUTO SOARES"]
["F32701","SALVADOR"]
["H48596","SOUTO SOARES"]
["H34587","MUCUGE"]
["J00936","JUAZEIRO"]
["J00922","JUAZEIRO"]
["T38675","IUIU"]
["H28316","CONDE"]
["A17966","RIO DO ANTONIO"]
["A15400","RIO DO ANTONIO"]
["A99322","MALHADA DE PEDRAS"]
["A77247","MARAU"]
["J50626","CAMPO FORMOSO"]
["H35113","SOUTO SOARES"]
["H45810","IRAQUARA"]
["H04907","CONCEICAO DA FEIRA"]
["H13500","CONCEICAO DA FEIRA"]
["H35023","SOUTO SOARES"]
["A04519","POCOES"]
["A65324","IGRAPIUNA"]
["A99483","BOA NOVA"]
["A48617","PORTO SEGURO"]
["S02683","DOM BASILIO"]
["S03709","POCOES"]
["Y01182","PORTO SEGURO"]
["S02793","BOA NOVA"]
["A53782","PORTO SEGURO"]
["H17495","RAFAEL JAMBEIRO"]
["A06988","MIRANTE"]
["H51892","IPIRA"]
["H25661","SATIRO DIAS"]
["Y07675","JITAUNA"]
["A06918","ANAGE"]
["A93913","BOM JESUS DA SERRA"]
["J17263","IBITITA"]
["J16505","LAPAO"]
["A98623","CAETANOS"]
["H48773","FATIMA"]
["T41263","CARINHANHA"]
["H54506","HELIOPOLIS"]
["H17105","FEIRA DE SANTANA"]
["F33696","SIMOES FILHO"]
["H68025","HELIOPOLIS"]
["F10473","SIMOES FILHO"]
["H14868","ANGUERA"]
["T27449","MACAUBAS"]
["H04579","FEIRA DE SANTANA"]
["H14831","FEIRA DE SANTANA"]
["Y03452","PRESIDENTE TANCREDO NEVES"]
["J13107","SERROLANDIA"]
["H53690","FEIRA DE SANTANA"]
["H24241","GAVIAO"]
["H22784","CAPELA DO ALTO ALEGRE"]
["H29466","CARDEAL DA SILVA"]
["H19660","RIBEIRA DO AMPARO"]
["T03854","CARINHANHA"]
["F16349","LAURO DE FREITAS"]
["H20241","FATIMA"]
["W04749","JAGUARARI"]
["H89123","SAPEACU"]
["W08675","IPIRA"]
["Y23870","ILHEUS"]
["Y01070","GUARATINGA"]
["F22664","LAURO DE FREITAS"]
["F38250","SALVADOR"]
["W07688","INHAMBUPE"]
["W06029","MAIRI"]
["H93921","CAPELA DO ALTO ALEGRE"]
["F32171","SALVADOR"]
["W08723","SAO JOSE DO JACUIPE"]
["H89917","JUSSARA"]
["A28352","CRUZ DAS ALMAS"]
["Y01932","IGRAPIUNA"]
["T39944","MACAUBAS"]
["A60019","CRUZ DAS ALMAS"]
["H14648","PINTADAS"]
["H54921","IPIRA"]
["Y00010","GUARATINGA"]
["H82361","EUCLIDES DA CUNHA"]
["W00451","ITABERABA"]
["W06063","VARZEA NOVA"]
["W02823","ABARE"]
["A67092","SANTO ANTONIO DE JESUS"]
["H77690","JEREMOABO"]
["W05923","IBICUI"]
["H91181","XIQUE-XIQUE"]
["W02709","JACOBINA"]
["H92191","RIACHAO DO JACUIPE"]
["W05259","CURACA"]
["H89448","CASA NOVA"]
["T44765","IBITIARA"]
["W68132","SENHOR DO BONFIM"]
["W10014","NOVA CANAA"]
["W00035","BOA NOVA"]
["H87389","CACHOEIRA"]
["Y24484","ILHEUS"]
["A69016","SAPEACU"]
["H90959","IPIRA"]
["A09385","BRUMADO"]
["H68955","IRAQUARA"]
["J07857","CAMPO FORMOSO"]
["A70496","ITAMBE"]
["W05309","CANSANCAO"]
["A40692","EUNAPOLIS"]
["H30558","ENTRE RIOS"]
["W06541","IPIRA"]
["A46481","ITATIM"]
["T48263","SAO FELIX DO CORIBE"]
["Y24688","ITAMBE"]
["W04062","IACU"]
["T48630","BOM JESUS DA LAPA"]
["K01665","LUIS EDUARDO MAGALHAES"]
["Y24634","CONDEUBA"]
["H62980","MONTE SANTO"]
["Y13142","ITUACU"]
["T38927","BARREIRAS"]
["Y13176","ARACATU"]
["H37547","APORA"]
["T09799","COCOS"]
["W05241","CAMPO ALEGRE DE LOURDES"]
["Y25480","ITIRUCU"]
["Y06746","VITORIA DA CONQUISTA"]
["W07941","VALENCA"]
["F37069","SALVADOR"]
["Y23471","COARACI"]
["H15613","BARROCAS"]
["W00230","VARZEA NOVA"]
["H89930","SAO GABRIEL"]
["T46530","IBIPITANGA"]
["F26160","SALVADOR"]
["H55912","TEOFILANDIA"]
["Y25390","ILHEUS"]
["Y13571","CAETANOS"]
["H77329","TUCANO"]
["T41519","CORRENTINA"]
["Y16460","LIVRAMENTO DE NOSSA SENHORA"]
["T43025","CANDIBA"]
["T43445","IPUPIARA"]
["H77235","NAZARE"]
["Y16731","TANHACU"]
["F36705","DIAS D AVILA"]
["H75062","CAMPO ALEGRE DE LOURDES"]
["H77814","ARAMARI"]
["Y13331","ITACARE"]
["H74590","ANDORINHA"]
["Y16424","TANHACU"]
["Y16040","JUCURUCU"]
["F37221","SALVADOR"]
["Y13082","IRAJUBA"]
["Y16450","ABAIRA"]
["T43943","IBITIARA"]
["T42160","CAETITE"]
["F37422","SALVADOR"]
["Y13821","BOM JESUS DA SERRA"]
["T08352","JABORANDI"]
["H75442","IPECAETA"]
["Y04713","PORTO SEGURO"]
["H79612","RAFAEL JAMBEIRO"]
["H76831","REMANSO"]
["H76486","ITATIM"]
["F37426","SALVADOR"]
["T42150","PALMAS DE MONTE ALTO"]
["Y15743","ANAGE"]
["Y15796","CANDIDO SALES"]
["H73568","IPIRA"]
["H76601","ITAETE"]
["H72381","PIRITIBA"]
["H76612","WAGNER"]
["H76467","ARATUIPE"]
["Y13291","IGRAPIUNA"]
["H20636","CONCEICAO DO COITE"]
["A05975","ERICO CARDOSO"]
["F37258","SIMOES FILHO"]
["A08396","CATURAMA"]
["T43547","OLIVEIRA DOS BREJINHOS"]
["H71895","MARAGOGIPE"]
["T04675","PALMAS DE MONTE ALTO"]
["H79515","ANGUERA"]
["T43130","PINDAI"]
["Y15489","GUAJERU"]
["A23713","POTIRAGUA"]
["H76599","RIBEIRA DO POMBAL"]
["H17516","ARACI"]
["T45953","CANDIBA"]
["H81216","CONCEICAO DO COITE"]
["S05663","CANDIDO SALES"]
["F34346","CAMACARI"]
["H40844","ANTONIO CARDOSO"]
["H81301","SERRA PRETA"]
["S06578","VITORIA DA CONQUISTA"]
["T16137","MACAJUBA"]
["W00402","ITAMARAJU"]
["H27046","ALAGOINHAS"]
["H81518","CURACA"]
["Y17840","IBICOARA"]
["H11618","CORACAO DE MARIA"]
["T31002","CATOLANDIA"]
["Y15582","ITAMBE"]
["H74716","VARZEA NOVA"]
["H66298","LAJE"]
["Y14671","POCOES"]
["S06233","MAETINGA"]
["H00599","FEIRA DE SANTANA"]
["F34057","CAMACARI"]
["H85242","QUIJINGUE"]
["Y00950","TEIXEIRA DE FREITAS"]
["Y04160","PORTO SEGURO"]
["J20951","JAGUARARI"]
["T30174","NOVO HORIZONTE"]
["H12689","CACHOEIRA"]
["H47201","ARACI"]
["J16197","LAPAO"]
["T35594","IBIPITANGA"]
["A64065","IBIRAPUA"]
["J54951","REMANSO"]
["H49688","IACU"]
["H49698","IACU"]
["H80265","ITIUBA"]
["J53931","JUAZEIRO"]
["H81624","SOBRADINHO"]
["A98263","BOTUPORA"]
["H81573","UAUA"]
["J53686","PINDOBACU"]
["Y17690","NOVA CANAA"]
["A28840","JEQUIRICA"]
["F00827","SALVADOR"]
["H80185","IRARA"]
["H94124","MONTE SANTO"]
["Y16591","UNA"]
["H16744","IPECAETA"]
["H81466","CONDE"]
["A14337","JUSSIAPE"]
["F35859","MATA DE SAO JOAO"]
["J54700","PAULO AFONSO"]
["J17462","BARRA DO MENDES"]
["H40786","ALAGOINHAS"]
["F02705","SALVADOR"]
["H21781","EUCLIDES DA CUNHA"]
["H05267","FEIRA DE SANTANA"]
["H11848","SAO FELIX"]
["T44568","CANDIBA"]
["H37808","ARACAS"]
["H83171","PINTADAS"]
["H30395","ESPLANADA"]
["S00014","VITORIA DA CONQUISTA"]
["T01050","CANDIBA"]
["J11340","JUAZEIRO"]
["A90602","ILHEUS"]
["H45197","ITABERABA"]
["J55839","JUAZEIRO"]
["Y17487","VEREDA"]
["Y20699","EUNAPOLIS"]
["H83270","CASA NOVA"]
["T44484","MACAUBAS"]
["H76098","MARCIONILIO SOUZA"]
["Y12057","RIO DO ANTONIO"]
["H81537","CURACA"]
["H74951","FEIRA DE SANTANA"]
["H81607","JUAZEIRO"]
["J60583","CASA NOVA"]
["A16844","JEQUIE"]
["H91714","CORONEL JOAO SA"]
["H87433","QUEIMADAS"]
["Y23587","IGUAI"]
["H89499","JUAZEIRO"]
["Y19010","WENCESLAU GUIMARAES"]
["H85916","ADUSTINA"]
["T47634","BOM JESUS DA LAPA"]
["Y23655","DARIO MEIRA"]
["H87125","JUSSARA"]
["Y19310","TREMEDAL"]
["F38307","CAMACARI"]
["Y18287","RIBEIRAO DO LARGO"]
["H90922","SERRA PRETA"]
["H87458","ITIUBA"]
["H86919","RIACHAO DO JACUIPE"]
["F37347","SIMOES FILHO"]
["Y18829","MARACAS"]
["H83407","ITIUBA"]
["H62351","SAPEACU"]
["H88871","MONTE SANTO"]
["H84529","JUAZEIRO"]
["H83068","GANDU"]
["T44623","LICINIO DE ALMEIDA"]
["H83691","JEREMOABO"]
["Y19548","TANHACU"]
["Y20198","BRUMADO"]
["Y20573","MANOEL VITORINO"]
["H86413","MUTUIPE"]
["Y18170","JEQUIE"]
["T45282","TABOCAS DO BREJO VELHO"]
["F37885","SIMOES FILHO"]
["H86107","GLORIA"]
["Y19317","TREMEDAL"]
["H83956","TERRA NOVA"]
["Y21582","LIVRAMENTO DE NOSSA SENHORA"]
["Y18775","ITAJUIPE"]
["Y20784","VITORIA DA CONQUISTA"]
["F38118","SAO SEBASTIAO DO PASSE"]
["H83353","IPIRA"]
["H90739","LAJE"]
["Y18572","IPIAU"]
["H85695","CANSANCAO"]
["H85788","CATU"]
["H91353","ANDORINHA"]
["H87709","PRESIDENTE TANCREDO NEVES"]
["T47938","MATINA"]
["H86077","IBIPEBA"]
["F38101","SALVADOR"]
["Y19156","MALHADA DE PEDRAS"]
["H86173","GLORIA"]
["H85984","SATIRO DIAS"]
["T46660","ANGICAL"]
["H67174","CANDEAL"]
["H86038","IBIPEBA"]
["M00303","ITAPARICA"]
["H90913","IPIRA"]
["Y19495","CARAVELAS"]
["H86400","IPIRA"]
["H86104","GLORIA"]
["H73280","NOVA FATIMA"]
["H88821","MONTE SANTO"]
["T46229","JACARACI"]
["F38133","SALVADOR"]
["Y19812","BOM JESUS DA SERRA"]
["H86023","JOAO DOURADO"]
["H87872","FEIRA DE SANTANA"]
["H88977","CICERO DANTAS"]
["H91569","BAIXA GRANDE"]
["H82544","BOA VISTA DO TUPIM"]
["T45628","IBIPITANGA"]
["Y18195","JEQUIE"]
["H90282","IPIRA"]
["T45672","LUIS EDUARDO MAGALHAES"]
["W02387","ITUACU"]
["A60367","CRUZ DAS ALMAS"]
["W50412","RAFAEL JAMBEIRO"]
["W40870","IPIRA"]
["W42443","NOVA CANAA"]
["H81120","JUAZEIRO"]
["W11748","IPIRA"]
["W07866","JAGUARARI"]
["W10571","ARACI"]
["W36924","JABORANDI"]
["A15598","TREMEDAL"]
["F47938","SALVADOR"]
["W44138","IPIRA"]
["W53574","ILHEUS"]
["W01609","JUCURUCU"]
["A90224","PLANALTO"]
["W50121","CACULE"]
["W36899","BARRA"]
["J16591","JOAO DOURADO"]
["T29657","BROTAS DE MACAUBAS"]
["F47525","SALVADOR"]
["W52101","ARACI"]
["F38642","SALVADOR"]
["Y21718","JEQUIE"]
["F34438","SALVADOR"]
["F48335","LAURO DE FREITAS"]
["H76388","RIBEIRA DO POMBAL"]
["W42815","JEQUIE"]
["W48654","ITABERABA"]
["T29751","PARATINGA"]
["Y24916","UBATA"]
["F47757","SALVADOR"]
["W01897","CAETITE"]
["W10086","COCOS"]
["T40491","FORMOSA DO RIO PRETO"]
["W48414","CORIBE"]
["W41193","BREJOES"]
["F38478","SIMOES FILHO"]
["N18776","PORTO SEGURO"]
["W06116","PINDAI"]
["W03661","PRESIDENTE TANCREDO NEVES"]
["H05337","SAO GONCALO DOS CAMPOS"]
["W39944","EUCLIDES DA CUNHA"]
["W08304","FEIRA DE SANTANA"]
["W43900","RIACHAO DO JACUIPE"]
["W45937","CONCEICAO DO COITE"]
["W00029","MALHADA DE PEDRAS"]
["W00162","CAPELA DO ALTO ALEGRE"]
["W00650","JACOBINA"]
["W41091","VITORIA DA CONQUISTA"]
["W11263","ITUACU"]
["W00978","RIACHAO DO JACUIPE"]
["A99758","VITORIA DA CONQUISTA"]
["F48130","LAURO DE FREITAS"]
["W09108","EUNAPOLIS"]
["W51519","MACAUBAS"]
["W01990","JEREMOABO"]
["A53169","JAGUAQUARA"]
["W05608","MIRANTE"]
["W42461","SITIO DO QUINTO"]
["W46509","SANTANA"]
["H92082","MARAGOGIPE"]
["A72336","MUCUGE"]
["W50147","ENTRE RIOS"]
["W01127","NOVA CANAA"]
["W09044","NOVA CANAA"]
["W03258","CAETITE"]
["W04669","JACOBINA"]
["W49891","IBOTIRAMA"]
["W51992","NOVO TRIUNFO"]
["W03194","ANDORINHA"]
["W44891","QUIXABEIRA"]
["W45533","ERICO CARDOSO"]
["W06282","PEDRO ALEXANDRE"]
["W48478","ITAPICURU"]
["W37716","JUAZEIRO"]
["W44519","LAGOA REAL"]
["W49989","RIACHAO DO JACUIPE"]
["W39893","COTEGIPE"]
["W49942","NOVO TRIUNFO"]
["T30192","PARATINGA"]
["W50929","VARZEA DO POCO"]
["W60154","SANTO ANTONIO DE JESUS"]
["W45777","COTEGIPE"]
["W58071","JEREMOABO"]
["H92852","APUAREMA"]
["W53263","IBICUI"]
["W58868","IBIPITANGA"]
["F50143","CANDEIAS"]
["F50060","SIMOES FILHO"]
["W56439","QUEIMADAS"]
["W54248","MONTE SANTO"]
["F48156","CAMACARI"]
["W54113","IRAMAIA"]
["W56578","FEIRA DE SANTANA"]
["W42019","SALINAS DA MARGARIDA"]
["W07978","VALENCA"]
["H48292","CONCEICAO DO COITE"]
["W63648","IBIPEBA"]
["H94202","CAIRU"]
["W53683","JACARACI"]
["W08086","CONCEICAO DA FEIRA"]
["W02142","MUNDO NOVO"]
["W50610","SANTA MARIA DA VITORIA"]
["W09724","GUARATINGA"]
["W56700","IRAMAIA"]
["F50174","SALVADOR"]
["W50238","ANDORINHA"]
["F49317","SALVADOR"]
["W05082","SAO FELIX"]
["F49958","SALVADOR"]
["T48545","SANTA MARIA DA VITORIA"]
["W53753","SAO FELIPE"]
["W45349","CANAVIEIRAS"]
["W42267","PORTO SEGURO"]
["F48816","LAURO DE FREITAS"]
["W40526","MALHADA DE PEDRAS"]
["W46081","WAGNER"]
["W53854","ITAMARAJU"]
["W38333","RUI BARBOSA"]
["W60990","MONTE SANTO"]
["W52660","CANSANCAO"]
["W54349","PEDRO ALEXANDRE"]
["W40148","PIATA"]
["W46181","MURITIBA"]
["W51372","CAMAMU"]
["W02243","CAIRU"]
["W41079","ENCRUZILHADA"]
["W46886","VARZEA DA ROCA"]
["F48988","SALVADOR"]
["W58898","OLIVEIRA DOS BREJINHOS"]
["W55718","UAUA"]
["W51768","ITABERABA"]
["H35693","BONITO"]
["W38177","COARACI"]
["W50393","CONCEICAO DO ALMEIDA"]
["W47129","EUCLIDES DA CUNHA"]
["W47257","ITAMARAJU"]
["T47184","BARRA"]
["W53429","PIRITIBA"]
["W54029","SAO DESIDERIO"]
["W40102","ESPLANADA"]
["W62249","RIACHAO DO JACUIPE"]
["F49067","CAMACARI"]
["F25924","SALVADOR"]
["A98713","MIRANTE"]
["F08333","SALVADOR"]
["W55402","SANTA LUZIA"]
["J50903","PILAO ARCADO"]
["W54428","CANAVIEIRAS"]
["J19886","UAUA"]
["T35988","BURITIRAMA"]
["F34923","SALVADOR"]
["A98778","BOM JESUS DA SERRA"]
["W62916","SATIRO DIAS"]
["K01249","ANGICAL"]
["W79312","VALENCA"]
["Y04475","PRESIDENTE TANCREDO NEVES"]
["W10989","BARREIRAS"]
["W51963","CORRENTINA"]
["W60527","BARROCAS"]
["F21627","SALVADOR"]
["S02796","BOA NOVA"]
["W77089","ITIRUCU"]
["Y04044","ARATACA"]
["A76205","UBAITABA"]
["A67165","SANTO ANTONIO DE JESUS"]
["W01412","JACOBINA"]
["H05105","SAO GONCALO DOS CAMPOS"]
["H44822","EUCLIDES DA CUNHA"]
["A92976","SANTO ANTONIO DE JESUS"]
["H18678","IPIRA"]
["F22219","SALVADOR"]
["W72697","JAGUARARI"]
["S00845","CONDEUBA"]
["Y13547","VITORIA DA CONQUISTA"]
["J10902","PAULO AFONSO"]
["W70254","MARCIONILIO SOUZA"]
["W56259","CHORROCHO"]
["F50691","SIMOES FILHO"]
["T26460","PALMAS DE MONTE ALTO"]
["T40981","SAO DESIDERIO"]
["Y02497","UBATA"]
["Y06129","CONDEUBA"]
["F06383","SALVADOR"]
["H18347","RIBEIRA DO POMBAL"]
["A60558","SAPEACU"]
["W52176","TEIXEIRA DE FREITAS"]
["H25662","SATIRO DIAS"]
["J60394","NORDESTINA"]
["W78900","JAGUAQUARA"]
["F40519","CAMACARI"]
["H54718","CONCEICAO DO ALMEIDA"]
["T26343","BOM JESUS DA LAPA"]
["W73759","PEDRO ALEXANDRE"]
["Y00194","IGRAPIUNA"]
["W72228","XIQUE-XIQUE"]
["T03530","BOM JESUS DA LAPA"]
["K02375","WANDERLEY"]
["H28236","MATA DE SAO JOAO"]
["H46249","FEIRA DE SANTANA"]
["F47674","CAMACARI"]
["J08466","MIGUEL CALMON"]
["T17303","JEREMOABO"]
["S09178","MALHADA DE PEDRAS"]
["H92365","ITABERABA"]
["J00667","JUAZEIRO"]
["F35906","MATA DE SAO JOAO"]
["Y02059","PRESIDENTE TANCREDO NEVES"]
["J53384","MONTE SANTO"]
["S06455","VITORIA DA CONQUISTA"]
["F03882","SALVADOR"]
["A78183","LAJE"]
["W59242","TUCANO"]
["F16870","SALVADOR"]
["H50820","CONCEICAO DO COITE"]
["W56234","GLORIA"]
["W61193","ALAGOINHAS"]
["H47699","CICERO DANTAS"]
["H36320","SEABRA"]
["W55664","SERRA DOURADA"]
["W54326","PEDRO ALEXANDRE"]
["H24538","INHAMBUPE"]
["F32950","SALVADOR"]
["J17384","BARRO ALTO"]
["W63020","ABAIRA"]
["W78997","CASA NOVA"]
["K02115","RIACHAO DAS NEVES"]
["T21388","PAULO AFONSO"]
["W06617","ITAGIBA"]
["J00106","JUAZEIRO"]
["H06444","IRARA"]
["A24784","GONGOGI"]
["W44799","ITACARE"]
["H08721","AMELIA RODRIGUES"]
["A14633","JEQUIE"]
["A25996","IBIRATAIA"]
["W50533","FEIRA DA MATA"]
["W69603","BARRA DO CHOCA"]
["A11764","IBICUI"]
["J50029","JUAZEIRO"]
["A05770","ARACATU"]
["W77940","BOM JESUS DA LAPA"]
["Y03597","FLORESTA AZUL"]
["A01640","PARAMIRIM"]
["H72739","TUCANO"]
["F24295","SALVADOR"]
["T29964","BARREIRAS"]
["A92568","ANAGE"]
["A59755","ITANHEM"]
["W54739","JUAZEIRO"]
["A33719","ITAPE"]
["A35007","ITAPE"]
["A04157","BELO CAMPO"]
["W02987","SENTO SE"]
["J50912","JUAZEIRO"]
["A24439","ITABUNA"]
["A65778","ARATUIPE"]
["F08568","SALVADOR"]
["T06874","PARATINGA"]
["H11557","SERRINHA"]
["W08508","CORIBE"]
["W45138","CORRENTINA"]
["W59265","SERRA DOURADA"]
["Y11793","NOVA CANAA"]
["H20469","CONCEICAO DO COITE"]
["H94115","ITUBERA"]
["W57025","RIACHAO DAS NEVES"]
["H12031","IRARA"]
["T14647","SERRA DO RAMALHO"]
["Y24998","PORTO SEGURO"]
["W69865","VITORIA DA CONQUISTA"]
["A11912","IGUAI"]
["T11876","TABOCAS DO BREJO VELHO"]
["A97844","TEIXEIRA DE FREITAS"]
["W54362","JEREMOABO"]
["T15906","BAIXA GRANDE"]
["Y03202","ITABELA"]
["W02998","SENTO SE"]
["H71849","PINTADAS"]
["H56557","JEQUIRICA"]
["Y14323","SANTA LUZIA"]
["Y21434","ITACARE"]
["Y16532","ILHEUS"]
["F18903","LAURO DE FREITAS"]
["F24871","SALVADOR"]
["A68725","CACULE"]
["W44107","IPIRA"]
["A33116","IBICARAI"]
["A22486","IBICUI"]
["H01749","FEIRA DE SANTANA"]
["T47035","SANTANA"]
["H43863","ENTRE RIOS"]
["A08388","CATURAMA"]
["J23213","SAO FELIPE"]
["T43199","GUANAMBI"]
["A45108","CAMACA"]
["H14927","IPIRA"]
["F00981","SALVADOR"]
["T43415","BARRA"]
["A66251","UNA"]
["S05010","GUAJERU"]
["J53502","ITIUBA"]
["H75709","SAO MIGUEL DAS MATAS"]
["H87668","REMANSO"]
["A97783","CANAVIEIRAS"]
["A78644","MUCURI"]
["Y13292","IGRAPIUNA"]
["W09245","ARACI"]
["T16535","RIACHAO DAS NEVES"]
["A20200","LAJEDO DO TABOCAL"]
["A15183","MALHADA DE PEDRAS"]
["F38217","SALVADOR"]
["W48376","GUANAMBI"]
["T15478","SANTANA"]
["A16954","JEQUIE"]
["T47450","BOQUIRA"]
["Y22993","BARRA DO CHOCA"]
["J02043","JUAZEIRO"]
["A14409","ARACATU"]
["A63990","MUTUIPE"]
["H86325","IPIRA"]
["H77820","APORA"]
["J09443","SOBRADINHO"]
["A42920","ITAMARAJU"]
["H85699","NORDESTINA"]
["W53582","ITAPICURU"]
["F13287","SALVADOR"]
["H05386","CONCEICAO DA FEIRA"]
["T28941","IBIPITANGA"]
["W42553","CONDEUBA"]
["T26411","CORRENTINA"]
["S09266","MIRANTE"]
["H85824","TAPIRAMUTA"]
["H63323","IRECE"]
["F22515","SIMOES FILHO"]
["A63798","JEQUIRICA"]
["H12565","GOVERNADOR MANGABEIRA"]
["A62172","NOVA VICOSA"]
["A53945","IGRAPIUNA"]
["F06658","SALVADOR"]
["H87075","REMANSO"]
["W04108","ITAGUACU DA BAHIA"]
["H49129","ENTRE RIOS"]
["F04401","SALVADOR"]
["Y15690","BOTUPORA"]
["H87706","VALENCA"]
["W66260","UAUA"]
["W63378","CHORROCHO"]
["W71904","ENCRUZILHADA"]
["W56521","TUCANO"]
["W77404","COARACI"]
["W67911","BOM JESUS DA LAPA"]
["W72360","VITORIA DA CONQUISTA"]
["W83558","PLANALTO"]
["T46424","MANSIDAO"]
["W84345","BAIXA GRANDE"]
["W82736","ITABELA"]
["W65748","ARACATU"]
["W87487","OLINDINA"]
["W80324","VITORIA DA CONQUISTA"]
["T49027","RIACHAO DAS NEVES"]
["F51633","SALVADOR"]
["W63505","SANTO AMARO"]
["W66406","IBIRAPITANGA"]
["W55327","VITORIA DA CONQUISTA"]
["N00552","CANDIBA"]
["W85198","TEOLANDIA"]
["W64517","PALMAS DE MONTE ALTO"]
["W72829","GUARATINGA"]
["N03011","CAMPO FORMOSO"]
["N02742","IGAPORA"]
["F38576","SALVADOR"]
["W65079","OUROLANDIA"]
["W84271","SERROLANDIA"]
["N01149","ITABERABA"]
["W89922","PLANALTINO"]
["W64661","REMANSO"]
["F46566","CAMACARI"]
["N00669","VARZEA DA ROCA"]
["W82824","VALENCA"]
["W56854","IRECE"]
["W64171","SAO GONCALO DOS CAMPOS"]
["N06796","ITUBERA"]
["W69371","CICERO DANTAS"]
["W84664","PE DE SERRA"]
["F53227","CAMACARI"]
["W65017","ABARE"]
["T30353","COCOS"]
["N10669","VITORIA DA CONQUISTA"]
["W65583","RETIROLANDIA"]
["F52882","SALVADOR"]
["W68865","ENCRUZILHADA"]
["W61909","CAMAMU"]
["W71758","IRAQUARA"]
["W84973","ENCRUZILHADA"]
["W67071","IBIRATAIA"]
["W87844","CANUDOS"]
["W70229","GAVIAO"]
["N12482","MUNDO NOVO"]
["F53483","SALVADOR"]
["W40178","BELMONTE"]
["W87542","ARACI"]
["W65258","LUIS EDUARDO MAGALHAES"]
["W70400","LUIS EDUARDO MAGALHAES"]
["N01961","XIQUE-XIQUE"]
["W87084","TEIXEIRA DE FREITAS"]
["N05580","PILAO ARCADO"]
["W84654","GUANAMBI"]
["W86557","CENTRAL"]
["W85087","LIVRAMENTO DE NOSSA SENHORA"]
["W82578","QUEIMADAS"]
["W84791","VITORIA DA CONQUISTA"]
["W64729","SANTO AMARO"]
["W81142","UNA"]
["W63606","GUANAMBI"]
["W74340","ITAGIMIRIM"]
["W67830","PRESIDENTE DUTRA"]
["W64863","UBAITABA"]
["W81155","FEIRA DE SANTANA"]
["W85041","PIATA"]
["W07478","IPIRA"]
["W79941","MUQUEM DO SAO FRANCISCO"]
["W84165","PIRITIBA"]
["W85947","JACOBINA"]
["W63930","CHORROCHO"]
["W81419","SOUTO SOARES"]
["N01293","LAPAO"]
["W65085","CIPO"]
["W87179","SANTA TEREZINHA"]
["W68639","RIACHAO DO JACUIPE"]
["W86813","ABARE"]
["W65882","JOAO DOURADO"]
["W64453","JOAO DOURADO"]
["W87297","MUNDO NOVO"]
["W83727","JEQUIE"]
["W66302","CANAVIEIRAS"]
["W79110","CAETITE"]
["W77647","NOVA VICOSA"]
["W88953","EUNAPOLIS"]
["F50982","CAMACARI"]
["W67977","ITAGI"]
["W71194","GLORIA"]
["F53347","SALVADOR"]
["W69410","SAO GONCALO DOS CAMPOS"]
["W87470","PE DE SERRA"]
["W67469","MIGUEL CALMON"]
["W67152","COTEGIPE"]
["H94462","APORA"]
["W67362","SAO GONCALO DOS CAMPOS"]
["W72934","QUIXABEIRA"]
["W53899","MARACAS"]
["N02014","ITIUBA"]
["W51942","UNA"]
["N01563","CATURAMA"]
["W64764","SAUBARA"]
["W60733","ITABERABA"]
["N01953","PINTADAS"]
["F52407","SALVADOR"]
["W80932","ITABERABA"]
["N01161","WAGNER"]
["W85486","QUEIMADAS"]
["W69379","NOVA SOURE"]
["N14013","OUROLANDIA"]
["W77283","ITIUBA"]
["N06241","BRUMADO"]
["F51302","SALVADOR"]
["W75548","CAETITE"]
["W64982","JEREMOABO"]
["N10349","URUCUCA"]
["N01429","IGUAI"]
["H65847","SOUTO SOARES"]
["N00137","MARCIONILIO SOUZA"]
["W71227","EUNAPOLIS"]
["N12428","JUAZEIRO"]
["W77387","SERRA DO RAMALHO"]
["W83055","QUEIMADAS"]
["F52016","SALVADOR"]
["N06420","MIGUEL CALMON"]
["W65906","ITUACU"]
["W65964","ABARE"]
["F55111","CAMACARI"]
["W63768","ITAPETINGA"]
["N15910","MORRO DO CHAPEU"]
["N18496","EUCLIDES DA CUNHA"]
["A57751","GANDU"]
["N08161","SITIO DO QUINTO"]
["N33280","PRADO"]
["N17153","LIVRAMENTO DE NOSSA SENHORA"]
["N10679","CAMPO ALEGRE DE LOURDES"]
["N16674","LIVRAMENTO DE NOSSA SENHORA"]
["N39407","TEOLANDIA"]
["N10777","PEDRO ALEXANDRE"]
["N10328","PALMAS DE MONTE ALTO"]
["F55858","SALVADOR"]
["N30766","CAMPO FORMOSO"]
["W88373","RIACHO DE SANTANA"]
["F51979","SIMOES FILHO"]
["N19884","JUAZEIRO"]
["N07619","PILAO ARCADO"]
["N12045","LAJEDAO"]
["N14761","PRESIDENTE JANIO QUADROS"]
["N12145","FEIRA DE SANTANA"]
["N03344","RIACHO DE SANTANA"]
["N05427","SANTO ANTONIO DE JESUS"]
["N13985","BARRA"]
["N08318","CASA NOVA"]
["A62322","NOVA VICOSA"]
["H93163","FEIRA DE SANTANA"]
["N30852","OLIVEIRA DOS BREJINHOS"]
["F54575","CAMACARI"]
["N16023","VITORIA DA CONQUISTA"]
["N33237","OLIVEIRA DOS BREJINHOS"]
["N30080","FEIRA DE SANTANA"]
["F55470","SIMOES FILHO"]
["F53879","MATA DE SAO JOAO"]
["C02435","PRADO"]
["N09768","MONTE SANTO"]
["H14640","IPIRA"]
["N06873","CASA NOVA"]
["F56113","SALVADOR"]
["N42314","CATU"]
["A00217","POCOES"]
["N32780","TEIXEIRA DE FREITAS"]
["N17768","CONCEICAO DO JACUIPE"]
["N14878","FEIRA DE SANTANA"]
["N07240","MARAU"]
["N08914","ITAPICURU"]
["F54000","SALVADOR"]
["F54392","LAURO DE FREITAS"]
["N40172","VITORIA DA CONQUISTA"]
["N10404","BARRA DO MENDES"]
["W81900","ITAPARICA"]
["N38278","IPIRA"]
["N11505","CANAVIEIRAS"]
["N38828","FEIRA DE SANTANA"]
["N36357","JACOBINA"]
["F54876","SALVADOR"]
["H93195","GANDU"]
["N18177","VITORIA DA CONQUISTA"]
["N31722","MARAU"]
["W84474","CORRENTINA"]
["N16891","ITAETE"]
["T37490","BROTAS DE MACAUBAS"]
["A50751","ITABELA"]
["N11110","CONDE"]
["N33589","ADUSTINA"]
["A31787","CARAVELAS"]
["N00104","IBIQUERA"]
["N11984","VERA CRUZ"]
["N08352","CASA NOVA"]
["A10423","CONDEUBA"]
["W42991","PILAO ARCADO"]
["N09397","CARINHANHA"]
["W52968","AIQUARA"]
["N13539","SANTO ESTEVAO"]
["N05564","SANTA TEREZINHA"]
["N19623","COCOS"]
["N19531","CONCEICAO DO JACUIPE"]
["T39149","RIACHAO DAS NEVES"]
["W51255","ITAMARAJU"]
["J63493","JEREMOABO"]
["N10072","IACU"]
["A36177","ILHEUS"]
["H51180","CASTRO ALVES"]
["N10525","SERRINHA"]
["N10075","IACU"]
["A44645","ITABUNA"]
["A72465","BARRA DO CHOCA"]
["N17979","IPIRA"]
["N10735","IRAQUARA"]
["A62510","MUCURI"]
["H91757","JEREMOABO"]
["F55760","CANDEIAS"]
["N12260","OUROLANDIA"]
["N13542","TERRA NOVA"]
["Y15356","JEQUIE"]
["N00713","LENCOIS"]
["N17019","JUAZEIRO"]
["A32594","ITAPITANGA"]
["N00714","LENCOIS"]
["N12231","LUIS EDUARDO MAGALHAES"]
["N19976","EUNAPOLIS"]
["A14783","IBICUI"]
["J16214","LAPAO"]
["W86890","QUEIMADAS"]
["N18941","ITIUBA"]
["T35853","CAETITE"]
["Y17864","ITUACU"]
["N08034","BRUMADO"]
["F55371","CAMACARI"]
["H14997","CACHOEIRA"]
["N10056","IACU"]
["N13063","POCOES"]
["N16456","MUCUGE"]
["A43412","PORTO SEGURO"]
["F54745","SALVADOR"]
["N07912","BARREIRAS"]
["N09595","ITABELA"]
["N03474","MARACAS"]
["W42307","PLANALTINO"]
["N00361","TANHACU"]
["N18936","IRECE"]
["H28501","ARACAS"]
["H53081","LAJEDINHO"]
["N09293","FEIRA DE SANTANA"]
["N42668","IBICARAI"]
["N43509","FORMOSA DO RIO PRETO"]
["F56117","CAMACARI"]
["N42522","VALENTE"]
["N40025","CAMPO ALEGRE DE LOURDES"]
["N59066","SENTO SE"]
["N44928","PARATINGA"]
["N54307","NOVA SOURE"]
["N53846","IBIQUERA"]
["N60025","UAUA"]
["N32399","BIRITINGA"]
["N55517","SANTA MARIA DA VITORIA"]
["F58192","CAMACARI"]
["N44838","POCOES"]
["N35471","ITANAGRA"]
["N37585","CAMPO ALEGRE DE LOURDES"]
["N36584","VARZEA DA ROCA"]
["N40885","ALAGOINHAS"]
["N60558","CONCEICAO DO JACUIPE"]
["H93507","CAMAMU"]
["N46355","CAETITE"]
["N35745","NOVA ITARANA"]
["N57427","PRADO"]
["N57148","VITORIA DA CONQUISTA"]
["N38677","JACOBINA"]
["N40018","ANTAS"]
["F58341","SIMOES FILHO"]
["N09044","MARACAS"]
["N45564","PARIPIRANGA"]
["F57804","CAMACARI"]
["N54939","CAPELA DO ALTO ALEGRE"]
["N55989","PORTO SEGURO"]
["N53849","IBIQUERA"]
["N31104","CANARANA"]
["N51451","SANTA LUZIA"]
["A71960","RAFAEL JAMBEIRO"]
["F57118","SALVADOR"]
["N58320","SANTO AMARO"]
["N56395","CASA NOVA"]
["N31746","FORMOSA DO RIO PRETO"]
["N58786","AMERICA DOURADA"]
["N55176","BOM JESUS DA LAPA"]
["N55332","JUAZEIRO"]
["N39590","SERROLANDIA"]
["N41998","CASA NOVA"]
["N52392","ARACI"]
["N37404","ARATUIPE"]
["N42686","ARATACA"]
["N60756","CASA NOVA"]
["A46847","IBIRAPITANGA"]
["F57396","CAMACARI"]
["N34154","VITORIA DA CONQUISTA"]
["N36934","UAUA"]
["N33308","SANTA CRUZ CABRALIA"]
["N38068","CAMPO ALEGRE DE LOURDES"]
["N49626","JAGUARARI"]
["N41885","IGAPORA"]
["N56887","JUAZEIRO"]
["N36336","BOA VISTA DO TUPIM"]
["N40999","ITABERABA"]
["N33045","CASA NOVA"]
["N55916","RIACHAO DO JACUIPE"]
["N60497","CRISTOPOLIS"]
["F57504","CAMACARI"]
["N39827","JEREMOABO"]
["N40481","CURACA"]
["N38626","IPIRA"]
["J19668","CURACA"]
["N42789","ILHEUS"]
["N49961","RIACHAO DO JACUIPE"]
["N09490","ITAPARICA"]
["N38431","TEOLANDIA"]
["F56564","SALVADOR"]
["N55761","CARAIBAS"]
["N40085","NOVO HORIZONTE"]
["F58100","SALVADOR"]
["N36590","JEQUIRICA"]
["N37042","EUNAPOLIS"]
["N36112","ALAGOINHAS"]
["F57057","SAO SEBASTIAO DO PASSE"]
["C02787","ILHEUS"]
["N60005","CURACA"]
["N37225","ILHEUS"]
["N49191","ITABELA"]
["N38619","JACOBINA"]
["N42020","ILHEUS"]
["N61691","CAMAMU"]
["N41055","BARREIRAS"]
["N36185","MONTE SANTO"]
["N46584","FEIRA DE SANTANA"]
["N41917","SEABRA"]
["N53908","SANTA MARIA DA VITORIA"]
["N44945","ITAGI"]
["N36256","JAGUARIPE"]
["N60682","ANDORINHA"]
["N49328","CURACA"]
["N50418","VITORIA DA CONQUISTA"]
["N44862","IGUAI"]
["N87056","SANTA RITA DE CASSIA"]
["N79047","NOVA VICOSA"]
["N82005","MARAU"]
["N82036","REMANSO"]
["N87063","SANTA RITA DE CASSIA"]
["N47658","FORMOSA DO RIO PRETO"]
["N49301","SOBRADINHO"]
["N49388","JUAZEIRO"]
["N86266","FEIRA DE SANTANA"]
["N81714","JEQUIE"]
["N84775","JEREMOABO"]
["N87422","CICERO DANTAS"]
["N82074","REMANSO"]
["N54036","SAO FELIX DO CORIBE"]
["N46190","CAFARNAUM"]
["N57004","FEIRA DE SANTANA"]
["N46318","GUANAMBI"]
["N45344","BOA VISTA DO TUPIM"]
["H56710","LAJE"]
["N18363","MUCURI"]
["N51142","CURACA"]
["N84176","UTINGA"]
["N58240","NOVA VICOSA"]
["N86298","JUAZEIRO"]
["N46353","CAETITE"]
["N52972","CANAVIEIRAS"]
["N50992","ALCOBACA"]
["N52533","RIBEIRA DO POMBAL"]
["N92140","COTEGIPE"]
["J12119","UIBAI"]
["J14046","UIBAI"]
["A00751","VITORIA DA CONQUISTA"]
["N47852","WANDERLEY"]
["N58250","TEIXEIRA DE FREITAS"]
["N58242","IBIRAPITANGA"]
["N58241","IBIRAPITANGA"]
["N53988","CORRENTINA"]
["N83118","UBAITABA"]
["N51082","CANDIBA"]
["N55287","CICERO DANTAS"]
["N56789","VITORIA DA CONQUISTA"]
["N54016","JABORANDI"]
["N52058","CORDEIROS"]
["N52059","CORDEIROS"]
["N52060","CORDEIROS"]
["N03589","SAO DESIDERIO"]
["N46682","PORTO SEGURO"]
["N46673","GUARATINGA"]
["N30642","SANTO ESTEVAO"]
["N54658","BOTUPORA"]
["N83104","JACOBINA"]
["N81793","FEIRA DE SANTANA"]
["N58260","SERROLANDIA"]
["N58267","SERROLANDIA"]
["F58934","SALVADOR"]
["N49003","FEIRA DE SANTANA"]
["N41756","IBIPEBA"]
["N49005","AMELIA RODRIGUES"]
["N81507","PINDAI"]
["N49892","PINDAI"]
["N85882","FORMOSA DO RIO PRETO"]
["N46321","TANQUE NOVO"]
["N46301","TANQUE NOVO"]
["F58827","SALVADOR"]
["F58826","SALVADOR"]
["N58276","VERA CRUZ"]
["N13525","ITANHEM"]
["N18357","ITANHEM"]
["N86536","RIBEIRA DO AMPARO"]
["N59266","MATINA"]
["N59272","MATINA"]
["N55927","MATINA"]
["N59269","MATINA"]
["N59273","MATINA"]
["N40809","MATINA"]
["N59279","MATINA"]
["N59280","MATINA"]
["N59281","MATINA"]
["N59293","MATINA"]
["N59274","MATINA"]
["N55926","MATINA"]
["N58308","MATINA"]
["N47625","OLIVEIRA DOS BREJINHOS"]
["N78994","CANUDOS"]
["N54830","CORRENTINA"]
["N50893","PORTO SEGURO"]
["N50880","PORTO SEGURO"]
["N50881","PORTO SEGURO"]
["N50882","PORTO SEGURO"]
["N54083","SANTA MARIA DA VITORIA"]
["N50715","BELMONTE"]
["N50719","BELMONTE"]
["N50630","BELMONTE"]
["N50608","BELMONTE"]
["N50718","BELMONTE"]
["N50725","BELMONTE"]
["N50723","BELMONTE"]
["N50724","BELMONTE"]
["N54087","CORRENTINA"]
["N54088","CORRENTINA"]
["N52073","VITORIA DA CONQUISTA"]
["F58833","LAURO DE FREITAS"]
["A10574","JUCURUCU"]
["N38876","EUNAPOLIS"]
["N54113","NOVA SOURE"]
["N47679","COTEGIPE"]
["N47678","COTEGIPE"]
["N52069","VITORIA DA CONQUISTA"]
["J08403","OUROLANDIA"]
["N81589","CAMPO FORMOSO"]
["N81588","CAMPO FORMOSO"]
["N86694","TAPEROA"]
["N86693","WENCESLAU GUIMARAES"]
["N84136","IRAMAIA"]
["N57205","PLANALTINO"]
["N92132","BARREIRAS"]
["N46681","IBIRAPUA"]
["N46152","CAPELA DO ALTO ALEGRE"]
["N52369","CONCEICAO DO COITE"]
["N57254","SITIO DO MATO"]
["N52823","SITIO DO MATO"]
["N47415","AMARGOSA"]
["N81739","MURITIBA"]
["N39130","SENHOR DO BONFIM"]
["F58862","CAMACARI"]
["N48306","NOVA FATIMA"]
["N50114","ITIUBA"]
["N56995","VITORIA DA CONQUISTA"]
["N57077","SERRINHA"]
["F58832","LAURO DE FREITAS"]
["N49316","UAUA"]
["N49830","UAUA"]
["N86546","TUCANO"]
["N47423","SANTO ANTONIO DE JESUS"]
["N49012","FEIRA DE SANTANA"]
["N84626","CONCEICAO DA FEIRA"]
["J55651","MAIRI"]
["N86168","CANDIBA"]
["N84568","MONTE SANTO"]
["N84570","MONTE SANTO"]
["N84572","MONTE SANTO"]
["N89025","MONTE SANTO"]
["N89027","MONTE SANTO"]
["N85131","JAGUARARI"]
["N85363","PINTADAS"]
["F58945","LAURO DE FREITAS"]
["F58946","LAURO DE FREITAS"]
["N52973","BARRO ALTO"]
["N83157","ITUBERA"]
["C02956","SEABRA"]
["C02957","SEABRA"]
["H83994","SEABRA"]
["N86279","SANTO ESTEVAO"]
["N81600","TUCANO"]
["N54940","ICHU"]
["H14561","SANTO ESTEVAO"]
["N31367","RIACHAO DAS NEVES"]
["N31366","RIACHAO DAS NEVES"]
["N47393","CASA NOVA"]
["F58488","SALVADOR"]
["F58486","SALVADOR"]
["F58941","SALVADOR"]
["F58489","SALVADOR"]
["F58487","SALVADOR"]
["F58490","SALVADOR"]
["F58491","SALVADOR"]
["F58492","SALVADOR"]
["N52079","NOVA CANAA"]
["W66767","RODELAS"]
["N53407","EUNAPOLIS"]
["N50067","FLORESTA AZUL"]
["H88345","CONCEICAO DO ALMEIDA"]
["H88350","CONCEICAO DO ALMEIDA"]
["N57322","MACAUBAS"]
["N51314","MACAUBAS"]
["N51315","MACAUBAS"]
["N46006","IBIRAPITANGA"]
["N46007","IBIRAPITANGA"]
["N46008","IBIRAPITANGA"]
["N46009","IBIRAPITANGA"]
["N46005","IBIRAPITANGA"]
["N47695","ANGICAL"]
["N47694","ANGICAL"]
["N47693","ANGICAL"]
["A04876","ITAGI"]
["A18991","ITAGI"]
["A57670","ITAMARI"]
["A28838","JEQUIRICA"]
["A63759","JEQUIRICA"]
["N85299","JUAZEIRO"]
["N85636","VALENCA"]
["N85619","VALENCA"]
["N85632","VALENCA"]
["W51530","FEIRA DE SANTANA"]
["N56046","MEDEIROS NETO"]
["N57890","MEDEIROS NETO"]
["N46767","MEDEIROS NETO"]
["N57801","MEDEIROS NETO"]
["N56766","MEDEIROS NETO"]
["N60883","SANTA MARIA DA VITORIA"]
["N51900","BOQUIRA"]
["N58287","ITAMARI"]
["N58288","ITAMARI"]
["N53487","ITAMARI"]
["F57860","MATA DE SAO JOAO"]
["N51380","OLIVEIRA DOS BREJINHOS"]
["F58693","LAURO DE FREITAS"]
["N84660","MURITIBA"]
["W86423","SANTO ANTONIO DE JESUS"]
["N18901","SANTO ANTONIO DE JESUS"]
["N37294","MEDEIROS NETO"]
["N53464","MEDEIROS NETO"]
["N53465","MEDEIROS NETO"]
["N53466","MEDEIROS NETO"]
["N84636","BIRITINGA"]
["N84635","BIRITINGA"]
["N50884","ALCOBACA"]
["N50885","ALCOBACA"]
["N50886","ALCOBACA"]
["F59061","CAMACARI"]
["N46332","LAGOA REAL"]
["N50136","JUAZEIRO"]
["F59057","SALVADOR"]
["H21892","ITATIM"]
["N49853","PLANALTO"]
["N81544","GUANAMBI"]
["N81545","GUANAMBI"]
["N81547","GUANAMBI"]
["N83300","GUANAMBI"]
["N84977","GUANAMBI"]
["N83211","GUANAMBI"]
["N83213","GUANAMBI"]
["N83216","GUANAMBI"]
["N83202","GUANAMBI"]
["N83217","GUANAMBI"]
["F59082","SALVADOR"]
["W73070","CANUDOS"]
["N86555","JEQUIE"]
["N36299","MILAGRES"]
["N86412","JOAO DOURADO"]
["H36364","SEABRA"]
["N57144","VITORIA DA CONQUISTA"]
["N55213","ITAGI"]
["N54090","SANTANA"]
["N81709","SANTA INES"]
["N51475","TANQUE NOVO"]
["N81719","FEIRA DE SANTANA"]
["N49016","IPIRA"]
["N49031","IPIRA"]
["N49027","IPIRA"]
["N84627","IPIRA"]
["N84628","IPIRA"]
["N14944","GUARATINGA"]
["N38842","GUARATINGA"]
["N61073","GUARATINGA"]
["N61072","GUARATINGA"]
["N61070","GUARATINGA"]
["N38839","GUARATINGA"]
["N38840","GUARATINGA"]
["N61071","GUARATINGA"]
["N14945","GUARATINGA"]
["N14946","GUARATINGA"]
["F58950","LAURO DE FREITAS"]
["F58948","LAURO DE FREITAS"]
["F58949","LAURO DE FREITAS"]
["F58943","LAURO DE FREITAS"]
["F58944","LAURO DE FREITAS"]
["F58947","LAURO DE FREITAS"]
["N12369","BRUMADO"]
["N61634","TEOLANDIA"]
["N61632","TEOLANDIA"]
["N54801","MORRO DO CHAPEU"]
["N58911","ITABUNA"]
["A59527","JUCURUCU"]
["A62764","JUCURUCU"]
["A62793","JUCURUCU"]
["N54839","SITIO DO MATO"]
["N54837","SITIO DO MATO"]
["N81711","JEQUIE"]
["N50837","PORTO SEGURO"]
["N50833","PORTO SEGURO"]
["N50834","PORTO SEGURO"]
["N50836","PORTO SEGURO"]
["N54848","SITIO DO MATO"]
["N81309","SITIO DO MATO"]
["N81308","SITIO DO MATO"]
["N81306","SITIO DO MATO"]
["N86407","JUSSARA"]
["N48372","QUEIMADAS"]
["N55608","UAUA"]
["N55610","UAUA"]
["N55611","UAUA"]
["F58759","LAURO DE FREITAS"]
["N47433","ITATIM"]
["N37194","BARRO ALTO"]
["N38640","ITABERABA"]
["N86592","SAO GABRIEL"]
["N86517","SAO GABRIEL"]
["N86518","SAO GABRIEL"]
["N50861","BELMONTE"]
["N50862","BELMONTE"]
["N50865","BELMONTE"]
["N50867","BELMONTE"]
["N50868","BELMONTE"]
["N50869","BELMONTE"]
["N50871","BELMONTE"]
["N50879","BELMONTE"]
["N50874","BELMONTE"]
["N50888","BELMONTE"]
["N50877","BELMONTE"]
["N50878","BELMONTE"]
["N50863","BELMONTE"]
["T38769","CARINHANHA"]
["N85199","QUEIMADAS"]
["N51517","AMARGOSA"]
["W69998","BREJOLANDIA"]
["C02994","SANTO ANTONIO DE JESUS"]
["Y05519","ITABUNA"]
["C02993","SANTO ANTONIO DE JESUS"]
["N18840","SANTO ANTONIO DE JESUS"]
["A67140","SANTO ANTONIO DE JESUS"]
["N61931","RIACHO DE SANTANA"]
["N48764","POCOES"]
["N48735","POCOES"]
["N48739","POCOES"]
["N48748","POCOES"]
["N48740","POCOES"]
["N48756","POCOES"]
["N48749","POCOES"]
["N48742","POCOES"]
["N54053","CORIBE"]
["N54065","CORIBE"]
["N54021","CORIBE"]
["N54017","CORIBE"]
["N54060","CORIBE"]
["N54063","CORIBE"]
["N54064","CORIBE"]
["N54062","CORIBE"]
["N51094","IUIU"]
["N48734","CARAIBAS"]
["N58280","JAGUARIPE"]
["N81786","JAGUARIPE"]
["N47414","JAGUARIPE"]
["N47412","JAGUARIPE"]
["N47413","JAGUARIPE"]
["N47411","JAGUARIPE"]
["N36289","JAGUARIPE"]
["N58279","JAGUARIPE"]
["N83274","FEIRA DA MATA"]
["J17088","IBITITA"]
["A29443","ILHEUS"]
["A47736","ILHEUS"]
["A56728","ILHEUS"]
["A77481","ILHEUS"]
["A37088","ILHEUS"]
["N46138","SERRA PRETA"]
["N46196","FEIRA DE SANTANA"]
["N46193","SAO GONCALO DOS CAMPOS"]
["C02935","ITAPARICA"]
["C02936","ITAPARICA"]
["N47209","BARRA DO MENDES"]
["N92188","BOQUIRA"]
["N52061","PLANALTO"]
["N33389","GUANAMBI"]
["N33390","GUANAMBI"]
["N45567","ALAGOINHAS"]
["F58766","SALVADOR"]
["N47123","CAMPO FORMOSO"]
["N54825","CORIBE"]
["O00006","BARREIRAS"]
["N12179","ITAGIBA"]
["N84611","MARAGOGIPE"]
["N53740","CAETITE"]
["N85577","ARACAS"]
["N85578","ARACAS"]
["N86408","JUSSARA"]
["N85102","SANTO ANTONIO DE JESUS"]
["F59040","CAMACARI"]
["W73277","PAULO AFONSO"]
["F58811","SALVADOR"]
["W76379","SERRA DO RAMALHO"]
["O00024","CICERO DANTAS"]
["A29521","ILHEUS"]
["H77205","CONCEICAO DO COITE"]
["N56772","ANAGE"]
["N61623","ITAMARI"]
["N46189","AMERICA DOURADA"]
["N45589","NOVA SOURE"]
["N46170","SENHOR DO BONFIM"]
["N84615","NAZARE"]
["H92719","CABACEIRAS DO PARAGUACU"]
["N50854","MEDEIROS NETO"]
["N47339","JUAZEIRO"]
["N47314","JUAZEIRO"]
["N50050","NOVA IBIA"]
["N85022","PAULO AFONSO"]
["W73259","PAULO AFONSO"]
["N84676","FEIRA DE SANTANA"]
["F59020","SALVADOR"]
["N81586","CAMPO FORMOSO"]
["W06605","CONCEICAO DO ALMEIDA"]
["N40240","MALHADA"]
["N57827","PARAMIRIM"]
["J24030","SANTO ANTONIO DE JESUS"]
["N86271","CONCEICAO DO JACUIPE"]
["N59613","FEIRA DE SANTANA"]
["N83147","UIBAI"]
["N83146","UIBAI"]
["N52914","CAPELA DO ALTO ALEGRE"]
["A70648","ILHEUS"]
["A73910","ILHEUS"]
["A35507","ILHEUS"]
["A36033","ILHEUS"]
["N12241","MORRO DO CHAPEU"]
["N49035","SERRINHA"]
["N39809","ITAGUACU DA BAHIA"]
["N31235","ITAGUACU DA BAHIA"]
["N86689","VALENCA"]
["N85635","VALENCA"]
["N41481","IUIU"]
["N57864","MEDEIROS NETO"]
["N85510","PEDRO ALEXANDRE"]
["N81369","PEDRO ALEXANDRE"]
["N54199","CENTRAL"]
["N03586","RIACHAO DAS NEVES"]
["N50055","TUCANO"]
["N50056","TUCANO"]
["N38871","EUNAPOLIS"]
["N60500","IPUPIARA"]
["N61471","BARREIRAS"]
["N38977","GUANAMBI"]
["N08946","OLINDINA"]
["N08947","OLINDINA"]
["N41460","GUANAMBI"]
["N39892","GUANAMBI"]
["N83200","FEIRA DE SANTANA"]
["W70622","SENTO SE"]
["K02219","ANGICAL"]
["N51253","POJUCA"]
["N84908","MATINA"]
["N84906","MATINA"]
["N45939","SAO JOSE DO JACUIPE"]
["N46612","TEIXEIRA DE FREITAS"]
["N45578","EUCLIDES DA CUNHA"]
["N46146","CACHOEIRA"]
["N61670","WENCESLAU GUIMARAES"]
["N61671","WENCESLAU GUIMARAES"]
["N61673","WENCESLAU GUIMARAES"]
["N61675","WENCESLAU GUIMARAES"]
["N61674","WENCESLAU GUIMARAES"]
["N61686","WENCESLAU GUIMARAES"]
["N61687","WENCESLAU GUIMARAES"]
["N47452","WENCESLAU GUIMARAES"]
["N58294","WENCESLAU GUIMARAES"]
["N47454","WENCESLAU GUIMARAES"]
["N47455","WENCESLAU GUIMARAES"]
["N61667","WENCESLAU GUIMARAES"]
["N61668","WENCESLAU GUIMARAES"]
["C02361","TEIXEIRA DE FREITAS"]
["A42740","TEIXEIRA DE FREITAS"]
["H34207","WAGNER"]
["N47207","XIQUE-XIQUE"]
["N83112","SAUBARA"]
["J03760","JACOBINA"]
["N46699","ITANHEM"]
["N59888","INHAMBUPE"]
["N59864","INHAMBUPE"]
["N83110","FEIRA DE SANTANA"]
["W76081","CICERO DANTAS"]
["N85543","ABARE"]
["N85544","ABARE"]
["N85545","ABARE"]
["N59681","ABARE"]
["N85656","ABARE"]
["N59699","ABARE"]
["N85654","ABARE"]
["N85653","ABARE"]
["N85645","ABARE"]
["N85560","ABARE"]
["N61605","WENCESLAU GUIMARAES"]
["N61603","WENCESLAU GUIMARAES"]
["F59012","SALVADOR"]
["N84654","SAO GONCALO DOS CAMPOS"]
["N51488","TANQUE NOVO"]
["F58867","SALVADOR"]
["F58866","SALVADOR"]
["N41453","CARINHANHA"]
["W75837","SAO DESIDERIO"]
["N49808","BARRA"]
["N37263","ILHEUS"]
["F58904","CANDEIAS"]
["N81737","SAO GONCALO DOS CAMPOS"]
["N85118","NAZARE"]
["N85152","VALENCA"]
["N81518","TANHACU"]
["F58592","CAMACARI"]
["F58685","CAMACARI"]
["F58686","CAMACARI"]
["F58687","CAMACARI"]
["F58688","CAMACARI"]
["F58689","CAMACARI"]
["F58690","CAMACARI"]
["F58691","CAMACARI"]
["F58692","CAMACARI"]
["N46140","SERRINHA"]
["F58733","SAO FRANCISCO DO CONDE"]
["N54919","ALAGOINHAS"]
["N49636","CAMPO FORMOSO"]
["N49637","CAMPO FORMOSO"]
["F58768","CAMACARI"]
["N02623","IUIU"]
["N39134","SENHOR DO BONFIM"]
["C02871","PRADO"]
["C02872","PRADO"]
["C02873","PRADO"]
["C02874","PRADO"]
["C02875","PRADO"]
["C02876","PRADO"]
["C02877","PRADO"]
["C02878","PRADO"]
["C02879","PRADO"]
["C02880","PRADO"]
["J24046","SANTO ANTONIO DE JESUS"]