{"text_format":"1","workbook":"xlsx","n_sheets":5,"sheets":["QT Rede Monofásica - 220 V","QT Rede Trifásica - 380V","Calculos_QT_380","Coeficientes","Coeficientes Mono"],"not_rendered":{"charts":0,"images":2,"macros":1,"external_links":0,"defined_names":0,"comments":0,"pivot_tables":0},"unopened":[],"bounds":{"document_bytes":16777216,"sheet_cells":100000,"rows_first":2000,"rows_last":500,"rows_between":2000,"halvings":0,"cell_chars":16384,"cell_head_chars":4096},"cells_cut":0,"cells_raw":0,"read":"whole","date_system":"1900"}

{"sheet":"QT Rede Monofásica - 220 V","index":0,"n_rows":25,"n_cols":19,"rows_kept":25,"cut":false,"hidden":true,"merged":[[8,11,10,11],[8,13,8,15],[8,16,10,16],[8,12,24,12],[11,10,24,10],[1,3,1,17],[2,3,2,17],[4,2,4,7],[5,2,5,7],[9,3,9,5],[8,17,24,17],[6,2,6,7],[10,3,10,5],[7,13,7,16],[8,3,8,6],[8,7,8,9],[8,10,10,10]]}
[]
[null,null,null,"UNIDADE DE PROJETO DE REDES - CELPE"]
[null,null,null,"Cálculo de Queda de Tensão Secundária Monofásica (220 V)"]
[null,null,null,null,null,null,null,null,"Preencher com os Trafos Monofásicos de Distribuição padronizados 10 ou 15 kVA"]
[null,null,"Digite potência transformador (kVA)",null,null,null,null,null,10]
[null,null,"Potência total do projeto (kVA)",null,null,null,null,null,{"$f":"SUM(H12:H25)","v":3.5999999999999992}]
[null,null,"Taxa de carregamento (%)",null,null,null,null,null,{"$f":"I6/I5","v":0.35999999999999993}]
[null,null,null,null,null,null,null,null,null,null,null,null,null,"QUEDA DE TENSÃO MONOFÁSICA"]
[null,null,null,"Trecho",null,null,null,"Carga",null,null,"Nível de tensão secundária de distribuição (V)","Escolha o Condutor por Trecho",null,"Queda de Tensão - Monofásica",null,null,"OBSERVAÇÃO"]
[null,null,null,"Nós",null,null,"Vão (m)","Distribuída trecho (kVA)","Acumulado no fim de trecho (kVA)","Total (kVA) - (C/2+D)*(B/100)",null,null,null,"Unitária (%)","No trecho (%)","Total (%)"]
[null,null,null,"A",null,null,"B","C","D","E",null,null,null,"G","H","I"]
[null,null,null,"Trafo","→","A",50,0.3,{"$f":"SUM(H12:$H$25)","v":3.5999999999999992},{"$f":"(H12/2+I12)*(G12/100)","v":1.8749999999999996},"220 V","1x25+1x25 NI",null,{"$f":"VLOOKUP($L:$L,'Coeficientes Mono'!$A:$G,2,0)","v":0.60361651838367436},{"$f":"J12*N12","v":1.1317809719693892},{"$f":"SUM($O$12:O12)","v":1.1317809719693892},{"$f":"IF(P12<5,\"CABO BEM DIMENSIONADO\",\"AJUSTE O CABO\")","v":"CABO BEM DIMENSIONADO"},null,"Caso apareça ajuste o Cabo, terá que ser dividido a distância e centralizado o trafo até este vão"]
[null,null,null,"A","→","B",50,0.3,{"$f":"SUM(H13:$H$25)","v":3.2999999999999994},{"$f":"(H13/2+I13)*(G13/100)","v":1.7249999999999996},null,"1x25+1x25 NI",null,{"$f":"VLOOKUP($L:$L,'Coeficientes Mono'!$A:$G,2,0)","v":0.60361651838367436},1.041238494211838,{"$f":"SUM($O$12:O13)","v":2.173019466181227},{"$f":"IF(P13<5,\"CABO BEM DIMENSIONADO\",\"AJUSTE O CABO\")","v":"CABO BEM DIMENSIONADO"}]
[null,null,null,"B","→","C",50,0.5,{"$f":"SUM(H14:$H$25)","v":2.9999999999999996},1.6249999999999998,null,"1x25+1x25 NI",null,{"$f":"VLOOKUP($L:$L,'Coeficientes Mono'!$A:$G,2,0)","v":0.60361651838367436},0.98087684237347073,{"$f":"SUM($O$12:O14)","v":3.1538963085546978},"CABO BEM DIMENSIONADO"]
[null,null,null,"C","→","D",50,0.3,{"$f":"SUM(H15:$H$25)","v":2.4999999999999996},1.3249999999999997,null,"1x25+1x25 NI",null,{"$f":"VLOOKUP($L:$L,'Coeficientes Mono'!$A:$G,2,0)","v":0.60361651838367436},0.79979188685836833,{"$f":"SUM($O$12:O15)","v":3.9536881954130663},"CABO BEM DIMENSIONADO"]
[null,null,null,"D","→","E",50,0.3,{"$f":"SUM(H16:$H$25)","v":2.2000000000000002},1.175,null,"1x25+1x25 NI",null,{"$f":"VLOOKUP($L:$L,'Coeficientes Mono'!$A:$G,2,0)","v":0.60361651838367436},0.70924940910081735,{"$f":"SUM($O$12:O16)","v":4.6629376045138837},"CABO BEM DIMENSIONADO"]
[null,null,null,"E","→","F",50,0.3,{"$f":"SUM(H17:$H$25)","v":1.9},1.0249999999999999,null,"1x25+1x25 NI",null,{"$f":"VLOOKUP($L:$L,'Coeficientes Mono'!$A:$G,2,0)","v":0.60361651838367436},0.61870693134326615,{"$f":"SUM($O$12:O17)","v":5.2816445358571498},"AJUSTE O CABO"]
[null,null,null,"F","→","G",50,0.3,{"$f":"SUM(H18:$H$25)","v":1.6},0.875,null,"1x25+1x25 NI",null,{"$f":"VLOOKUP($L:$L,'Coeficientes Mono'!$A:$G,2,0)","v":0.60361651838367436},0.52816445358571507,{"$f":"SUM($O$12:O18)","v":5.8098089894428648},"AJUSTE O CABO"]
[null,null,null,"G","→","H",50,0.3,{"$f":"SUM(H19:$H$25)","v":1.3},0.72499999999999998,null,"1x25+1x25 NI",null,{"$f":"VLOOKUP($L:$L,'Coeficientes Mono'!$A:$G,2,0)","v":0.60361651838367436},0.43762197582816392,{"$f":"SUM($O$12:O19)","v":6.2474309652710289},"AJUSTE O CABO"]
[null,null,null,"H","→","I",50,0.4,{"$f":"SUM(H20:$H$25)","v":1},0.6,null,"1x25+1x25 NI",null,{"$f":"VLOOKUP($L:$L,'Coeficientes Mono'!$A:$G,2,0)","v":0.60361651838367436},0.36216991103020463,{"$f":"SUM($O$12:O20)","v":6.6096008763012337},"AJUSTE O CABO"]
[null,null,null,"I","→","J",50,0.3,{"$f":"SUM(H21:$H$25)","v":0.6},0.375,null,"1x25+1x25 NI",null,{"$f":"VLOOKUP($L:$L,'Coeficientes Mono'!$A:$G,2,0)","v":0.60361651838367436},0.22635619439387789,{"$f":"SUM($O$12:O21)","v":6.8359570706951116},"AJUSTE O CABO"]
[null,null,null,"J","→","L",50,0.3,{"$f":"SUM(H22:$H$25)","v":0.3},0.22499999999999998,null,"1x25+1x25 NI",null,{"$f":"VLOOKUP($L:$L,'Coeficientes Mono'!$A:$G,2,0)","v":0.60361651838367436},0.13581371663632671,{"$f":"SUM($O$12:O22)","v":6.9717707873314385},"AJUSTE O CABO"]
[null,null,null,"L","→","M",50,null,{"$f":"SUM(H23:$H$25)","v":0},0,null,"1x25+1x25 NI",null,{"$f":"VLOOKUP($L:$L,'Coeficientes Mono'!$A:$G,2,0)","v":0.60361651838367436},0,{"$f":"SUM($O$12:O23)","v":6.9717707873314385},"AJUSTE O CABO"]
[null,null,null,"M","→","N",50,null,{"$f":"SUM(H24:$H$25)","v":0},0,null,"1x25+1x25 NI",null,{"$f":"VLOOKUP($L:$L,'Coeficientes Mono'!$A:$G,2,0)","v":0.60361651838367436},0,{"$f":"SUM($O$12:O24)","v":6.9717707873314385},"AJUSTE O CABO"]
[null,null,null,"N","→","O",50,null,{"$f":"SUM(H25:$H$25)","v":0},0,null,"1x25+1x25 NI",null,{"$f":"VLOOKUP($L:$L,'Coeficientes Mono'!$A:$G,2,0)","v":0.60361651838367436},0,{"$f":"SUM($O$12:O25)","v":6.9717707873314385},"AJUSTE O CABO"]

{"sheet":"QT Rede Trifásica - 380V","index":1,"n_rows":64,"n_cols":17,"rows_kept":64,"cut":false,"hidden":false,"merged":[[2,3,2,16],[7,17,7,22],[8,17,8,22],[9,17,9,22],[6,17,6,22],[4,3,4,9],[9,3,9,5],[8,3,8,5],[7,3,7,5],[5,3,6,5],[3,9,3,10],[5,16,7,16],[8,16,10,16],[5,12,6,14],[4,14,4,15],[47,16,49,16],[47,3,47,6],[47,7,47,9],[47,10,49,10],[47,11,49,11],[47,12,63,12],[48,3,48,5],[49,3,49,5],[50,10,63,10],[47,13,47,15],[46,13,46,16],[10,3,10,5],[3,3,3,7],[5,15,7,15],[8,15,10,15],[9,6,9,7],[10,6,10,7],[5,8,6,8],[5,9,6,9],[5,10,5,11],[5,6,6,7],[7,6,7,7],[8,6,8,7],[7,12,7,13],[8,12,8,13],[9,12,10,13],[9,14,10,14],[4,12,4,13]]}
[]
[]
[null,null,null,"Cálculo de Queda de Tensão Secundária Trifásica (380 V) - CELPE"]
[null,null,null,"Identifique o Transformador:",null,null,null,null,"T1","Potencia do trafo:",null,75]
[null,null,null,"Indicar circuito novo ou melhoramento/reforço de rede existente:",null,null,null,null,null,null,"Novo","Tensão Primária",13.8,null,"Tensão Secundária",null,"380/220"]
[null,null,null,"Porte da Residência",null,null,"Quantidade",null,"Demanda Diversificada","Sub Total Residencial","Cargas Comerciais",null,"Iluminação Pública",null,null,"kVA Total"]
[null,null,null,null,null,null,null,null,null,null,"Tipo","Demanda"]
[null,null,null,"Tipo A",null,null,null,null,null,null,null,null,"Qtd."]
[null,null,null,"Tipo B",null,null,null,null,null,null,null,null,"Pot. Lamp",null,null,"kVA% - Trafo"]
[null,null,null,"Tipo C",null,null,null,null,null,null,null,null,"kVA da Iluminação"]
[null,null,null,"Tipo D"]
[null,null,null,"Representação Gráfica do Circuito do Transformador"]
[]
[]
[]
[]
[]
[]
[]
[]
[]
[]
[]
[]
[]
[]
[]
[]
[]
[]
[]
[]
[]
[]
[]
[]
[]
[]
[]
[]
[]
[]
[]
[]
[]
[]
[]
[null,null,null,"Trecho",null,null,null,"Carga",null,null,"Nível de tensão secundária de distribuição (V)","Escolha o Condutor por Trecho",null,"Queda de Tensão - Trifásica",null,null,"OBSERVAÇÃO"]
[null,null,null,"Nós",null,null,"Vão (m)","Distribuída trecho (kVA)","Acumulado no fim de trecho (kVA)","Total (kVA) - (C/2+D)*(B/100)",null,null,null,"Unitária (%)","No trecho  (%) - E*G","Total (%)"]
[null,null,null,"A",null,null,"B","C","D","E",null,null,null,"G","H","I"]
[null,null,null,1,"→",3,80,10,30,{"$f":"(H51/2+I51)*(G51/100)","v":28},"380 V","3x70+1x50 NI",null,{"$f":"VLOOKUP($L:$L,Coeficientes!$A:$G,7,0)","v":3.5344044263631601E-2},{"$f":"J51*N51","v":0.98963323938168479},{"$f":"IFERROR(VLOOKUP((D51&F51),Calculos_QT_380!D:F,3,0),0)","v":0.98963323938168479},{"$f":"_xlfn.IFS($K$5=\"Novo\",IF(P51<=3.5,\"CABO BEM DIMENSIONADO\",\"AJUSTE O CABO\"),$K$5=\"Existente\",IF(P51<=5,\"CABO BEM DIMENSIONADO\",\"AJUSTE O CABO\"))","v":"CABO BEM DIMENSIONADO"}]
[null,null,null,1,"→",4,40,0,50,{"$f":"(H52/2+I52)*(G52/100)","v":20},null,"3x70+1x50 NI",null,{"$f":"VLOOKUP($L:$L,Coeficientes!$A:$G,7,0)","v":3.5344044263631601E-2},0.70688088527263204,{"$f":"IFERROR(VLOOKUP((D52&F52),Calculos_QT_380!D:F,3,0),0)","v":0.70688088527263204},{"$f":"_xlfn.IFS($K$5=\"Novo\",IF(P52<=3.5,\"CABO BEM DIMENSIONADO\",\"AJUSTE O CABO\"),$K$5=\"Existente\",IF(P52<=5,\"CABO BEM DIMENSIONADO\",\"AJUSTE O CABO\"))","v":"CABO BEM DIMENSIONADO"}]
[null,null,null,4,"→",5,40,0,40,16,null,"3x70+1x50 NI",null,{"$f":"VLOOKUP($L:$L,Coeficientes!$A:$G,7,0)","v":3.5344044263631601E-2},0.56550470821810561,{"$f":"IFERROR(VLOOKUP((D53&F53),Calculos_QT_380!D:F,3,0),0)","v":1.2723855934907378},"CABO BEM DIMENSIONADO"]
[null,null,null,4,"→",7,80,10,40,36,null,"3x35+1x35 NI",null,{"$f":"VLOOKUP($L:$L,Coeficientes!$A:$G,7,0)","v":7.3692498102646914E-2},2.6529299316952888,{"$f":"IFERROR(VLOOKUP((D54&F54),Calculos_QT_380!D:F,3,0),0)","v":3.3598108169679208},"CABO BEM DIMENSIONADO"]
[null,null,null,null,"→",null,null,null,null,0,null,"3x35+1x35 NI",null,{"$f":"VLOOKUP($L:$L,Coeficientes!$A:$G,7,0)","v":7.3692498102646914E-2},0,{"$f":"IFERROR(VLOOKUP((D55&F55),Calculos_QT_380!D:F,3,0),0)","v":0},"CABO BEM DIMENSIONADO"]
[null,null,null,null,"→",null,null,null,null,0,null,"3x35+1x35 NI",null,{"$f":"VLOOKUP($L:$L,Coeficientes!$A:$G,7,0)","v":7.3692498102646914E-2},0,{"$f":"IFERROR(VLOOKUP((D56&F56),Calculos_QT_380!D:F,3,0),0)","v":0},"CABO BEM DIMENSIONADO"]
[null,null,null,null,"→",null,null,null,null,0,null,"3x35+1x35 NI",null,{"$f":"VLOOKUP($L:$L,Coeficientes!$A:$G,7,0)","v":7.3692498102646914E-2},0,{"$f":"IFERROR(VLOOKUP((D57&F57),Calculos_QT_380!D:F,3,0),0)","v":0},"CABO BEM DIMENSIONADO"]
[null,null,null,null,"→",null,null,null,null,0,null,"3x35+1x35 NI",null,{"$f":"VLOOKUP($L:$L,Coeficientes!$A:$G,7,0)","v":7.3692498102646914E-2},0,{"$f":"IFERROR(VLOOKUP((D58&F58),Calculos_QT_380!D:F,3,0),0)","v":0},"CABO BEM DIMENSIONADO"]
[null,null,null,null,"→",null,null,null,null,0,null,"3x35+1x35 NI",null,{"$f":"VLOOKUP($L:$L,Coeficientes!$A:$G,7,0)","v":7.3692498102646914E-2},0,{"$f":"IFERROR(VLOOKUP((D59&F59),Calculos_QT_380!D:F,3,0),0)","v":0},"CABO BEM DIMENSIONADO"]
[null,null,null,null,"→",null,null,null,null,0,null,"3x35+1x35 NI",null,{"$f":"VLOOKUP($L:$L,Coeficientes!$A:$G,7,0)","v":7.3692498102646914E-2},0,{"$f":"IFERROR(VLOOKUP((D60&F60),Calculos_QT_380!D:F,3,0),0)","v":0},"CABO BEM DIMENSIONADO"]
[null,null,null,null,"→",null,null,null,null,0,null,"3x35+1x35 NI",null,{"$f":"VLOOKUP($L:$L,Coeficientes!$A:$G,7,0)","v":7.3692498102646914E-2},0,{"$f":"IFERROR(VLOOKUP((D61&F61),Calculos_QT_380!D:F,3,0),0)","v":0},"CABO BEM DIMENSIONADO"]
[null,null,null,null,"→",null,null,null,null,0,null,"3x35+1x35 NI",null,{"$f":"VLOOKUP($L:$L,Coeficientes!$A:$G,7,0)","v":7.3692498102646914E-2},0,{"$f":"IFERROR(VLOOKUP((D62&F62),Calculos_QT_380!D:F,3,0),0)","v":0},"CABO BEM DIMENSIONADO"]
[null,null,null,null,"→",null,null,null,null,0,null,"3x35+1x35 NI",null,{"$f":"VLOOKUP($L:$L,Coeficientes!$A:$G,7,0)","v":7.3692498102646914E-2},0,{"$f":"IFERROR(VLOOKUP((D63&F63),Calculos_QT_380!D:F,3,0),0)","v":0},"CABO BEM DIMENSIONADO"]
[null,null,null,null,"→",null,null,null,null,{"$f":"(H64/2+I64)*(G64/100)","v":0},null,"3x35+1x35 NI",null,{"$f":"VLOOKUP($L:$L,Coeficientes!$A:$G,7,0)","v":7.3692498102646914E-2},0,{"$f":"IFERROR(VLOOKUP((D64&F64),Calculos_QT_380!D:F,3,0),0)","v":0},"CABO BEM DIMENSIONADO"]

{"sheet":"Calculos_QT_380","index":2,"n_rows":388,"n_cols":6,"rows_kept":388,"cut":false,"hidden":true,"merged":[]}
[null,"PONTO 1","PONTO 2","TRECHO ATUAL","TRECHO ANTERIOR","QUEDA DE TENSÃO TOTAL"]
[null,{"$f":"'QT Rede Trifásica - 380V'!D51","v":1},{"$f":"'QT Rede Trifásica - 380V'!F51","v":3},{"$f":"B2&C2","v":"13"},{"$f":"IFERROR(VLOOKUP(B2,C:D,2,0),\"\")","v":""},{"$f":"IF(E2=\"\",'QT Rede Trifásica - 380V'!O51,SUM('QT Rede Trifásica - 380V'!O51,VLOOKUP(E2,D:F,3,0)))","v":0.98963323938168479}]
[null,{"$f":"'QT Rede Trifásica - 380V'!D52","v":1},{"$f":"'QT Rede Trifásica - 380V'!F52","v":4},{"$f":"B3&C3","v":"14"},{"$f":"IFERROR(VLOOKUP(B3,C:D,2,0),\"\")","v":""},{"$f":"IF(E3=\"\",'QT Rede Trifásica - 380V'!O52,SUM('QT Rede Trifásica - 380V'!O52,VLOOKUP(E3,D:F,3,0)))","v":0.70688088527263204}]
[null,{"$f":"'QT Rede Trifásica - 380V'!D53","v":4},{"$f":"'QT Rede Trifásica - 380V'!F53","v":5},{"$f":"B4&C4","v":"45"},"14",{"$f":"IF(E4=\"\",'QT Rede Trifásica - 380V'!O53,SUM('QT Rede Trifásica - 380V'!O53,VLOOKUP(E4,D:F,3,0)))","v":1.2723855934907378}]
[null,{"$f":"'QT Rede Trifásica - 380V'!D54","v":4},{"$f":"'QT Rede Trifásica - 380V'!F54","v":7},{"$f":"B5&C5","v":"47"},"14",{"$f":"IF(E5=\"\",'QT Rede Trifásica - 380V'!O54,SUM('QT Rede Trifásica - 380V'!O54,VLOOKUP(E5,D:F,3,0)))","v":3.3598108169679208}]
[null,{"$f":"'QT Rede Trifásica - 380V'!D55","v":0},{"$f":"'QT Rede Trifásica - 380V'!F55","v":0},"00","00",{"$f":"IF(E6=\"\",'QT Rede Trifásica - 380V'!O55,SUM('QT Rede Trifásica - 380V'!O55,VLOOKUP(E6,D:F,3,0)))","v":0.70688088527263204}]
[null,{"$f":"'QT Rede Trifásica - 380V'!D56","v":0},{"$f":"'QT Rede Trifásica - 380V'!F56","v":0},"00","00",{"$f":"IF(E7=\"\",'QT Rede Trifásica - 380V'!O56,SUM('QT Rede Trifásica - 380V'!O56,VLOOKUP(E7,D:F,3,0)))","v":0.70688088527263204}]
[null,{"$f":"'QT Rede Trifásica - 380V'!D57","v":0},{"$f":"'QT Rede Trifásica - 380V'!F57","v":0},"00","00",{"$f":"IF(E8=\"\",'QT Rede Trifásica - 380V'!O57,SUM('QT Rede Trifásica - 380V'!O57,VLOOKUP(E8,D:F,3,0)))","v":0.70688088527263204}]
[null,{"$f":"'QT Rede Trifásica - 380V'!D58","v":0},{"$f":"'QT Rede Trifásica - 380V'!F58","v":0},"00","00",{"$f":"IF(E9=\"\",'QT Rede Trifásica - 380V'!O58,SUM('QT Rede Trifásica - 380V'!O58,VLOOKUP(E9,D:F,3,0)))","v":0.70688088527263204}]
[null,{"$f":"'QT Rede Trifásica - 380V'!D59","v":0},{"$f":"'QT Rede Trifásica - 380V'!F59","v":0},"00","00",{"$f":"IF(E10=\"\",'QT Rede Trifásica - 380V'!O59,SUM('QT Rede Trifásica - 380V'!O59,VLOOKUP(E10,D:F,3,0)))","v":0.70688088527263204}]
[null,{"$f":"'QT Rede Trifásica - 380V'!D60","v":0},{"$f":"'QT Rede Trifásica - 380V'!F60","v":0},"00","00",{"$f":"IF(E11=\"\",'QT Rede Trifásica - 380V'!O60,SUM('QT Rede Trifásica - 380V'!O60,VLOOKUP(E11,D:F,3,0)))","v":0.70688088527263204}]
[null,{"$f":"'QT Rede Trifásica - 380V'!D61","v":0},{"$f":"'QT Rede Trifásica - 380V'!F61","v":0},"00","00",{"$f":"IF(E12=\"\",'QT Rede Trifásica - 380V'!O61,SUM('QT Rede Trifásica - 380V'!O61,VLOOKUP(E12,D:F,3,0)))","v":0.70688088527263204}]
[null,{"$f":"'QT Rede Trifásica - 380V'!D62","v":0},{"$f":"'QT Rede Trifásica - 380V'!F62","v":0},"00","00",{"$f":"IF(E13=\"\",'QT Rede Trifásica - 380V'!O62,SUM('QT Rede Trifásica - 380V'!O62,VLOOKUP(E13,D:F,3,0)))","v":0.70688088527263204}]
[null,{"$f":"'QT Rede Trifásica - 380V'!D63","v":0},{"$f":"'QT Rede Trifásica - 380V'!F63","v":0},"00","00",{"$f":"IF(E14=\"\",'QT Rede Trifásica - 380V'!O63,SUM('QT Rede Trifásica - 380V'!O63,VLOOKUP(E14,D:F,3,0)))","v":0.70688088527263204}]
[null,{"$f":"'QT Rede Trifásica - 380V'!D64","v":0},{"$f":"'QT Rede Trifásica - 380V'!F64","v":0},"00","00",{"$f":"IF(E15=\"\",'QT Rede Trifásica - 380V'!O64,SUM('QT Rede Trifásica - 380V'!O64,VLOOKUP(E15,D:F,3,0)))","v":0.70688088527263204}]
[null,{"$f":"'QT Rede Trifásica - 380V'!D65","v":0},{"$f":"'QT Rede Trifásica - 380V'!F65","v":0},"00","00",{"$f":"IF(E16=\"\",'QT Rede Trifásica - 380V'!O65,SUM('QT Rede Trifásica - 380V'!O65,VLOOKUP(E16,D:F,3,0)))","v":0.70688088527263204}]
[null,{"$f":"'QT Rede Trifásica - 380V'!D66","v":0},{"$f":"'QT Rede Trifásica - 380V'!F66","v":0},"00","00",{"$f":"IF(E17=\"\",'QT Rede Trifásica - 380V'!O66,SUM('QT Rede Trifásica - 380V'!O66,VLOOKUP(E17,D:F,3,0)))","v":0.70688088527263204}]
[null,{"$f":"'QT Rede Trifásica - 380V'!D67","v":0},{"$f":"'QT Rede Trifásica - 380V'!F67","v":0},"00","00",{"$f":"IF(E18=\"\",'QT Rede Trifásica - 380V'!O67,SUM('QT Rede Trifásica - 380V'!O67,VLOOKUP(E18,D:F,3,0)))","v":0.70688088527263204}]
[null,{"$f":"'QT Rede Trifásica - 380V'!D68","v":0},{"$f":"'QT Rede Trifásica - 380V'!F68","v":0},"00","00",{"$f":"IF(E19=\"\",'QT Rede Trifásica - 380V'!O68,SUM('QT Rede Trifásica - 380V'!O68,VLOOKUP(E19,D:F,3,0)))","v":0.70688088527263204}]
[null,{"$f":"'QT Rede Trifásica - 380V'!D69","v":0},{"$f":"'QT Rede Trifásica - 380V'!F69","v":0},"00","00",{"$f":"IF(E20=\"\",'QT Rede Trifásica - 380V'!O69,SUM('QT Rede Trifásica - 380V'!O69,VLOOKUP(E20,D:F,3,0)))","v":0.70688088527263204}]
[null,{"$f":"'QT Rede Trifásica - 380V'!D70","v":0},{"$f":"'QT Rede Trifásica - 380V'!F70","v":0},"00","00",{"$f":"IF(E21=\"\",'QT Rede Trifásica - 380V'!O70,SUM('QT Rede Trifásica - 380V'!O70,VLOOKUP(E21,D:F,3,0)))","v":0.70688088527263204}]
[null,{"$f":"'QT Rede Trifásica - 380V'!D71","v":0},{"$f":"'QT Rede Trifásica - 380V'!F71","v":0},"00","00",{"$f":"IF(E22=\"\",'QT Rede Trifásica - 380V'!O71,SUM('QT Rede Trifásica - 380V'!O71,VLOOKUP(E22,D:F,3,0)))","v":0.70688088527263204}]
[null,{"$f":"'QT Rede Trifásica - 380V'!D72","v":0},{"$f":"'QT Rede Trifásica - 380V'!F72","v":0},"00","00",{"$f":"IF(E23=\"\",'QT Rede Trifásica - 380V'!O72,SUM('QT Rede Trifásica - 380V'!O72,VLOOKUP(E23,D:F,3,0)))","v":0.70688088527263204}]
[null,{"$f":"'QT Rede Trifásica - 380V'!D73","v":0},{"$f":"'QT Rede Trifásica - 380V'!F73","v":0},"00","00",{"$f":"IF(E24=\"\",'QT Rede Trifásica - 380V'!O73,SUM('QT Rede Trifásica - 380V'!O73,VLOOKUP(E24,D:F,3,0)))","v":0.70688088527263204}]
[null,{"$f":"'QT Rede Trifásica - 380V'!D74","v":0},{"$f":"'QT Rede Trifásica - 380V'!F74","v":0},"00","00",{"$f":"IF(E25=\"\",'QT Rede Trifásica - 380V'!O74,SUM('QT Rede Trifásica - 380V'!O74,VLOOKUP(E25,D:F,3,0)))","v":0.70688088527263204}]
[null,{"$f":"'QT Rede Trifásica - 380V'!D75","v":0},{"$f":"'QT Rede Trifásica - 380V'!F75","v":0},"00","00",{"$f":"IF(E26=\"\",'QT Rede Trifásica - 380V'!O75,SUM('QT Rede Trifásica - 380V'!O75,VLOOKUP(E26,D:F,3,0)))","v":0.70688088527263204}]
[null,{"$f":"'QT Rede Trifásica - 380V'!D76","v":0},{"$f":"'QT Rede Trifásica - 380V'!F76","v":0},"00","00",{"$f":"IF(E27=\"\",'QT Rede Trifásica - 380V'!O76,SUM('QT Rede Trifásica - 380V'!O76,VLOOKUP(E27,D:F,3,0)))","v":0.70688088527263204}]
[null,{"$f":"'QT Rede Trifásica - 380V'!D77","v":0},{"$f":"'QT Rede Trifásica - 380V'!F77","v":0},"00","00",{"$f":"IF(E28=\"\",'QT Rede Trifásica - 380V'!O77,SUM('QT Rede Trifásica - 380V'!O77,VLOOKUP(E28,D:F,3,0)))","v":0.70688088527263204}]
[null,{"$f":"'QT Rede Trifásica - 380V'!D78","v":0},{"$f":"'QT Rede Trifásica - 380V'!F78","v":0},"00","00",{"$f":"IF(E29=\"\",'QT Rede Trifásica - 380V'!O78,SUM('QT Rede Trifásica - 380V'!O78,VLOOKUP(E29,D:F,3,0)))","v":0.70688088527263204}]
[null,{"$f":"'QT Rede Trifásica - 380V'!D79","v":0},{"$f":"'QT Rede Trifásica - 380V'!F79","v":0},"00","00",{"$f":"IF(E30=\"\",'QT Rede Trifásica - 380V'!O79,SUM('QT Rede Trifásica - 380V'!O79,VLOOKUP(E30,D:F,3,0)))","v":0.70688088527263204}]
[null,{"$f":"'QT Rede Trifásica - 380V'!D80","v":0},{"$f":"'QT Rede Trifásica - 380V'!F80","v":0},"00","00",{"$f":"IF(E31=\"\",'QT Rede Trifásica - 380V'!O80,SUM('QT Rede Trifásica - 380V'!O80,VLOOKUP(E31,D:F,3,0)))","v":0.70688088527263204}]
[null,{"$f":"'QT Rede Trifásica - 380V'!D81","v":0},{"$f":"'QT Rede Trifásica - 380V'!F81","v":0},"00","00",{"$f":"IF(E32=\"\",'QT Rede Trifásica - 380V'!O81,SUM('QT Rede Trifásica - 380V'!O81,VLOOKUP(E32,D:F,3,0)))","v":0.70688088527263204}]
[null,{"$f":"'QT Rede Trifásica - 380V'!D82","v":0},{"$f":"'QT Rede Trifásica - 380V'!F82","v":0},"00","00",{"$f":"IF(E33=\"\",'QT Rede Trifásica - 380V'!O82,SUM('QT Rede Trifásica - 380V'!O82,VLOOKUP(E33,D:F,3,0)))","v":0.70688088527263204}]
[null,{"$f":"'QT Rede Trifásica - 380V'!D83","v":0},{"$f":"'QT Rede Trifásica - 380V'!F83","v":0},"00","00",{"$f":"IF(E34=\"\",'QT Rede Trifásica - 380V'!O83,SUM('QT Rede Trifásica - 380V'!O83,VLOOKUP(E34,D:F,3,0)))","v":0.70688088527263204}]
[null,{"$f":"'QT Rede Trifásica - 380V'!D84","v":0},{"$f":"'QT Rede Trifásica - 380V'!F84","v":0},"00","00",{"$f":"IF(E35=\"\",'QT Rede Trifásica - 380V'!O84,SUM('QT Rede Trifásica - 380V'!O84,VLOOKUP(E35,D:F,3,0)))","v":0.70688088527263204}]
[null,{"$f":"'QT Rede Trifásica - 380V'!D85","v":0},{"$f":"'QT Rede Trifásica - 380V'!F85","v":0},"00","00",{"$f":"IF(E36=\"\",'QT Rede Trifásica - 380V'!O85,SUM('QT Rede Trifásica - 380V'!O85,VLOOKUP(E36,D:F,3,0)))","v":0.70688088527263204}]
[null,{"$f":"'QT Rede Trifásica - 380V'!D86","v":0},{"$f":"'QT Rede Trifásica - 380V'!F86","v":0},"00","00",{"$f":"IF(E37=\"\",'QT Rede Trifásica - 380V'!O86,SUM('QT Rede Trifásica - 380V'!O86,VLOOKUP(E37,D:F,3,0)))","v":0.70688088527263204}]
[null,{"$f":"'QT Rede Trifásica - 380V'!D87","v":0},{"$f":"'QT Rede Trifásica - 380V'!F87","v":0},"00","00",{"$f":"IF(E38=\"\",'QT Rede Trifásica - 380V'!O87,SUM('QT Rede Trifásica - 380V'!O87,VLOOKUP(E38,D:F,3,0)))","v":0.70688088527263204}]
[null,{"$f":"'QT Rede Trifásica - 380V'!D88","v":0},{"$f":"'QT Rede Trifásica - 380V'!F88","v":0},"00","00",{"$f":"IF(E39=\"\",'QT Rede Trifásica - 380V'!O88,SUM('QT Rede Trifásica - 380V'!O88,VLOOKUP(E39,D:F,3,0)))","v":0.70688088527263204}]
[null,{"$f":"'QT Rede Trifásica - 380V'!D89","v":0},{"$f":"'QT Rede Trifásica - 380V'!F89","v":0},"00","00",{"$f":"IF(E40=\"\",'QT Rede Trifásica - 380V'!O89,SUM('QT Rede Trifásica - 380V'!O89,VLOOKUP(E40,D:F,3,0)))","v":0.70688088527263204}]
[null,{"$f":"'QT Rede Trifásica - 380V'!D90","v":0},{"$f":"'QT Rede Trifásica - 380V'!F90","v":0},"00","00",{"$f":"IF(E41=\"\",'QT Rede Trifásica - 380V'!O90,SUM('QT Rede Trifásica - 380V'!O90,VLOOKUP(E41,D:F,3,0)))","v":0.70688088527263204}]
[null,{"$f":"'QT Rede Trifásica - 380V'!D91","v":0},{"$f":"'QT Rede Trifásica - 380V'!F91","v":0},"00","00",{"$f":"IF(E42=\"\",'QT Rede Trifásica - 380V'!O91,SUM('QT Rede Trifásica - 380V'!O91,VLOOKUP(E42,D:F,3,0)))","v":0.70688088527263204}]
[null,{"$f":"'QT Rede Trifásica - 380V'!D92","v":0},{"$f":"'QT Rede Trifásica - 380V'!F92","v":0},"00","00",{"$f":"IF(E43=\"\",'QT Rede Trifásica - 380V'!O92,SUM('QT Rede Trifásica - 380V'!O92,VLOOKUP(E43,D:F,3,0)))","v":0.70688088527263204}]
[null,{"$f":"'QT Rede Trifásica - 380V'!D93","v":0},{"$f":"'QT Rede Trifásica - 380V'!F93","v":0},"00","00",{"$f":"IF(E44=\"\",'QT Rede Trifásica - 380V'!O93,SUM('QT Rede Trifásica - 380V'!O93,VLOOKUP(E44,D:F,3,0)))","v":0.70688088527263204}]
[null,{"$f":"'QT Rede Trifásica - 380V'!D94","v":0},{"$f":"'QT Rede Trifásica - 380V'!F94","v":0},"00","00",{"$f":"IF(E45=\"\",'QT Rede Trifásica - 380V'!O94,SUM('QT Rede Trifásica - 380V'!O94,VLOOKUP(E45,D:F,3,0)))","v":0.70688088527263204}]
[null,{"$f":"'QT Rede Trifásica - 380V'!D95","v":0},{"$f":"'QT Rede Trifásica - 380V'!F95","v":0},"00","00",{"$f":"IF(E46=\"\",'QT Rede Trifásica - 380V'!O95,SUM('QT Rede Trifásica - 380V'!O95,VLOOKUP(E46,D:F,3,0)))","v":0.70688088527263204}]
[null,{"$f":"'QT Rede Trifásica - 380V'!D96","v":0},{"$f":"'QT Rede Trifásica - 380V'!F96","v":0},"00","00",{"$f":"IF(E47=\"\",'QT Rede Trifásica - 380V'!O96,SUM('QT Rede Trifásica - 380V'!O96,VLOOKUP(E47,D:F,3,0)))","v":0.70688088527263204}]
[null,{"$f":"'QT Rede Trifásica - 380V'!D97","v":0},{"$f":"'QT Rede Trifásica - 380V'!F97","v":0},"00","00",{"$f":"IF(E48=\"\",'QT Rede Trifásica - 380V'!O97,SUM('QT Rede Trifásica - 380V'!O97,VLOOKUP(E48,D:F,3,0)))","v":0.70688088527263204}]
[null,{"$f":"'QT Rede Trifásica - 380V'!D98","v":0},{"$f":"'QT Rede Trifásica - 380V'!F98","v":0},"00","00",{"$f":"IF(E49=\"\",'QT Rede Trifásica - 380V'!O98,SUM('QT Rede Trifásica - 380V'!O98,VLOOKUP(E49,D:F,3,0)))","v":0.70688088527263204}]
[null,{"$f":"'QT Rede Trifásica - 380V'!D99","v":0},{"$f":"'QT Rede Trifásica - 380V'!F99","v":0},"00","00",{"$f":"IF(E50=\"\",'QT Rede Trifásica - 380V'!O99,SUM('QT Rede Trifásica - 380V'!O99,VLOOKUP(E50,D:F,3,0)))","v":0.70688088527263204}]
[null,{"$f":"'QT Rede Trifásica - 380V'!D100","v":0},{"$f":"'QT Rede Trifásica - 380V'!F100","v":0},"00","00",{"$f":"IF(E51=\"\",'QT Rede Trifásica - 380V'!O100,SUM('QT Rede Trifásica - 380V'!O100,VLOOKUP(E51,D:F,3,0)))","v":0.70688088527263204}]
[null,{"$f":"'QT Rede Trifásica - 380V'!D101","v":0},{"$f":"'QT Rede Trifásica - 380V'!F101","v":0},"00","00",{"$f":"IF(E52=\"\",'QT Rede Trifásica - 380V'!O101,SUM('QT Rede Trifásica - 380V'!O101,VLOOKUP(E52,D:F,3,0)))","v":0.70688088527263204}]
[null,{"$f":"'QT Rede Trifásica - 380V'!D102","v":0},{"$f":"'QT Rede Trifásica - 380V'!F102","v":0},"00","00",{"$f":"IF(E53=\"\",'QT Rede Trifásica - 380V'!O102,SUM('QT Rede Trifásica - 380V'!O102,VLOOKUP(E53,D:F,3,0)))","v":0.70688088527263204}]
[null,{"$f":"'QT Rede Trifásica - 380V'!D103","v":0},{"$f":"'QT Rede Trifásica - 380V'!F103","v":0},"00","00",{"$f":"IF(E54=\"\",'QT Rede Trifásica - 380V'!O103,SUM('QT Rede Trifásica - 380V'!O103,VLOOKUP(E54,D:F,3,0)))","v":0.70688088527263204}]
[null,{"$f":"'QT Rede Trifásica - 380V'!D104","v":0},{"$f":"'QT Rede Trifásica - 380V'!F104","v":0},"00","00",{"$f":"IF(E55=\"\",'QT Rede Trifásica - 380V'!O104,SUM('QT Rede Trifásica - 380V'!O104,VLOOKUP(E55,D:F,3,0)))","v":0.70688088527263204}]
[null,{"$f":"'QT Rede Trifásica - 380V'!D105","v":0},{"$f":"'QT Rede Trifásica - 380V'!F105","v":0},"00","00",{"$f":"IF(E56=\"\",'QT Rede Trifásica - 380V'!O105,SUM('QT Rede Trifásica - 380V'!O105,VLOOKUP(E56,D:F,3,0)))","v":0.70688088527263204}]
[null,{"$f":"'QT Rede Trifásica - 380V'!D106","v":0},{"$f":"'QT Rede Trifásica - 380V'!F106","v":0},"00","00",{"$f":"IF(E57=\"\",'QT Rede Trifásica - 380V'!O106,SUM('QT Rede Trifásica - 380V'!O106,VLOOKUP(E57,D:F,3,0)))","v":0.70688088527263204}]
[null,{"$f":"'QT Rede Trifásica - 380V'!D107","v":0},{"$f":"'QT Rede Trifásica - 380V'!F107","v":0},"00","00",{"$f":"IF(E58=\"\",'QT Rede Trifásica - 380V'!O107,SUM('QT Rede Trifásica - 380V'!O107,VLOOKUP(E58,D:F,3,0)))","v":0.70688088527263204}]
[null,{"$f":"'QT Rede Trifásica - 380V'!D108","v":0},{"$f":"'QT Rede Trifásica - 380V'!F108","v":0},"00","00",{"$f":"IF(E59=\"\",'QT Rede Trifásica - 380V'!O108,SUM('QT Rede Trifásica - 380V'!O108,VLOOKUP(E59,D:F,3,0)))","v":0.70688088527263204}]
[null,{"$f":"'QT Rede Trifásica - 380V'!D109","v":0},{"$f":"'QT Rede Trifásica - 380V'!F109","v":0},"00","00",{"$f":"IF(E60=\"\",'QT Rede Trifásica - 380V'!O109,SUM('QT Rede Trifásica - 380V'!O109,VLOOKUP(E60,D:F,3,0)))","v":0.70688088527263204}]
[null,{"$f":"'QT Rede Trifásica - 380V'!D110","v":0},{"$f":"'QT Rede Trifásica - 380V'!F110","v":0},"00","00",{"$f":"IF(E61=\"\",'QT Rede Trifásica - 380V'!O110,SUM('QT Rede Trifásica - 380V'!O110,VLOOKUP(E61,D:F,3,0)))","v":0.70688088527263204}]
[null,{"$f":"'QT Rede Trifásica - 380V'!D111","v":0},{"$f":"'QT Rede Trifásica - 380V'!F111","v":0},"00","00",{"$f":"IF(E62=\"\",'QT Rede Trifásica - 380V'!O111,SUM('QT Rede Trifásica - 380V'!O111,VLOOKUP(E62,D:F,3,0)))","v":0.70688088527263204}]
[null,{"$f":"'QT Rede Trifásica - 380V'!D112","v":0},{"$f":"'QT Rede Trifásica - 380V'!F112","v":0},"00","00",{"$f":"IF(E63=\"\",'QT Rede Trifásica - 380V'!O112,SUM('QT Rede Trifásica - 380V'!O112,VLOOKUP(E63,D:F,3,0)))","v":0.70688088527263204}]
[null,{"$f":"'QT Rede Trifásica - 380V'!D113","v":0},{"$f":"'QT Rede Trifásica - 380V'!F113","v":0},"00","00",{"$f":"IF(E64=\"\",'QT Rede Trifásica - 380V'!O113,SUM('QT Rede Trifásica - 380V'!O113,VLOOKUP(E64,D:F,3,0)))","v":0.70688088527263204}]
[null,{"$f":"'QT Rede Trifásica - 380V'!D114","v":0},{"$f":"'QT Rede Trifásica - 380V'!F114","v":0},"00","00",{"$f":"IF(E65=\"\",'QT Rede Trifásica - 380V'!O114,SUM('QT Rede Trifásica - 380V'!O114,VLOOKUP(E65,D:F,3,0)))","v":0.70688088527263204}]
[null,{"$f":"'QT Rede Trifásica - 380V'!D115","v":0},{"$f":"'QT Rede Trifásica - 380V'!F115","v":0},"00","00",{"$f":"IF(E66=\"\",'QT Rede Trifásica - 380V'!O115,SUM('QT Rede Trifásica - 380V'!O115,VLOOKUP(E66,D:F,3,0)))","v":0.70688088527263204}]
[null,{"$f":"'QT Rede Trifásica - 380V'!D116","v":0},{"$f":"'QT Rede Trifásica - 380V'!F116","v":0},"00",{"$f":"IFERROR(VLOOKUP(B67,C:D,2,0),\"\")","v":"00"},{"$f":"IF(E67=\"\",'QT Rede Trifásica - 380V'!O116,SUM('QT Rede Trifásica - 380V'!O116,VLOOKUP(E67,D:F,3,0)))","v":0.70688088527263204}]
[null,{"$f":"'QT Rede Trifásica - 380V'!D117","v":0},{"$f":"'QT Rede Trifásica - 380V'!F117","v":0},"00","00",{"$f":"IF(E68=\"\",'QT Rede Trifásica - 380V'!O117,SUM('QT Rede Trifásica - 380V'!O117,VLOOKUP(E68,D:F,3,0)))","v":0.70688088527263204}]
[null,{"$f":"'QT Rede Trifásica - 380V'!D118","v":0},{"$f":"'QT Rede Trifásica - 380V'!F118","v":0},{"$f":"B69&C69","v":"00"},"00",{"$f":"IF(E69=\"\",'QT Rede Trifásica - 380V'!O118,SUM('QT Rede Trifásica - 380V'!O118,VLOOKUP(E69,D:F,3,0)))","v":0.70688088527263204}]
[null,{"$f":"'QT Rede Trifásica - 380V'!D119","v":0},{"$f":"'QT Rede Trifásica - 380V'!F119","v":0},"00","00",{"$f":"IF(E70=\"\",'QT Rede Trifásica - 380V'!O119,SUM('QT Rede Trifásica - 380V'!O119,VLOOKUP(E70,D:F,3,0)))","v":0.70688088527263204}]
[null,{"$f":"'QT Rede Trifásica - 380V'!D120","v":0},{"$f":"'QT Rede Trifásica - 380V'!F120","v":0},"00","00",{"$f":"IF(E71=\"\",'QT Rede Trifásica - 380V'!O120,SUM('QT Rede Trifásica - 380V'!O120,VLOOKUP(E71,D:F,3,0)))","v":0.70688088527263204}]
[null,{"$f":"'QT Rede Trifásica - 380V'!D121","v":0},{"$f":"'QT Rede Trifásica - 380V'!F121","v":0},"00","00",{"$f":"IF(E72=\"\",'QT Rede Trifásica - 380V'!O121,SUM('QT Rede Trifásica - 380V'!O121,VLOOKUP(E72,D:F,3,0)))","v":0.70688088527263204}]
[null,{"$f":"'QT Rede Trifásica - 380V'!D122","v":0},{"$f":"'QT Rede Trifásica - 380V'!F122","v":0},"00","00",{"$f":"IF(E73=\"\",'QT Rede Trifásica - 380V'!O122,SUM('QT Rede Trifásica - 380V'!O122,VLOOKUP(E73,D:F,3,0)))","v":0.70688088527263204}]
[null,{"$f":"'QT Rede Trifásica - 380V'!D123","v":0},{"$f":"'QT Rede Trifásica - 380V'!F123","v":0},"00","00",{"$f":"IF(E74=\"\",'QT Rede Trifásica - 380V'!O123,SUM('QT Rede Trifásica - 380V'!O123,VLOOKUP(E74,D:F,3,0)))","v":0.70688088527263204}]
[null,{"$f":"'QT Rede Trifásica - 380V'!D124","v":0},{"$f":"'QT Rede Trifásica - 380V'!F124","v":0},"00","00",{"$f":"IF(E75=\"\",'QT Rede Trifásica - 380V'!O124,SUM('QT Rede Trifásica - 380V'!O124,VLOOKUP(E75,D:F,3,0)))","v":0.70688088527263204}]
[null,{"$f":"'QT Rede Trifásica - 380V'!D125","v":0},{"$f":"'QT Rede Trifásica - 380V'!F125","v":0},"00","00",{"$f":"IF(E76=\"\",'QT Rede Trifásica - 380V'!O125,SUM('QT Rede Trifásica - 380V'!O125,VLOOKUP(E76,D:F,3,0)))","v":0.70688088527263204}]
[null,{"$f":"'QT Rede Trifásica - 380V'!D126","v":0},{"$f":"'QT Rede Trifásica - 380V'!F126","v":0},"00","00",{"$f":"IF(E77=\"\",'QT Rede Trifásica - 380V'!O126,SUM('QT Rede Trifásica - 380V'!O126,VLOOKUP(E77,D:F,3,0)))","v":0.70688088527263204}]
[null,{"$f":"'QT Rede Trifásica - 380V'!D127","v":0},{"$f":"'QT Rede Trifásica - 380V'!F127","v":0},"00","00",{"$f":"IF(E78=\"\",'QT Rede Trifásica - 380V'!O127,SUM('QT Rede Trifásica - 380V'!O127,VLOOKUP(E78,D:F,3,0)))","v":0.70688088527263204}]
[null,{"$f":"'QT Rede Trifásica - 380V'!D128","v":0},{"$f":"'QT Rede Trifásica - 380V'!F128","v":0},"00","00",{"$f":"IF(E79=\"\",'QT Rede Trifásica - 380V'!O128,SUM('QT Rede Trifásica - 380V'!O128,VLOOKUP(E79,D:F,3,0)))","v":0.70688088527263204}]
[null,{"$f":"'QT Rede Trifásica - 380V'!D129","v":0},{"$f":"'QT Rede Trifásica - 380V'!F129","v":0},"00","00",{"$f":"IF(E80=\"\",'QT Rede Trifásica - 380V'!O129,SUM('QT Rede Trifásica - 380V'!O129,VLOOKUP(E80,D:F,3,0)))","v":0.70688088527263204}]
[null,{"$f":"'QT Rede Trifásica - 380V'!D130","v":0},{"$f":"'QT Rede Trifásica - 380V'!F130","v":0},"00","00",{"$f":"IF(E81=\"\",'QT Rede Trifásica - 380V'!O130,SUM('QT Rede Trifásica - 380V'!O130,VLOOKUP(E81,D:F,3,0)))","v":0.70688088527263204}]
[null,{"$f":"'QT Rede Trifásica - 380V'!D131","v":0},{"$f":"'QT Rede Trifásica - 380V'!F131","v":0},"00","00",{"$f":"IF(E82=\"\",'QT Rede Trifásica - 380V'!O131,SUM('QT Rede Trifásica - 380V'!O131,VLOOKUP(E82,D:F,3,0)))","v":0.70688088527263204}]
[null,{"$f":"'QT Rede Trifásica - 380V'!D132","v":0},{"$f":"'QT Rede Trifásica - 380V'!F132","v":0},"00","00",{"$f":"IF(E83=\"\",'QT Rede Trifásica - 380V'!O132,SUM('QT Rede Trifásica - 380V'!O132,VLOOKUP(E83,D:F,3,0)))","v":0.70688088527263204}]
[null,{"$f":"'QT Rede Trifásica - 380V'!D133","v":0},{"$f":"'QT Rede Trifásica - 380V'!F133","v":0},"00","00",{"$f":"IF(E84=\"\",'QT Rede Trifásica - 380V'!O133,SUM('QT Rede Trifásica - 380V'!O133,VLOOKUP(E84,D:F,3,0)))","v":0.70688088527263204}]
[null,{"$f":"'QT Rede Trifásica - 380V'!D134","v":0},{"$f":"'QT Rede Trifásica - 380V'!F134","v":0},"00","00",{"$f":"IF(E85=\"\",'QT Rede Trifásica - 380V'!O134,SUM('QT Rede Trifásica - 380V'!O134,VLOOKUP(E85,D:F,3,0)))","v":0.70688088527263204}]
[null,{"$f":"'QT Rede Trifásica - 380V'!D135","v":0},{"$f":"'QT Rede Trifásica - 380V'!F135","v":0},"00","00",{"$f":"IF(E86=\"\",'QT Rede Trifásica - 380V'!O135,SUM('QT Rede Trifásica - 380V'!O135,VLOOKUP(E86,D:F,3,0)))","v":0.70688088527263204}]
[null,{"$f":"'QT Rede Trifásica - 380V'!D136","v":0},{"$f":"'QT Rede Trifásica - 380V'!F136","v":0},"00","00",{"$f":"IF(E87=\"\",'QT Rede Trifásica - 380V'!O136,SUM('QT Rede Trifásica - 380V'!O136,VLOOKUP(E87,D:F,3,0)))","v":0.70688088527263204}]
[null,{"$f":"'QT Rede Trifásica - 380V'!D137","v":0},{"$f":"'QT Rede Trifásica - 380V'!F137","v":0},"00","00",{"$f":"IF(E88=\"\",'QT Rede Trifásica - 380V'!O137,SUM('QT Rede Trifásica - 380V'!O137,VLOOKUP(E88,D:F,3,0)))","v":0.70688088527263204}]
[null,{"$f":"'QT Rede Trifásica - 380V'!D138","v":0},{"$f":"'QT Rede Trifásica - 380V'!F138","v":0},"00","00",{"$f":"IF(E89=\"\",'QT Rede Trifásica - 380V'!O138,SUM('QT Rede Trifásica - 380V'!O138,VLOOKUP(E89,D:F,3,0)))","v":0.70688088527263204}]
[null,{"$f":"'QT Rede Trifásica - 380V'!D139","v":0},{"$f":"'QT Rede Trifásica - 380V'!F139","v":0},"00","00",{"$f":"IF(E90=\"\",'QT Rede Trifásica - 380V'!O139,SUM('QT Rede Trifásica - 380V'!O139,VLOOKUP(E90,D:F,3,0)))","v":0.70688088527263204}]
[null,{"$f":"'QT Rede Trifásica - 380V'!D140","v":0},{"$f":"'QT Rede Trifásica - 380V'!F140","v":0},"00","00",{"$f":"IF(E91=\"\",'QT Rede Trifásica - 380V'!O140,SUM('QT Rede Trifásica - 380V'!O140,VLOOKUP(E91,D:F,3,0)))","v":0.70688088527263204}]
[null,{"$f":"'QT Rede Trifásica - 380V'!D141","v":0},{"$f":"'QT Rede Trifásica - 380V'!F141","v":0},"00","00",{"$f":"IF(E92=\"\",'QT Rede Trifásica - 380V'!O141,SUM('QT Rede Trifásica - 380V'!O141,VLOOKUP(E92,D:F,3,0)))","v":0.70688088527263204}]
[null,{"$f":"'QT Rede Trifásica - 380V'!D142","v":0},{"$f":"'QT Rede Trifásica - 380V'!F142","v":0},"00","00",{"$f":"IF(E93=\"\",'QT Rede Trifásica - 380V'!O142,SUM('QT Rede Trifásica - 380V'!O142,VLOOKUP(E93,D:F,3,0)))","v":0.70688088527263204}]
[null,{"$f":"'QT Rede Trifásica - 380V'!D143","v":0},{"$f":"'QT Rede Trifásica - 380V'!F143","v":0},"00","00",{"$f":"IF(E94=\"\",'QT Rede Trifásica - 380V'!O143,SUM('QT Rede Trifásica - 380V'!O143,VLOOKUP(E94,D:F,3,0)))","v":0.70688088527263204}]
[null,{"$f":"'QT Rede Trifásica - 380V'!D144","v":0},{"$f":"'QT Rede Trifásica - 380V'!F144","v":0},"00","00",{"$f":"IF(E95=\"\",'QT Rede Trifásica - 380V'!O144,SUM('QT Rede Trifásica - 380V'!O144,VLOOKUP(E95,D:F,3,0)))","v":0.70688088527263204}]
[null,{"$f":"'QT Rede Trifásica - 380V'!D145","v":0},{"$f":"'QT Rede Trifásica - 380V'!F145","v":0},"00","00",{"$f":"IF(E96=\"\",'QT Rede Trifásica - 380V'!O145,SUM('QT Rede Trifásica - 380V'!O145,VLOOKUP(E96,D:F,3,0)))","v":0.70688088527263204}]
[null,{"$f":"'QT Rede Trifásica - 380V'!D146","v":0},{"$f":"'QT Rede Trifásica - 380V'!F146","v":0},"00","00",{"$f":"IF(E97=\"\",'QT Rede Trifásica - 380V'!O146,SUM('QT Rede Trifásica - 380V'!O146,VLOOKUP(E97,D:F,3,0)))","v":0.70688088527263204}]
[null,{"$f":"'QT Rede Trifásica - 380V'!D147","v":0},{"$f":"'QT Rede Trifásica - 380V'!F147","v":0},"00","00",{"$f":"IF(E98=\"\",'QT Rede Trifásica - 380V'!O147,SUM('QT Rede Trifásica - 380V'!O147,VLOOKUP(E98,D:F,3,0)))","v":0.70688088527263204}]
[null,{"$f":"'QT Rede Trifásica - 380V'!D148","v":0},{"$f":"'QT Rede Trifásica - 380V'!F148","v":0},"00","00",{"$f":"IF(E99=\"\",'QT Rede Trifásica - 380V'!O148,SUM('QT Rede Trifásica - 380V'!O148,VLOOKUP(E99,D:F,3,0)))","v":0.70688088527263204}]
[null,{"$f":"'QT Rede Trifásica - 380V'!D149","v":0},{"$f":"'QT Rede Trifásica - 380V'!F149","v":0},"00","00",{"$f":"IF(E100=\"\",'QT Rede Trifásica - 380V'!O149,SUM('QT Rede Trifásica - 380V'!O149,VLOOKUP(E100,D:F,3,0)))","v":0.70688088527263204}]
[null,{"$f":"'QT Rede Trifásica - 380V'!D150","v":0},{"$f":"'QT Rede Trifásica - 380V'!F150","v":0},"00","00",{"$f":"IF(E101=\"\",'QT Rede Trifásica - 380V'!O150,SUM('QT Rede Trifásica - 380V'!O150,VLOOKUP(E101,D:F,3,0)))","v":0.70688088527263204}]
[null,{"$f":"'QT Rede Trifásica - 380V'!D151","v":0},{"$f":"'QT Rede Trifásica - 380V'!F151","v":0},"00","00",{"$f":"IF(E102=\"\",'QT Rede Trifásica - 380V'!O151,SUM('QT Rede Trifásica - 380V'!O151,VLOOKUP(E102,D:F,3,0)))","v":0.70688088527263204}]
[null,{"$f":"'QT Rede Trifásica - 380V'!D152","v":0},{"$f":"'QT Rede Trifásica - 380V'!F152","v":0},"00","00",{"$f":"IF(E103=\"\",'QT Rede Trifásica - 380V'!O152,SUM('QT Rede Trifásica - 380V'!O152,VLOOKUP(E103,D:F,3,0)))","v":0.70688088527263204}]
[null,{"$f":"'QT Rede Trifásica - 380V'!D153","v":0},{"$f":"'QT Rede Trifásica - 380V'!F153","v":0},"00","00",{"$f":"IF(E104=\"\",'QT Rede Trifásica - 380V'!O153,SUM('QT Rede Trifásica - 380V'!O153,VLOOKUP(E104,D:F,3,0)))","v":0.70688088527263204}]
[null,{"$f":"'QT Rede Trifásica - 380V'!D154","v":0},{"$f":"'QT Rede Trifásica - 380V'!F154","v":0},"00","00",{"$f":"IF(E105=\"\",'QT Rede Trifásica - 380V'!O154,SUM('QT Rede Trifásica - 380V'!O154,VLOOKUP(E105,D:F,3,0)))","v":0.70688088527263204}]
[null,{"$f":"'QT Rede Trifásica - 380V'!D155","v":0},{"$f":"'QT Rede Trifásica - 380V'!F155","v":0},"00","00",{"$f":"IF(E106=\"\",'QT Rede Trifásica - 380V'!O155,SUM('QT Rede Trifásica - 380V'!O155,VLOOKUP(E106,D:F,3,0)))","v":0.70688088527263204}]
[null,{"$f":"'QT Rede Trifásica - 380V'!D156","v":0},{"$f":"'QT Rede Trifásica - 380V'!F156","v":0},"00","00",{"$f":"IF(E107=\"\",'QT Rede Trifásica - 380V'!O156,SUM('QT Rede Trifásica - 380V'!O156,VLOOKUP(E107,D:F,3,0)))","v":0.70688088527263204}]
[null,{"$f":"'QT Rede Trifásica - 380V'!D157","v":0},{"$f":"'QT Rede Trifásica - 380V'!F157","v":0},"00","00",{"$f":"IF(E108=\"\",'QT Rede Trifásica - 380V'!O157,SUM('QT Rede Trifásica - 380V'!O157,VLOOKUP(E108,D:F,3,0)))","v":0.70688088527263204}]
[null,{"$f":"'QT Rede Trifásica - 380V'!D158","v":0},{"$f":"'QT Rede Trifásica - 380V'!F158","v":0},"00","00",{"$f":"IF(E109=\"\",'QT Rede Trifásica - 380V'!O158,SUM('QT Rede Trifásica - 380V'!O158,VLOOKUP(E109,D:F,3,0)))","v":0.70688088527263204}]
[null,{"$f":"'QT Rede Trifásica - 380V'!D159","v":0},{"$f":"'QT Rede Trifásica - 380V'!F159","v":0},"00","00",{"$f":"IF(E110=\"\",'QT Rede Trifásica - 380V'!O159,SUM('QT Rede Trifásica - 380V'!O159,VLOOKUP(E110,D:F,3,0)))","v":0.70688088527263204}]
[null,{"$f":"'QT Rede Trifásica - 380V'!D160","v":0},{"$f":"'QT Rede Trifásica - 380V'!F160","v":0},"00","00",{"$f":"IF(E111=\"\",'QT Rede Trifásica - 380V'!O160,SUM('QT Rede Trifásica - 380V'!O160,VLOOKUP(E111,D:F,3,0)))","v":0.70688088527263204}]
[null,{"$f":"'QT Rede Trifásica - 380V'!D161","v":0},{"$f":"'QT Rede Trifásica - 380V'!F161","v":0},"00","00",{"$f":"IF(E112=\"\",'QT Rede Trifásica - 380V'!O161,SUM('QT Rede Trifásica - 380V'!O161,VLOOKUP(E112,D:F,3,0)))","v":0.70688088527263204}]
[null,{"$f":"'QT Rede Trifásica - 380V'!D162","v":0},{"$f":"'QT Rede Trifásica - 380V'!F162","v":0},"00","00",{"$f":"IF(E113=\"\",'QT Rede Trifásica - 380V'!O162,SUM('QT Rede Trifásica - 380V'!O162,VLOOKUP(E113,D:F,3,0)))","v":0.70688088527263204}]
[null,{"$f":"'QT Rede Trifásica - 380V'!D163","v":0},{"$f":"'QT Rede Trifásica - 380V'!F163","v":0},"00","00",{"$f":"IF(E114=\"\",'QT Rede Trifásica - 380V'!O163,SUM('QT Rede Trifásica - 380V'!O163,VLOOKUP(E114,D:F,3,0)))","v":0.70688088527263204}]
[null,{"$f":"'QT Rede Trifásica - 380V'!D164","v":0},{"$f":"'QT Rede Trifásica - 380V'!F164","v":0},"00","00",{"$f":"IF(E115=\"\",'QT Rede Trifásica - 380V'!O164,SUM('QT Rede Trifásica - 380V'!O164,VLOOKUP(E115,D:F,3,0)))","v":0.70688088527263204}]
[null,{"$f":"'QT Rede Trifásica - 380V'!D165","v":0},{"$f":"'QT Rede Trifásica - 380V'!F165","v":0},"00","00",{"$f":"IF(E116=\"\",'QT Rede Trifásica - 380V'!O165,SUM('QT Rede Trifásica - 380V'!O165,VLOOKUP(E116,D:F,3,0)))","v":0.70688088527263204}]
[null,{"$f":"'QT Rede Trifásica - 380V'!D166","v":0},{"$f":"'QT Rede Trifásica - 380V'!F166","v":0},"00","00",{"$f":"IF(E117=\"\",'QT Rede Trifásica - 380V'!O166,SUM('QT Rede Trifásica - 380V'!O166,VLOOKUP(E117,D:F,3,0)))","v":0.70688088527263204}]
[null,{"$f":"'QT Rede Trifásica - 380V'!D167","v":0},{"$f":"'QT Rede Trifásica - 380V'!F167","v":0},"00","00",{"$f":"IF(E118=\"\",'QT Rede Trifásica - 380V'!O167,SUM('QT Rede Trifásica - 380V'!O167,VLOOKUP(E118,D:F,3,0)))","v":0.70688088527263204}]
[null,{"$f":"'QT Rede Trifásica - 380V'!D168","v":0},{"$f":"'QT Rede Trifásica - 380V'!F168","v":0},"00","00",{"$f":"IF(E119=\"\",'QT Rede Trifásica - 380V'!O168,SUM('QT Rede Trifásica - 380V'!O168,VLOOKUP(E119,D:F,3,0)))","v":0.70688088527263204}]
[null,{"$f":"'QT Rede Trifásica - 380V'!D169","v":0},{"$f":"'QT Rede Trifásica - 380V'!F169","v":0},"00","00",{"$f":"IF(E120=\"\",'QT Rede Trifásica - 380V'!O169,SUM('QT Rede Trifásica - 380V'!O169,VLOOKUP(E120,D:F,3,0)))","v":0.70688088527263204}]
[null,{"$f":"'QT Rede Trifásica - 380V'!D170","v":0},{"$f":"'QT Rede Trifásica - 380V'!F170","v":0},"00","00",{"$f":"IF(E121=\"\",'QT Rede Trifásica - 380V'!O170,SUM('QT Rede Trifásica - 380V'!O170,VLOOKUP(E121,D:F,3,0)))","v":0.70688088527263204}]
[null,{"$f":"'QT Rede Trifásica - 380V'!D171","v":0},{"$f":"'QT Rede Trifásica - 380V'!F171","v":0},"00","00",{"$f":"IF(E122=\"\",'QT Rede Trifásica - 380V'!O171,SUM('QT Rede Trifásica - 380V'!O171,VLOOKUP(E122,D:F,3,0)))","v":0.70688088527263204}]
[null,{"$f":"'QT Rede Trifásica - 380V'!D172","v":0},{"$f":"'QT Rede Trifásica - 380V'!F172","v":0},"00","00",{"$f":"IF(E123=\"\",'QT Rede Trifásica - 380V'!O172,SUM('QT Rede Trifásica - 380V'!O172,VLOOKUP(E123,D:F,3,0)))","v":0.70688088527263204}]
[null,{"$f":"'QT Rede Trifásica - 380V'!D173","v":0},{"$f":"'QT Rede Trifásica - 380V'!F173","v":0},"00","00",{"$f":"IF(E124=\"\",'QT Rede Trifásica - 380V'!O173,SUM('QT Rede Trifásica - 380V'!O173,VLOOKUP(E124,D:F,3,0)))","v":0.70688088527263204}]
[null,{"$f":"'QT Rede Trifásica - 380V'!D174","v":0},{"$f":"'QT Rede Trifásica - 380V'!F174","v":0},"00","00",{"$f":"IF(E125=\"\",'QT Rede Trifásica - 380V'!O174,SUM('QT Rede Trifásica - 380V'!O174,VLOOKUP(E125,D:F,3,0)))","v":0.70688088527263204}]
[null,{"$f":"'QT Rede Trifásica - 380V'!D175","v":0},{"$f":"'QT Rede Trifásica - 380V'!F175","v":0},"00","00",{"$f":"IF(E126=\"\",'QT Rede Trifásica - 380V'!O175,SUM('QT Rede Trifásica - 380V'!O175,VLOOKUP(E126,D:F,3,0)))","v":0.70688088527263204}]
[null,{"$f":"'QT Rede Trifásica - 380V'!D176","v":0},{"$f":"'QT Rede Trifásica - 380V'!F176","v":0},"00","00",{"$f":"IF(E127=\"\",'QT Rede Trifásica - 380V'!O176,SUM('QT Rede Trifásica - 380V'!O176,VLOOKUP(E127,D:F,3,0)))","v":0.70688088527263204}]
[null,{"$f":"'QT Rede Trifásica - 380V'!D177","v":0},{"$f":"'QT Rede Trifásica - 380V'!F177","v":0},"00","00",{"$f":"IF(E128=\"\",'QT Rede Trifásica - 380V'!O177,SUM('QT Rede Trifásica - 380V'!O177,VLOOKUP(E128,D:F,3,0)))","v":0.70688088527263204}]
[null,{"$f":"'QT Rede Trifásica - 380V'!D178","v":0},{"$f":"'QT Rede Trifásica - 380V'!F178","v":0},"00","00",{"$f":"IF(E129=\"\",'QT Rede Trifásica - 380V'!O178,SUM('QT Rede Trifásica - 380V'!O178,VLOOKUP(E129,D:F,3,0)))","v":0.70688088527263204}]
[null,{"$f":"'QT Rede Trifásica - 380V'!D179","v":0},{"$f":"'QT Rede Trifásica - 380V'!F179","v":0},"00","00",{"$f":"IF(E130=\"\",'QT Rede Trifásica - 380V'!O179,SUM('QT Rede Trifásica - 380V'!O179,VLOOKUP(E130,D:F,3,0)))","v":0.70688088527263204}]
[null,{"$f":"'QT Rede Trifásica - 380V'!D180","v":0},{"$f":"'QT Rede Trifásica - 380V'!F180","v":0},"00",{"$f":"IFERROR(VLOOKUP(B131,C:D,2,0),\"\")","v":"00"},{"$f":"IF(E131=\"\",'QT Rede Trifásica - 380V'!O180,SUM('QT Rede Trifásica - 380V'!O180,VLOOKUP(E131,D:F,3,0)))","v":0.70688088527263204}]
[null,{"$f":"'QT Rede Trifásica - 380V'!D181","v":0},{"$f":"'QT Rede Trifásica - 380V'!F181","v":0},"00","00",{"$f":"IF(E132=\"\",'QT Rede Trifásica - 380V'!O181,SUM('QT Rede Trifásica - 380V'!O181,VLOOKUP(E132,D:F,3,0)))","v":0.70688088527263204}]
[null,{"$f":"'QT Rede Trifásica - 380V'!D182","v":0},{"$f":"'QT Rede Trifásica - 380V'!F182","v":0},{"$f":"B133&C133","v":"00"},"00",{"$f":"IF(E133=\"\",'QT Rede Trifásica - 380V'!O182,SUM('QT Rede Trifásica - 380V'!O182,VLOOKUP(E133,D:F,3,0)))","v":0.70688088527263204}]
[null,{"$f":"'QT Rede Trifásica - 380V'!D183","v":0},{"$f":"'QT Rede Trifásica - 380V'!F183","v":0},"00","00",{"$f":"IF(E134=\"\",'QT Rede Trifásica - 380V'!O183,SUM('QT Rede Trifásica - 380V'!O183,VLOOKUP(E134,D:F,3,0)))","v":0.70688088527263204}]
[null,{"$f":"'QT Rede Trifásica - 380V'!D184","v":0},{"$f":"'QT Rede Trifásica - 380V'!F184","v":0},"00","00",{"$f":"IF(E135=\"\",'QT Rede Trifásica - 380V'!O184,SUM('QT Rede Trifásica - 380V'!O184,VLOOKUP(E135,D:F,3,0)))","v":0.70688088527263204}]
[null,{"$f":"'QT Rede Trifásica - 380V'!D185","v":0},{"$f":"'QT Rede Trifásica - 380V'!F185","v":0},"00","00",{"$f":"IF(E136=\"\",'QT Rede Trifásica - 380V'!O185,SUM('QT Rede Trifásica - 380V'!O185,VLOOKUP(E136,D:F,3,0)))","v":0.70688088527263204}]
[null,{"$f":"'QT Rede Trifásica - 380V'!D186","v":0},{"$f":"'QT Rede Trifásica - 380V'!F186","v":0},"00","00",{"$f":"IF(E137=\"\",'QT Rede Trifásica - 380V'!O186,SUM('QT Rede Trifásica - 380V'!O186,VLOOKUP(E137,D:F,3,0)))","v":0.70688088527263204}]
[null,{"$f":"'QT Rede Trifásica - 380V'!D187","v":0},{"$f":"'QT Rede Trifásica - 380V'!F187","v":0},"00","00",{"$f":"IF(E138=\"\",'QT Rede Trifásica - 380V'!O187,SUM('QT Rede Trifásica - 380V'!O187,VLOOKUP(E138,D:F,3,0)))","v":0.70688088527263204}]
[null,{"$f":"'QT Rede Trifásica - 380V'!D188","v":0},{"$f":"'QT Rede Trifásica - 380V'!F188","v":0},"00","00",{"$f":"IF(E139=\"\",'QT Rede Trifásica - 380V'!O188,SUM('QT Rede Trifásica - 380V'!O188,VLOOKUP(E139,D:F,3,0)))","v":0.70688088527263204}]
[null,{"$f":"'QT Rede Trifásica - 380V'!D189","v":0},{"$f":"'QT Rede Trifásica - 380V'!F189","v":0},"00","00",{"$f":"IF(E140=\"\",'QT Rede Trifásica - 380V'!O189,SUM('QT Rede Trifásica - 380V'!O189,VLOOKUP(E140,D:F,3,0)))","v":0.70688088527263204}]
[null,{"$f":"'QT Rede Trifásica - 380V'!D190","v":0},{"$f":"'QT Rede Trifásica - 380V'!F190","v":0},"00","00",{"$f":"IF(E141=\"\",'QT Rede Trifásica - 380V'!O190,SUM('QT Rede Trifásica - 380V'!O190,VLOOKUP(E141,D:F,3,0)))","v":0.70688088527263204}]
[null,{"$f":"'QT Rede Trifásica - 380V'!D191","v":0},{"$f":"'QT Rede Trifásica - 380V'!F191","v":0},"00","00",{"$f":"IF(E142=\"\",'QT Rede Trifásica - 380V'!O191,SUM('QT Rede Trifásica - 380V'!O191,VLOOKUP(E142,D:F,3,0)))","v":0.70688088527263204}]
[null,{"$f":"'QT Rede Trifásica - 380V'!D192","v":0},{"$f":"'QT Rede Trifásica - 380V'!F192","v":0},"00","00",{"$f":"IF(E143=\"\",'QT Rede Trifásica - 380V'!O192,SUM('QT Rede Trifásica - 380V'!O192,VLOOKUP(E143,D:F,3,0)))","v":0.70688088527263204}]
[null,{"$f":"'QT Rede Trifásica - 380V'!D193","v":0},{"$f":"'QT Rede Trifásica - 380V'!F193","v":0},"00","00",{"$f":"IF(E144=\"\",'QT Rede Trifásica - 380V'!O193,SUM('QT Rede Trifásica - 380V'!O193,VLOOKUP(E144,D:F,3,0)))","v":0.70688088527263204}]
[null,{"$f":"'QT Rede Trifásica - 380V'!D194","v":0},{"$f":"'QT Rede Trifásica - 380V'!F194","v":0},"00","00",{"$f":"IF(E145=\"\",'QT Rede Trifásica - 380V'!O194,SUM('QT Rede Trifásica - 380V'!O194,VLOOKUP(E145,D:F,3,0)))","v":0.70688088527263204}]
[null,{"$f":"'QT Rede Trifásica - 380V'!D195","v":0},{"$f":"'QT Rede Trifásica - 380V'!F195","v":0},"00","00",{"$f":"IF(E146=\"\",'QT Rede Trifásica - 380V'!O195,SUM('QT Rede Trifásica - 380V'!O195,VLOOKUP(E146,D:F,3,0)))","v":0.70688088527263204}]
[null,{"$f":"'QT Rede Trifásica - 380V'!D196","v":0},{"$f":"'QT Rede Trifásica - 380V'!F196","v":0},"00","00",{"$f":"IF(E147=\"\",'QT Rede Trifásica - 380V'!O196,SUM('QT Rede Trifásica - 380V'!O196,VLOOKUP(E147,D:F,3,0)))","v":0.70688088527263204}]
[null,{"$f":"'QT Rede Trifásica - 380V'!D197","v":0},{"$f":"'QT Rede Trifásica - 380V'!F197","v":0},"00","00",{"$f":"IF(E148=\"\",'QT Rede Trifásica - 380V'!O197,SUM('QT Rede Trifásica - 380V'!O197,VLOOKUP(E148,D:F,3,0)))","v":0.70688088527263204}]
[null,{"$f":"'QT Rede Trifásica - 380V'!D198","v":0},{"$f":"'QT Rede Trifásica - 380V'!F198","v":0},"00","00",{"$f":"IF(E149=\"\",'QT Rede Trifásica - 380V'!O198,SUM('QT Rede Trifásica - 380V'!O198,VLOOKUP(E149,D:F,3,0)))","v":0.70688088527263204}]
[null,{"$f":"'QT Rede Trifásica - 380V'!D199","v":0},{"$f":"'QT Rede Trifásica - 380V'!F199","v":0},"00","00",{"$f":"IF(E150=\"\",'QT Rede Trifásica - 380V'!O199,SUM('QT Rede Trifásica - 380V'!O199,VLOOKUP(E150,D:F,3,0)))","v":0.70688088527263204}]
[null,{"$f":"'QT Rede Trifásica - 380V'!D200","v":0},{"$f":"'QT Rede Trifásica - 380V'!F200","v":0},"00","00",{"$f":"IF(E151=\"\",'QT Rede Trifásica - 380V'!O200,SUM('QT Rede Trifásica - 380V'!O200,VLOOKUP(E151,D:F,3,0)))","v":0.70688088527263204}]
[null,{"$f":"'QT Rede Trifásica - 380V'!D201","v":0},{"$f":"'QT Rede Trifásica - 380V'!F201","v":0},"00","00",{"$f":"IF(E152=\"\",'QT Rede Trifásica - 380V'!O201,SUM('QT Rede Trifásica - 380V'!O201,VLOOKUP(E152,D:F,3,0)))","v":0.70688088527263204}]
[null,{"$f":"'QT Rede Trifásica - 380V'!D202","v":0},{"$f":"'QT Rede Trifásica - 380V'!F202","v":0},"00","00",{"$f":"IF(E153=\"\",'QT Rede Trifásica - 380V'!O202,SUM('QT Rede Trifásica - 380V'!O202,VLOOKUP(E153,D:F,3,0)))","v":0.70688088527263204}]
[null,{"$f":"'QT Rede Trifásica - 380V'!D203","v":0},{"$f":"'QT Rede Trifásica - 380V'!F203","v":0},"00","00",{"$f":"IF(E154=\"\",'QT Rede Trifásica - 380V'!O203,SUM('QT Rede Trifásica - 380V'!O203,VLOOKUP(E154,D:F,3,0)))","v":0.70688088527263204}]
[null,{"$f":"'QT Rede Trifásica - 380V'!D204","v":0},{"$f":"'QT Rede Trifásica - 380V'!F204","v":0},"00","00",{"$f":"IF(E155=\"\",'QT Rede Trifásica - 380V'!O204,SUM('QT Rede Trifásica - 380V'!O204,VLOOKUP(E155,D:F,3,0)))","v":0.70688088527263204}]
[null,{"$f":"'QT Rede Trifásica - 380V'!D205","v":0},{"$f":"'QT Rede Trifásica - 380V'!F205","v":0},"00","00",{"$f":"IF(E156=\"\",'QT Rede Trifásica - 380V'!O205,SUM('QT Rede Trifásica - 380V'!O205,VLOOKUP(E156,D:F,3,0)))","v":0.70688088527263204}]
[null,{"$f":"'QT Rede Trifásica - 380V'!D206","v":0},{"$f":"'QT Rede Trifásica - 380V'!F206","v":0},"00","00",{"$f":"IF(E157=\"\",'QT Rede Trifásica - 380V'!O206,SUM('QT Rede Trifásica - 380V'!O206,VLOOKUP(E157,D:F,3,0)))","v":0.70688088527263204}]
[null,{"$f":"'QT Rede Trifásica - 380V'!D207","v":0},{"$f":"'QT Rede Trifásica - 380V'!F207","v":0},"00","00",{"$f":"IF(E158=\"\",'QT Rede Trifásica - 380V'!O207,SUM('QT Rede Trifásica - 380V'!O207,VLOOKUP(E158,D:F,3,0)))","v":0.70688088527263204}]
[null,{"$f":"'QT Rede Trifásica - 380V'!D208","v":0},{"$f":"'QT Rede Trifásica - 380V'!F208","v":0},"00","00",{"$f":"IF(E159=\"\",'QT Rede Trifásica - 380V'!O208,SUM('QT Rede Trifásica - 380V'!O208,VLOOKUP(E159,D:F,3,0)))","v":0.70688088527263204}]
[null,{"$f":"'QT Rede Trifásica - 380V'!D209","v":0},{"$f":"'QT Rede Trifásica - 380V'!F209","v":0},"00","00",{"$f":"IF(E160=\"\",'QT Rede Trifásica - 380V'!O209,SUM('QT Rede Trifásica - 380V'!O209,VLOOKUP(E160,D:F,3,0)))","v":0.70688088527263204}]
[null,{"$f":"'QT Rede Trifásica - 380V'!D210","v":0},{"$f":"'QT Rede Trifásica - 380V'!F210","v":0},"00","00",{"$f":"IF(E161=\"\",'QT Rede Trifásica - 380V'!O210,SUM('QT Rede Trifásica - 380V'!O210,VLOOKUP(E161,D:F,3,0)))","v":0.70688088527263204}]
[null,{"$f":"'QT Rede Trifásica - 380V'!D211","v":0},{"$f":"'QT Rede Trifásica - 380V'!F211","v":0},"00","00",{"$f":"IF(E162=\"\",'QT Rede Trifásica - 380V'!O211,SUM('QT Rede Trifásica - 380V'!O211,VLOOKUP(E162,D:F,3,0)))","v":0.70688088527263204}]
[null,{"$f":"'QT Rede Trifásica - 380V'!D212","v":0},{"$f":"'QT Rede Trifásica - 380V'!F212","v":0},"00","00",{"$f":"IF(E163=\"\",'QT Rede Trifásica - 380V'!O212,SUM('QT Rede Trifásica - 380V'!O212,VLOOKUP(E163,D:F,3,0)))","v":0.70688088527263204}]
[null,{"$f":"'QT Rede Trifásica - 380V'!D213","v":0},{"$f":"'QT Rede Trifásica - 380V'!F213","v":0},"00","00",{"$f":"IF(E164=\"\",'QT Rede Trifásica - 380V'!O213,SUM('QT Rede Trifásica - 380V'!O213,VLOOKUP(E164,D:F,3,0)))","v":0.70688088527263204}]
[null,{"$f":"'QT Rede Trifásica - 380V'!D214","v":0},{"$f":"'QT Rede Trifásica - 380V'!F214","v":0},"00","00",{"$f":"IF(E165=\"\",'QT Rede Trifásica - 380V'!O214,SUM('QT Rede Trifásica - 380V'!O214,VLOOKUP(E165,D:F,3,0)))","v":0.70688088527263204}]
[null,{"$f":"'QT Rede Trifásica - 380V'!D215","v":0},{"$f":"'QT Rede Trifásica - 380V'!F215","v":0},"00","00",{"$f":"IF(E166=\"\",'QT Rede Trifásica - 380V'!O215,SUM('QT Rede Trifásica - 380V'!O215,VLOOKUP(E166,D:F,3,0)))","v":0.70688088527263204}]
[null,{"$f":"'QT Rede Trifásica - 380V'!D216","v":0},{"$f":"'QT Rede Trifásica - 380V'!F216","v":0},"00","00",{"$f":"IF(E167=\"\",'QT Rede Trifásica - 380V'!O216,SUM('QT Rede Trifásica - 380V'!O216,VLOOKUP(E167,D:F,3,0)))","v":0.70688088527263204}]
[null,{"$f":"'QT Rede Trifásica - 380V'!D217","v":0},{"$f":"'QT Rede Trifásica - 380V'!F217","v":0},"00","00",{"$f":"IF(E168=\"\",'QT Rede Trifásica - 380V'!O217,SUM('QT Rede Trifásica - 380V'!O217,VLOOKUP(E168,D:F,3,0)))","v":0.70688088527263204}]
[null,{"$f":"'QT Rede Trifásica - 380V'!D218","v":0},{"$f":"'QT Rede Trifásica - 380V'!F218","v":0},"00","00",{"$f":"IF(E169=\"\",'QT Rede Trifásica - 380V'!O218,SUM('QT Rede Trifásica - 380V'!O218,VLOOKUP(E169,D:F,3,0)))","v":0.70688088527263204}]
[null,{"$f":"'QT Rede Trifásica - 380V'!D219","v":0},{"$f":"'QT Rede Trifásica - 380V'!F219","v":0},"00","00",{"$f":"IF(E170=\"\",'QT Rede Trifásica - 380V'!O219,SUM('QT Rede Trifásica - 380V'!O219,VLOOKUP(E170,D:F,3,0)))","v":0.70688088527263204}]
[null,{"$f":"'QT Rede Trifásica - 380V'!D220","v":0},{"$f":"'QT Rede Trifásica - 380V'!F220","v":0},"00","00",{"$f":"IF(E171=\"\",'QT Rede Trifásica - 380V'!O220,SUM('QT Rede Trifásica - 380V'!O220,VLOOKUP(E171,D:F,3,0)))","v":0.70688088527263204}]
[null,{"$f":"'QT Rede Trifásica - 380V'!D221","v":0},{"$f":"'QT Rede Trifásica - 380V'!F221","v":0},"00","00",{"$f":"IF(E172=\"\",'QT Rede Trifásica - 380V'!O221,SUM('QT Rede Trifásica - 380V'!O221,VLOOKUP(E172,D:F,3,0)))","v":0.70688088527263204}]
[null,{"$f":"'QT Rede Trifásica - 380V'!D222","v":0},{"$f":"'QT Rede Trifásica - 380V'!F222","v":0},"00","00",{"$f":"IF(E173=\"\",'QT Rede Trifásica - 380V'!O222,SUM('QT Rede Trifásica - 380V'!O222,VLOOKUP(E173,D:F,3,0)))","v":0.70688088527263204}]
[null,{"$f":"'QT Rede Trifásica - 380V'!D223","v":0},{"$f":"'QT Rede Trifásica - 380V'!F223","v":0},"00","00",{"$f":"IF(E174=\"\",'QT Rede Trifásica - 380V'!O223,SUM('QT Rede Trifásica - 380V'!O223,VLOOKUP(E174,D:F,3,0)))","v":0.70688088527263204}]
[null,{"$f":"'QT Rede Trifásica - 380V'!D224","v":0},{"$f":"'QT Rede Trifásica - 380V'!F224","v":0},"00","00",{"$f":"IF(E175=\"\",'QT Rede Trifásica - 380V'!O224,SUM('QT Rede Trifásica - 380V'!O224,VLOOKUP(E175,D:F,3,0)))","v":0.70688088527263204}]
[null,{"$f":"'QT Rede Trifásica - 380V'!D225","v":0},{"$f":"'QT Rede Trifásica - 380V'!F225","v":0},"00","00",{"$f":"IF(E176=\"\",'QT Rede Trifásica - 380V'!O225,SUM('QT Rede Trifásica - 380V'!O225,VLOOKUP(E176,D:F,3,0)))","v":0.70688088527263204}]
[null,{"$f":"'QT Rede Trifásica - 380V'!D226","v":0},{"$f":"'QT Rede Trifásica - 380V'!F226","v":0},"00","00",{"$f":"IF(E177=\"\",'QT Rede Trifásica - 380V'!O226,SUM('QT Rede Trifásica - 380V'!O226,VLOOKUP(E177,D:F,3,0)))","v":0.70688088527263204}]
[null,{"$f":"'QT Rede Trifásica - 380V'!D227","v":0},{"$f":"'QT Rede Trifásica - 380V'!F227","v":0},"00","00",{"$f":"IF(E178=\"\",'QT Rede Trifásica - 380V'!O227,SUM('QT Rede Trifásica - 380V'!O227,VLOOKUP(E178,D:F,3,0)))","v":0.70688088527263204}]
[null,{"$f":"'QT Rede Trifásica - 380V'!D228","v":0},{"$f":"'QT Rede Trifásica - 380V'!F228","v":0},"00","00",{"$f":"IF(E179=\"\",'QT Rede Trifásica - 380V'!O228,SUM('QT Rede Trifásica - 380V'!O228,VLOOKUP(E179,D:F,3,0)))","v":0.70688088527263204}]
[null,{"$f":"'QT Rede Trifásica - 380V'!D229","v":0},{"$f":"'QT Rede Trifásica - 380V'!F229","v":0},"00","00",{"$f":"IF(E180=\"\",'QT Rede Trifásica - 380V'!O229,SUM('QT Rede Trifásica - 380V'!O229,VLOOKUP(E180,D:F,3,0)))","v":0.70688088527263204}]
[null,{"$f":"'QT Rede Trifásica - 380V'!D230","v":0},{"$f":"'QT Rede Trifásica - 380V'!F230","v":0},"00","00",{"$f":"IF(E181=\"\",'QT Rede Trifásica - 380V'!O230,SUM('QT Rede Trifásica - 380V'!O230,VLOOKUP(E181,D:F,3,0)))","v":0.70688088527263204}]
[null,{"$f":"'QT Rede Trifásica - 380V'!D231","v":0},{"$f":"'QT Rede Trifásica - 380V'!F231","v":0},"00","00",{"$f":"IF(E182=\"\",'QT Rede Trifásica - 380V'!O231,SUM('QT Rede Trifásica - 380V'!O231,VLOOKUP(E182,D:F,3,0)))","v":0.70688088527263204}]
[null,{"$f":"'QT Rede Trifásica - 380V'!D232","v":0},{"$f":"'QT Rede Trifásica - 380V'!F232","v":0},"00","00",{"$f":"IF(E183=\"\",'QT Rede Trifásica - 380V'!O232,SUM('QT Rede Trifásica - 380V'!O232,VLOOKUP(E183,D:F,3,0)))","v":0.70688088527263204}]
[null,{"$f":"'QT Rede Trifásica - 380V'!D233","v":0},{"$f":"'QT Rede Trifásica - 380V'!F233","v":0},"00","00",{"$f":"IF(E184=\"\",'QT Rede Trifásica - 380V'!O233,SUM('QT Rede Trifásica - 380V'!O233,VLOOKUP(E184,D:F,3,0)))","v":0.70688088527263204}]
[null,{"$f":"'QT Rede Trifásica - 380V'!D234","v":0},{"$f":"'QT Rede Trifásica - 380V'!F234","v":0},"00","00",{"$f":"IF(E185=\"\",'QT Rede Trifásica - 380V'!O234,SUM('QT Rede Trifásica - 380V'!O234,VLOOKUP(E185,D:F,3,0)))","v":0.70688088527263204}]
[null,{"$f":"'QT Rede Trifásica - 380V'!D235","v":0},{"$f":"'QT Rede Trifásica - 380V'!F235","v":0},"00","00",{"$f":"IF(E186=\"\",'QT Rede Trifásica - 380V'!O235,SUM('QT Rede Trifásica - 380V'!O235,VLOOKUP(E186,D:F,3,0)))","v":0.70688088527263204}]
[null,{"$f":"'QT Rede Trifásica - 380V'!D236","v":0},{"$f":"'QT Rede Trifásica - 380V'!F236","v":0},"00","00",{"$f":"IF(E187=\"\",'QT Rede Trifásica - 380V'!O236,SUM('QT Rede Trifásica - 380V'!O236,VLOOKUP(E187,D:F,3,0)))","v":0.70688088527263204}]
[null,{"$f":"'QT Rede Trifásica - 380V'!D237","v":0},{"$f":"'QT Rede Trifásica - 380V'!F237","v":0},"00","00",{"$f":"IF(E188=\"\",'QT Rede Trifásica - 380V'!O237,SUM('QT Rede Trifásica - 380V'!O237,VLOOKUP(E188,D:F,3,0)))","v":0.70688088527263204}]
[null,{"$f":"'QT Rede Trifásica - 380V'!D238","v":0},{"$f":"'QT Rede Trifásica - 380V'!F238","v":0},"00","00",{"$f":"IF(E189=\"\",'QT Rede Trifásica - 380V'!O238,SUM('QT Rede Trifásica - 380V'!O238,VLOOKUP(E189,D:F,3,0)))","v":0.70688088527263204}]
[null,{"$f":"'QT Rede Trifásica - 380V'!D239","v":0},{"$f":"'QT Rede Trifásica - 380V'!F239","v":0},"00","00",{"$f":"IF(E190=\"\",'QT Rede Trifásica - 380V'!O239,SUM('QT Rede Trifásica - 380V'!O239,VLOOKUP(E190,D:F,3,0)))","v":0.70688088527263204}]
[null,{"$f":"'QT Rede Trifásica - 380V'!D240","v":0},{"$f":"'QT Rede Trifásica - 380V'!F240","v":0},"00","00",{"$f":"IF(E191=\"\",'QT Rede Trifásica - 380V'!O240,SUM('QT Rede Trifásica - 380V'!O240,VLOOKUP(E191,D:F,3,0)))","v":0.70688088527263204}]
[null,{"$f":"'QT Rede Trifásica - 380V'!D241","v":0},{"$f":"'QT Rede Trifásica - 380V'!F241","v":0},"00","00",{"$f":"IF(E192=\"\",'QT Rede Trifásica - 380V'!O241,SUM('QT Rede Trifásica - 380V'!O241,VLOOKUP(E192,D:F,3,0)))","v":0.70688088527263204}]
[null,{"$f":"'QT Rede Trifásica - 380V'!D242","v":0},{"$f":"'QT Rede Trifásica - 380V'!F242","v":0},"00","00",{"$f":"IF(E193=\"\",'QT Rede Trifásica - 380V'!O242,SUM('QT Rede Trifásica - 380V'!O242,VLOOKUP(E193,D:F,3,0)))","v":0.70688088527263204}]
[null,{"$f":"'QT Rede Trifásica - 380V'!D243","v":0},{"$f":"'QT Rede Trifásica - 380V'!F243","v":0},"00","00",{"$f":"IF(E194=\"\",'QT Rede Trifásica - 380V'!O243,SUM('QT Rede Trifásica - 380V'!O243,VLOOKUP(E194,D:F,3,0)))","v":0.70688088527263204}]
[null,{"$f":"'QT Rede Trifásica - 380V'!D244","v":0},{"$f":"'QT Rede Trifásica - 380V'!F244","v":0},"00",{"$f":"IFERROR(VLOOKUP(B195,C:D,2,0),\"\")","v":"00"},{"$f":"IF(E195=\"\",'QT Rede Trifásica - 380V'!O244,SUM('QT Rede Trifásica - 380V'!O244,VLOOKUP(E195,D:F,3,0)))","v":0.70688088527263204}]
[null,{"$f":"'QT Rede Trifásica - 380V'!D245","v":0},{"$f":"'QT Rede Trifásica - 380V'!F245","v":0},"00","00",{"$f":"IF(E196=\"\",'QT Rede Trifásica - 380V'!O245,SUM('QT Rede Trifásica - 380V'!O245,VLOOKUP(E196,D:F,3,0)))","v":0.70688088527263204}]
[null,{"$f":"'QT Rede Trifásica - 380V'!D246","v":0},{"$f":"'QT Rede Trifásica - 380V'!F246","v":0},{"$f":"B197&C197","v":"00"},"00",{"$f":"IF(E197=\"\",'QT Rede Trifásica - 380V'!O246,SUM('QT Rede Trifásica - 380V'!O246,VLOOKUP(E197,D:F,3,0)))","v":0.70688088527263204}]
[null,{"$f":"'QT Rede Trifásica - 380V'!D247","v":0},{"$f":"'QT Rede Trifásica - 380V'!F247","v":0},"00","00",{"$f":"IF(E198=\"\",'QT Rede Trifásica - 380V'!O247,SUM('QT Rede Trifásica - 380V'!O247,VLOOKUP(E198,D:F,3,0)))","v":0.70688088527263204}]
[null,{"$f":"'QT Rede Trifásica - 380V'!D248","v":0},{"$f":"'QT Rede Trifásica - 380V'!F248","v":0},"00","00",{"$f":"IF(E199=\"\",'QT Rede Trifásica - 380V'!O248,SUM('QT Rede Trifásica - 380V'!O248,VLOOKUP(E199,D:F,3,0)))","v":0.70688088527263204}]
[null,{"$f":"'QT Rede Trifásica - 380V'!D249","v":0},{"$f":"'QT Rede Trifásica - 380V'!F249","v":0},"00","00",{"$f":"IF(E200=\"\",'QT Rede Trifásica - 380V'!O249,SUM('QT Rede Trifásica - 380V'!O249,VLOOKUP(E200,D:F,3,0)))","v":0.70688088527263204}]
[null,{"$f":"'QT Rede Trifásica - 380V'!D250","v":0},{"$f":"'QT Rede Trifásica - 380V'!F250","v":0},"00","00",{"$f":"IF(E201=\"\",'QT Rede Trifásica - 380V'!O250,SUM('QT Rede Trifásica - 380V'!O250,VLOOKUP(E201,D:F,3,0)))","v":0.70688088527263204}]
[null,{"$f":"'QT Rede Trifásica - 380V'!D251","v":0},{"$f":"'QT Rede Trifásica - 380V'!F251","v":0},"00","00",{"$f":"IF(E202=\"\",'QT Rede Trifásica - 380V'!O251,SUM('QT Rede Trifásica - 380V'!O251,VLOOKUP(E202,D:F,3,0)))","v":0.70688088527263204}]
[null,{"$f":"'QT Rede Trifásica - 380V'!D252","v":0},{"$f":"'QT Rede Trifásica - 380V'!F252","v":0},"00","00",{"$f":"IF(E203=\"\",'QT Rede Trifásica - 380V'!O252,SUM('QT Rede Trifásica - 380V'!O252,VLOOKUP(E203,D:F,3,0)))","v":0.70688088527263204}]
[null,{"$f":"'QT Rede Trifásica - 380V'!D253","v":0},{"$f":"'QT Rede Trifásica - 380V'!F253","v":0},"00","00",{"$f":"IF(E204=\"\",'QT Rede Trifásica - 380V'!O253,SUM('QT Rede Trifásica - 380V'!O253,VLOOKUP(E204,D:F,3,0)))","v":0.70688088527263204}]
[null,{"$f":"'QT Rede Trifásica - 380V'!D254","v":0},{"$f":"'QT Rede Trifásica - 380V'!F254","v":0},"00","00",{"$f":"IF(E205=\"\",'QT Rede Trifásica - 380V'!O254,SUM('QT Rede Trifásica - 380V'!O254,VLOOKUP(E205,D:F,3,0)))","v":0.70688088527263204}]
[null,{"$f":"'QT Rede Trifásica - 380V'!D255","v":0},{"$f":"'QT Rede Trifásica - 380V'!F255","v":0},"00","00",{"$f":"IF(E206=\"\",'QT Rede Trifásica - 380V'!O255,SUM('QT Rede Trifásica - 380V'!O255,VLOOKUP(E206,D:F,3,0)))","v":0.70688088527263204}]
[null,{"$f":"'QT Rede Trifásica - 380V'!D256","v":0},{"$f":"'QT Rede Trifásica - 380V'!F256","v":0},"00","00",{"$f":"IF(E207=\"\",'QT Rede Trifásica - 380V'!O256,SUM('QT Rede Trifásica - 380V'!O256,VLOOKUP(E207,D:F,3,0)))","v":0.70688088527263204}]
[null,{"$f":"'QT Rede Trifásica - 380V'!D257","v":0},{"$f":"'QT Rede Trifásica - 380V'!F257","v":0},"00","00",{"$f":"IF(E208=\"\",'QT Rede Trifásica - 380V'!O257,SUM('QT Rede Trifásica - 380V'!O257,VLOOKUP(E208,D:F,3,0)))","v":0.70688088527263204}]
[null,{"$f":"'QT Rede Trifásica - 380V'!D258","v":0},{"$f":"'QT Rede Trifásica - 380V'!F258","v":0},"00","00",{"$f":"IF(E209=\"\",'QT Rede Trifásica - 380V'!O258,SUM('QT Rede Trifásica - 380V'!O258,VLOOKUP(E209,D:F,3,0)))","v":0.70688088527263204}]
[null,{"$f":"'QT Rede Trifásica - 380V'!D259","v":0},{"$f":"'QT Rede Trifásica - 380V'!F259","v":0},"00","00",{"$f":"IF(E210=\"\",'QT Rede Trifásica - 380V'!O259,SUM('QT Rede Trifásica - 380V'!O259,VLOOKUP(E210,D:F,3,0)))","v":0.70688088527263204}]
[null,{"$f":"'QT Rede Trifásica - 380V'!D260","v":0},{"$f":"'QT Rede Trifásica - 380V'!F260","v":0},"00","00",{"$f":"IF(E211=\"\",'QT Rede Trifásica - 380V'!O260,SUM('QT Rede Trifásica - 380V'!O260,VLOOKUP(E211,D:F,3,0)))","v":0.70688088527263204}]
[null,{"$f":"'QT Rede Trifásica - 380V'!D261","v":0},{"$f":"'QT Rede Trifásica - 380V'!F261","v":0},"00","00",{"$f":"IF(E212=\"\",'QT Rede Trifásica - 380V'!O261,SUM('QT Rede Trifásica - 380V'!O261,VLOOKUP(E212,D:F,3,0)))","v":0.70688088527263204}]
[null,{"$f":"'QT Rede Trifásica - 380V'!D262","v":0},{"$f":"'QT Rede Trifásica - 380V'!F262","v":0},"00","00",{"$f":"IF(E213=\"\",'QT Rede Trifásica - 380V'!O262,SUM('QT Rede Trifásica - 380V'!O262,VLOOKUP(E213,D:F,3,0)))","v":0.70688088527263204}]
[null,{"$f":"'QT Rede Trifásica - 380V'!D263","v":0},{"$f":"'QT Rede Trifásica - 380V'!F263","v":0},"00","00",{"$f":"IF(E214=\"\",'QT Rede Trifásica - 380V'!O263,SUM('QT Rede Trifásica - 380V'!O263,VLOOKUP(E214,D:F,3,0)))","v":0.70688088527263204}]
[null,{"$f":"'QT Rede Trifásica - 380V'!D264","v":0},{"$f":"'QT Rede Trifásica - 380V'!F264","v":0},"00","00",{"$f":"IF(E215=\"\",'QT Rede Trifásica - 380V'!O264,SUM('QT Rede Trifásica - 380V'!O264,VLOOKUP(E215,D:F,3,0)))","v":0.70688088527263204}]
[null,{"$f":"'QT Rede Trifásica - 380V'!D265","v":0},{"$f":"'QT Rede Trifásica - 380V'!F265","v":0},"00","00",{"$f":"IF(E216=\"\",'QT Rede Trifásica - 380V'!O265,SUM('QT Rede Trifásica - 380V'!O265,VLOOKUP(E216,D:F,3,0)))","v":0.70688088527263204}]
[null,{"$f":"'QT Rede Trifásica - 380V'!D266","v":0},{"$f":"'QT Rede Trifásica - 380V'!F266","v":0},"00","00",{"$f":"IF(E217=\"\",'QT Rede Trifásica - 380V'!O266,SUM('QT Rede Trifásica - 380V'!O266,VLOOKUP(E217,D:F,3,0)))","v":0.70688088527263204}]
[null,{"$f":"'QT Rede Trifásica - 380V'!D267","v":0},{"$f":"'QT Rede Trifásica - 380V'!F267","v":0},"00","00",{"$f":"IF(E218=\"\",'QT Rede Trifásica - 380V'!O267,SUM('QT Rede Trifásica - 380V'!O267,VLOOKUP(E218,D:F,3,0)))","v":0.70688088527263204}]
[null,{"$f":"'QT Rede Trifásica - 380V'!D268","v":0},{"$f":"'QT Rede Trifásica - 380V'!F268","v":0},"00","00",{"$f":"IF(E219=\"\",'QT Rede Trifásica - 380V'!O268,SUM('QT Rede Trifásica - 380V'!O268,VLOOKUP(E219,D:F,3,0)))","v":0.70688088527263204}]
[null,{"$f":"'QT Rede Trifásica - 380V'!D269","v":0},{"$f":"'QT Rede Trifásica - 380V'!F269","v":0},"00","00",{"$f":"IF(E220=\"\",'QT Rede Trifásica - 380V'!O269,SUM('QT Rede Trifásica - 380V'!O269,VLOOKUP(E220,D:F,3,0)))","v":0.70688088527263204}]
[null,{"$f":"'QT Rede Trifásica - 380V'!D270","v":0},{"$f":"'QT Rede Trifásica - 380V'!F270","v":0},"00","00",{"$f":"IF(E221=\"\",'QT Rede Trifásica - 380V'!O270,SUM('QT Rede Trifásica - 380V'!O270,VLOOKUP(E221,D:F,3,0)))","v":0.70688088527263204}]
[null,{"$f":"'QT Rede Trifásica - 380V'!D271","v":0},{"$f":"'QT Rede Trifásica - 380V'!F271","v":0},"00","00",{"$f":"IF(E222=\"\",'QT Rede Trifásica - 380V'!O271,SUM('QT Rede Trifásica - 380V'!O271,VLOOKUP(E222,D:F,3,0)))","v":0.70688088527263204}]
[null,{"$f":"'QT Rede Trifásica - 380V'!D272","v":0},{"$f":"'QT Rede Trifásica - 380V'!F272","v":0},"00","00",{"$f":"IF(E223=\"\",'QT Rede Trifásica - 380V'!O272,SUM('QT Rede Trifásica - 380V'!O272,VLOOKUP(E223,D:F,3,0)))","v":0.70688088527263204}]
[null,{"$f":"'QT Rede Trifásica - 380V'!D273","v":0},{"$f":"'QT Rede Trifásica - 380V'!F273","v":0},"00","00",{"$f":"IF(E224=\"\",'QT Rede Trifásica - 380V'!O273,SUM('QT Rede Trifásica - 380V'!O273,VLOOKUP(E224,D:F,3,0)))","v":0.70688088527263204}]
[null,{"$f":"'QT Rede Trifásica - 380V'!D274","v":0},{"$f":"'QT Rede Trifásica - 380V'!F274","v":0},"00","00",{"$f":"IF(E225=\"\",'QT Rede Trifásica - 380V'!O274,SUM('QT Rede Trifásica - 380V'!O274,VLOOKUP(E225,D:F,3,0)))","v":0.70688088527263204}]
[null,{"$f":"'QT Rede Trifásica - 380V'!D275","v":0},{"$f":"'QT Rede Trifásica - 380V'!F275","v":0},"00","00",{"$f":"IF(E226=\"\",'QT Rede Trifásica - 380V'!O275,SUM('QT Rede Trifásica - 380V'!O275,VLOOKUP(E226,D:F,3,0)))","v":0.70688088527263204}]
[null,{"$f":"'QT Rede Trifásica - 380V'!D276","v":0},{"$f":"'QT Rede Trifásica - 380V'!F276","v":0},"00","00",{"$f":"IF(E227=\"\",'QT Rede Trifásica - 380V'!O276,SUM('QT Rede Trifásica - 380V'!O276,VLOOKUP(E227,D:F,3,0)))","v":0.70688088527263204}]
[null,{"$f":"'QT Rede Trifásica - 380V'!D277","v":0},{"$f":"'QT Rede Trifásica - 380V'!F277","v":0},"00","00",{"$f":"IF(E228=\"\",'QT Rede Trifásica - 380V'!O277,SUM('QT Rede Trifásica - 380V'!O277,VLOOKUP(E228,D:F,3,0)))","v":0.70688088527263204}]
[null,{"$f":"'QT Rede Trifásica - 380V'!D278","v":0},{"$f":"'QT Rede Trifásica - 380V'!F278","v":0},"00","00",{"$f":"IF(E229=\"\",'QT Rede Trifásica - 380V'!O278,SUM('QT Rede Trifásica - 380V'!O278,VLOOKUP(E229,D:F,3,0)))","v":0.70688088527263204}]
[null,{"$f":"'QT Rede Trifásica - 380V'!D279","v":0},{"$f":"'QT Rede Trifásica - 380V'!F279","v":0},"00","00",{"$f":"IF(E230=\"\",'QT Rede Trifásica - 380V'!O279,SUM('QT Rede Trifásica - 380V'!O279,VLOOKUP(E230,D:F,3,0)))","v":0.70688088527263204}]
[null,{"$f":"'QT Rede Trifásica - 380V'!D280","v":0},{"$f":"'QT Rede Trifásica - 380V'!F280","v":0},"00","00",{"$f":"IF(E231=\"\",'QT Rede Trifásica - 380V'!O280,SUM('QT Rede Trifásica - 380V'!O280,VLOOKUP(E231,D:F,3,0)))","v":0.70688088527263204}]
[null,{"$f":"'QT Rede Trifásica - 380V'!D281","v":0},{"$f":"'QT Rede Trifásica - 380V'!F281","v":0},"00","00",{"$f":"IF(E232=\"\",'QT Rede Trifásica - 380V'!O281,SUM('QT Rede Trifásica - 380V'!O281,VLOOKUP(E232,D:F,3,0)))","v":0.70688088527263204}]
[null,{"$f":"'QT Rede Trifásica - 380V'!D282","v":0},{"$f":"'QT Rede Trifásica - 380V'!F282","v":0},"00","00",{"$f":"IF(E233=\"\",'QT Rede Trifásica - 380V'!O282,SUM('QT Rede Trifásica - 380V'!O282,VLOOKUP(E233,D:F,3,0)))","v":0.70688088527263204}]
[null,{"$f":"'QT Rede Trifásica - 380V'!D283","v":0},{"$f":"'QT Rede Trifásica - 380V'!F283","v":0},"00","00",{"$f":"IF(E234=\"\",'QT Rede Trifásica - 380V'!O283,SUM('QT Rede Trifásica - 380V'!O283,VLOOKUP(E234,D:F,3,0)))","v":0.70688088527263204}]
[null,{"$f":"'QT Rede Trifásica - 380V'!D284","v":0},{"$f":"'QT Rede Trifásica - 380V'!F284","v":0},"00","00",{"$f":"IF(E235=\"\",'QT Rede Trifásica - 380V'!O284,SUM('QT Rede Trifásica - 380V'!O284,VLOOKUP(E235,D:F,3,0)))","v":0.70688088527263204}]
[null,{"$f":"'QT Rede Trifásica - 380V'!D285","v":0},{"$f":"'QT Rede Trifásica - 380V'!F285","v":0},"00","00",{"$f":"IF(E236=\"\",'QT Rede Trifásica - 380V'!O285,SUM('QT Rede Trifásica - 380V'!O285,VLOOKUP(E236,D:F,3,0)))","v":0.70688088527263204}]
[null,{"$f":"'QT Rede Trifásica - 380V'!D286","v":0},{"$f":"'QT Rede Trifásica - 380V'!F286","v":0},"00","00",{"$f":"IF(E237=\"\",'QT Rede Trifásica - 380V'!O286,SUM('QT Rede Trifásica - 380V'!O286,VLOOKUP(E237,D:F,3,0)))","v":0.70688088527263204}]
[null,{"$f":"'QT Rede Trifásica - 380V'!D287","v":0},{"$f":"'QT Rede Trifásica - 380V'!F287","v":0},"00","00",{"$f":"IF(E238=\"\",'QT Rede Trifásica - 380V'!O287,SUM('QT Rede Trifásica - 380V'!O287,VLOOKUP(E238,D:F,3,0)))","v":0.70688088527263204}]
[null,{"$f":"'QT Rede Trifásica - 380V'!D288","v":0},{"$f":"'QT Rede Trifásica - 380V'!F288","v":0},"00","00",{"$f":"IF(E239=\"\",'QT Rede Trifásica - 380V'!O288,SUM('QT Rede Trifásica - 380V'!O288,VLOOKUP(E239,D:F,3,0)))","v":0.70688088527263204}]
[null,{"$f":"'QT Rede Trifásica - 380V'!D289","v":0},{"$f":"'QT Rede Trifásica - 380V'!F289","v":0},"00","00",{"$f":"IF(E240=\"\",'QT Rede Trifásica - 380V'!O289,SUM('QT Rede Trifásica - 380V'!O289,VLOOKUP(E240,D:F,3,0)))","v":0.70688088527263204}]
[null,{"$f":"'QT Rede Trifásica - 380V'!D290","v":0},{"$f":"'QT Rede Trifásica - 380V'!F290","v":0},"00","00",{"$f":"IF(E241=\"\",'QT Rede Trifásica - 380V'!O290,SUM('QT Rede Trifásica - 380V'!O290,VLOOKUP(E241,D:F,3,0)))","v":0.70688088527263204}]
[null,{"$f":"'QT Rede Trifásica - 380V'!D291","v":0},{"$f":"'QT Rede Trifásica - 380V'!F291","v":0},"00","00",{"$f":"IF(E242=\"\",'QT Rede Trifásica - 380V'!O291,SUM('QT Rede Trifásica - 380V'!O291,VLOOKUP(E242,D:F,3,0)))","v":0.70688088527263204}]
[null,{"$f":"'QT Rede Trifásica - 380V'!D292","v":0},{"$f":"'QT Rede Trifásica - 380V'!F292","v":0},"00","00",{"$f":"IF(E243=\"\",'QT Rede Trifásica - 380V'!O292,SUM('QT Rede Trifásica - 380V'!O292,VLOOKUP(E243,D:F,3,0)))","v":0.70688088527263204}]
[null,{"$f":"'QT Rede Trifásica - 380V'!D293","v":0},{"$f":"'QT Rede Trifásica - 380V'!F293","v":0},"00","00",{"$f":"IF(E244=\"\",'QT Rede Trifásica - 380V'!O293,SUM('QT Rede Trifásica - 380V'!O293,VLOOKUP(E244,D:F,3,0)))","v":0.70688088527263204}]
[null,{"$f":"'QT Rede Trifásica - 380V'!D294","v":0},{"$f":"'QT Rede Trifásica - 380V'!F294","v":0},"00","00",{"$f":"IF(E245=\"\",'QT Rede Trifásica - 380V'!O294,SUM('QT Rede Trifásica - 380V'!O294,VLOOKUP(E245,D:F,3,0)))","v":0.70688088527263204}]
[null,{"$f":"'QT Rede Trifásica - 380V'!D295","v":0},{"$f":"'QT Rede Trifásica - 380V'!F295","v":0},"00","00",{"$f":"IF(E246=\"\",'QT Rede Trifásica - 380V'!O295,SUM('QT Rede Trifásica - 380V'!O295,VLOOKUP(E246,D:F,3,0)))","v":0.70688088527263204}]
[null,{"$f":"'QT Rede Trifásica - 380V'!D296","v":0},{"$f":"'QT Rede Trifásica - 380V'!F296","v":0},"00","00",{"$f":"IF(E247=\"\",'QT Rede Trifásica - 380V'!O296,SUM('QT Rede Trifásica - 380V'!O296,VLOOKUP(E247,D:F,3,0)))","v":0.70688088527263204}]
[null,{"$f":"'QT Rede Trifásica - 380V'!D297","v":0},{"$f":"'QT Rede Trifásica - 380V'!F297","v":0},"00","00",{"$f":"IF(E248=\"\",'QT Rede Trifásica - 380V'!O297,SUM('QT Rede Trifásica - 380V'!O297,VLOOKUP(E248,D:F,3,0)))","v":0.70688088527263204}]
[null,{"$f":"'QT Rede Trifásica - 380V'!D298","v":0},{"$f":"'QT Rede Trifásica - 380V'!F298","v":0},"00","00",{"$f":"IF(E249=\"\",'QT Rede Trifásica - 380V'!O298,SUM('QT Rede Trifásica - 380V'!O298,VLOOKUP(E249,D:F,3,0)))","v":0.70688088527263204}]
[null,{"$f":"'QT Rede Trifásica - 380V'!D299","v":0},{"$f":"'QT Rede Trifásica - 380V'!F299","v":0},"00","00",{"$f":"IF(E250=\"\",'QT Rede Trifásica - 380V'!O299,SUM('QT Rede Trifásica - 380V'!O299,VLOOKUP(E250,D:F,3,0)))","v":0.70688088527263204}]
[null,{"$f":"'QT Rede Trifásica - 380V'!D300","v":0},{"$f":"'QT Rede Trifásica - 380V'!F300","v":0},"00","00",{"$f":"IF(E251=\"\",'QT Rede Trifásica - 380V'!O300,SUM('QT Rede Trifásica - 380V'!O300,VLOOKUP(E251,D:F,3,0)))","v":0.70688088527263204}]
[null,{"$f":"'QT Rede Trifásica - 380V'!D301","v":0},{"$f":"'QT Rede Trifásica - 380V'!F301","v":0},"00","00",{"$f":"IF(E252=\"\",'QT Rede Trifásica - 380V'!O301,SUM('QT Rede Trifásica - 380V'!O301,VLOOKUP(E252,D:F,3,0)))","v":0.70688088527263204}]
[null,{"$f":"'QT Rede Trifásica - 380V'!D302","v":0},{"$f":"'QT Rede Trifásica - 380V'!F302","v":0},"00","00",{"$f":"IF(E253=\"\",'QT Rede Trifásica - 380V'!O302,SUM('QT Rede Trifásica - 380V'!O302,VLOOKUP(E253,D:F,3,0)))","v":0.70688088527263204}]
[null,{"$f":"'QT Rede Trifásica - 380V'!D303","v":0},{"$f":"'QT Rede Trifásica - 380V'!F303","v":0},"00","00",{"$f":"IF(E254=\"\",'QT Rede Trifásica - 380V'!O303,SUM('QT Rede Trifásica - 380V'!O303,VLOOKUP(E254,D:F,3,0)))","v":0.70688088527263204}]
[null,{"$f":"'QT Rede Trifásica - 380V'!D304","v":0},{"$f":"'QT Rede Trifásica - 380V'!F304","v":0},"00","00",{"$f":"IF(E255=\"\",'QT Rede Trifásica - 380V'!O304,SUM('QT Rede Trifásica - 380V'!O304,VLOOKUP(E255,D:F,3,0)))","v":0.70688088527263204}]
[null,{"$f":"'QT Rede Trifásica - 380V'!D305","v":0},{"$f":"'QT Rede Trifásica - 380V'!F305","v":0},"00","00",{"$f":"IF(E256=\"\",'QT Rede Trifásica - 380V'!O305,SUM('QT Rede Trifásica - 380V'!O305,VLOOKUP(E256,D:F,3,0)))","v":0.70688088527263204}]
[null,{"$f":"'QT Rede Trifásica - 380V'!D306","v":0},{"$f":"'QT Rede Trifásica - 380V'!F306","v":0},"00","00",{"$f":"IF(E257=\"\",'QT Rede Trifásica - 380V'!O306,SUM('QT Rede Trifásica - 380V'!O306,VLOOKUP(E257,D:F,3,0)))","v":0.70688088527263204}]
[null,{"$f":"'QT Rede Trifásica - 380V'!D307","v":0},{"$f":"'QT Rede Trifásica - 380V'!F307","v":0},"00","00",{"$f":"IF(E258=\"\",'QT Rede Trifásica - 380V'!O307,SUM('QT Rede Trifásica - 380V'!O307,VLOOKUP(E258,D:F,3,0)))","v":0.70688088527263204}]
[null,{"$f":"'QT Rede Trifásica - 380V'!D308","v":0},{"$f":"'QT Rede Trifásica - 380V'!F308","v":0},"00",{"$f":"IFERROR(VLOOKUP(B259,C:D,2,0),\"\")","v":"00"},{"$f":"IF(E259=\"\",'QT Rede Trifásica - 380V'!O308,SUM('QT Rede Trifásica - 380V'!O308,VLOOKUP(E259,D:F,3,0)))","v":0.70688088527263204}]
[null,{"$f":"'QT Rede Trifásica - 380V'!D309","v":0},{"$f":"'QT Rede Trifásica - 380V'!F309","v":0},"00","00",{"$f":"IF(E260=\"\",'QT Rede Trifásica - 380V'!O309,SUM('QT Rede Trifásica - 380V'!O309,VLOOKUP(E260,D:F,3,0)))","v":0.70688088527263204}]
[null,{"$f":"'QT Rede Trifásica - 380V'!D310","v":0},{"$f":"'QT Rede Trifásica - 380V'!F310","v":0},{"$f":"B261&C261","v":"00"},"00",{"$f":"IF(E261=\"\",'QT Rede Trifásica - 380V'!O310,SUM('QT Rede Trifásica - 380V'!O310,VLOOKUP(E261,D:F,3,0)))","v":0.70688088527263204}]
[null,{"$f":"'QT Rede Trifásica - 380V'!D311","v":0},{"$f":"'QT Rede Trifásica - 380V'!F311","v":0},"00","00",{"$f":"IF(E262=\"\",'QT Rede Trifásica - 380V'!O311,SUM('QT Rede Trifásica - 380V'!O311,VLOOKUP(E262,D:F,3,0)))","v":0.70688088527263204}]
[null,{"$f":"'QT Rede Trifásica - 380V'!D312","v":0},{"$f":"'QT Rede Trifásica - 380V'!F312","v":0},"00","00",{"$f":"IF(E263=\"\",'QT Rede Trifásica - 380V'!O312,SUM('QT Rede Trifásica - 380V'!O312,VLOOKUP(E263,D:F,3,0)))","v":0.70688088527263204}]
[null,{"$f":"'QT Rede Trifásica - 380V'!D313","v":0},{"$f":"'QT Rede Trifásica - 380V'!F313","v":0},"00","00",{"$f":"IF(E264=\"\",'QT Rede Trifásica - 380V'!O313,SUM('QT Rede Trifásica - 380V'!O313,VLOOKUP(E264,D:F,3,0)))","v":0.70688088527263204}]
[null,{"$f":"'QT Rede Trifásica - 380V'!D314","v":0},{"$f":"'QT Rede Trifásica - 380V'!F314","v":0},"00","00",{"$f":"IF(E265=\"\",'QT Rede Trifásica - 380V'!O314,SUM('QT Rede Trifásica - 380V'!O314,VLOOKUP(E265,D:F,3,0)))","v":0.70688088527263204}]
[null,{"$f":"'QT Rede Trifásica - 380V'!D315","v":0},{"$f":"'QT Rede Trifásica - 380V'!F315","v":0},"00","00",{"$f":"IF(E266=\"\",'QT Rede Trifásica - 380V'!O315,SUM('QT Rede Trifásica - 380V'!O315,VLOOKUP(E266,D:F,3,0)))","v":0.70688088527263204}]
[null,{"$f":"'QT Rede Trifásica - 380V'!D316","v":0},{"$f":"'QT Rede Trifásica - 380V'!F316","v":0},"00","00",{"$f":"IF(E267=\"\",'QT Rede Trifásica - 380V'!O316,SUM('QT Rede Trifásica - 380V'!O316,VLOOKUP(E267,D:F,3,0)))","v":0.70688088527263204}]
[null,{"$f":"'QT Rede Trifásica - 380V'!D317","v":0},{"$f":"'QT Rede Trifásica - 380V'!F317","v":0},"00","00",{"$f":"IF(E268=\"\",'QT Rede Trifásica - 380V'!O317,SUM('QT Rede Trifásica - 380V'!O317,VLOOKUP(E268,D:F,3,0)))","v":0.70688088527263204}]
[null,{"$f":"'QT Rede Trifásica - 380V'!D318","v":0},{"$f":"'QT Rede Trifásica - 380V'!F318","v":0},"00","00",{"$f":"IF(E269=\"\",'QT Rede Trifásica - 380V'!O318,SUM('QT Rede Trifásica - 380V'!O318,VLOOKUP(E269,D:F,3,0)))","v":0.70688088527263204}]
[null,{"$f":"'QT Rede Trifásica - 380V'!D319","v":0},{"$f":"'QT Rede Trifásica - 380V'!F319","v":0},"00","00",{"$f":"IF(E270=\"\",'QT Rede Trifásica - 380V'!O319,SUM('QT Rede Trifásica - 380V'!O319,VLOOKUP(E270,D:F,3,0)))","v":0.70688088527263204}]
[null,{"$f":"'QT Rede Trifásica - 380V'!D320","v":0},{"$f":"'QT Rede Trifásica - 380V'!F320","v":0},"00","00",{"$f":"IF(E271=\"\",'QT Rede Trifásica - 380V'!O320,SUM('QT Rede Trifásica - 380V'!O320,VLOOKUP(E271,D:F,3,0)))","v":0.70688088527263204}]
[null,{"$f":"'QT Rede Trifásica - 380V'!D321","v":0},{"$f":"'QT Rede Trifásica - 380V'!F321","v":0},"00","00",{"$f":"IF(E272=\"\",'QT Rede Trifásica - 380V'!O321,SUM('QT Rede Trifásica - 380V'!O321,VLOOKUP(E272,D:F,3,0)))","v":0.70688088527263204}]
[null,{"$f":"'QT Rede Trifásica - 380V'!D322","v":0},{"$f":"'QT Rede Trifásica - 380V'!F322","v":0},"00","00",{"$f":"IF(E273=\"\",'QT Rede Trifásica - 380V'!O322,SUM('QT Rede Trifásica - 380V'!O322,VLOOKUP(E273,D:F,3,0)))","v":0.70688088527263204}]
[null,{"$f":"'QT Rede Trifásica - 380V'!D323","v":0},{"$f":"'QT Rede Trifásica - 380V'!F323","v":0},"00","00",{"$f":"IF(E274=\"\",'QT Rede Trifásica - 380V'!O323,SUM('QT Rede Trifásica - 380V'!O323,VLOOKUP(E274,D:F,3,0)))","v":0.70688088527263204}]
[null,{"$f":"'QT Rede Trifásica - 380V'!D324","v":0},{"$f":"'QT Rede Trifásica - 380V'!F324","v":0},"00","00",{"$f":"IF(E275=\"\",'QT Rede Trifásica - 380V'!O324,SUM('QT Rede Trifásica - 380V'!O324,VLOOKUP(E275,D:F,3,0)))","v":0.70688088527263204}]
[null,{"$f":"'QT Rede Trifásica - 380V'!D325","v":0},{"$f":"'QT Rede Trifásica - 380V'!F325","v":0},"00","00",{"$f":"IF(E276=\"\",'QT Rede Trifásica - 380V'!O325,SUM('QT Rede Trifásica - 380V'!O325,VLOOKUP(E276,D:F,3,0)))","v":0.70688088527263204}]
[null,{"$f":"'QT Rede Trifásica - 380V'!D326","v":0},{"$f":"'QT Rede Trifásica - 380V'!F326","v":0},"00","00",{"$f":"IF(E277=\"\",'QT Rede Trifásica - 380V'!O326,SUM('QT Rede Trifásica - 380V'!O326,VLOOKUP(E277,D:F,3,0)))","v":0.70688088527263204}]
[null,{"$f":"'QT Rede Trifásica - 380V'!D327","v":0},{"$f":"'QT Rede Trifásica - 380V'!F327","v":0},"00","00",{"$f":"IF(E278=\"\",'QT Rede Trifásica - 380V'!O327,SUM('QT Rede Trifásica - 380V'!O327,VLOOKUP(E278,D:F,3,0)))","v":0.70688088527263204}]
[null,{"$f":"'QT Rede Trifásica - 380V'!D328","v":0},{"$f":"'QT Rede Trifásica - 380V'!F328","v":0},"00","00",{"$f":"IF(E279=\"\",'QT Rede Trifásica - 380V'!O328,SUM('QT Rede Trifásica - 380V'!O328,VLOOKUP(E279,D:F,3,0)))","v":0.70688088527263204}]
[null,{"$f":"'QT Rede Trifásica - 380V'!D329","v":0},{"$f":"'QT Rede Trifásica - 380V'!F329","v":0},"00","00",{"$f":"IF(E280=\"\",'QT Rede Trifásica - 380V'!O329,SUM('QT Rede Trifásica - 380V'!O329,VLOOKUP(E280,D:F,3,0)))","v":0.70688088527263204}]
[null,{"$f":"'QT Rede Trifásica - 380V'!D330","v":0},{"$f":"'QT Rede Trifásica - 380V'!F330","v":0},"00","00",{"$f":"IF(E281=\"\",'QT Rede Trifásica - 380V'!O330,SUM('QT Rede Trifásica - 380V'!O330,VLOOKUP(E281,D:F,3,0)))","v":0.70688088527263204}]
[null,{"$f":"'QT Rede Trifásica - 380V'!D331","v":0},{"$f":"'QT Rede Trifásica - 380V'!F331","v":0},"00","00",{"$f":"IF(E282=\"\",'QT Rede Trifásica - 380V'!O331,SUM('QT Rede Trifásica - 380V'!O331,VLOOKUP(E282,D:F,3,0)))","v":0.70688088527263204}]
[null,{"$f":"'QT Rede Trifásica - 380V'!D332","v":0},{"$f":"'QT Rede Trifásica - 380V'!F332","v":0},"00","00",{"$f":"IF(E283=\"\",'QT Rede Trifásica - 380V'!O332,SUM('QT Rede Trifásica - 380V'!O332,VLOOKUP(E283,D:F,3,0)))","v":0.70688088527263204}]
[null,{"$f":"'QT Rede Trifásica - 380V'!D333","v":0},{"$f":"'QT Rede Trifásica - 380V'!F333","v":0},"00","00",{"$f":"IF(E284=\"\",'QT Rede Trifásica - 380V'!O333,SUM('QT Rede Trifásica - 380V'!O333,VLOOKUP(E284,D:F,3,0)))","v":0.70688088527263204}]
[null,{"$f":"'QT Rede Trifásica - 380V'!D334","v":0},{"$f":"'QT Rede Trifásica - 380V'!F334","v":0},"00","00",{"$f":"IF(E285=\"\",'QT Rede Trifásica - 380V'!O334,SUM('QT Rede Trifásica - 380V'!O334,VLOOKUP(E285,D:F,3,0)))","v":0.70688088527263204}]
[null,{"$f":"'QT Rede Trifásica - 380V'!D335","v":0},{"$f":"'QT Rede Trifásica - 380V'!F335","v":0},"00","00",{"$f":"IF(E286=\"\",'QT Rede Trifásica - 380V'!O335,SUM('QT Rede Trifásica - 380V'!O335,VLOOKUP(E286,D:F,3,0)))","v":0.70688088527263204}]
[null,{"$f":"'QT Rede Trifásica - 380V'!D336","v":0},{"$f":"'QT Rede Trifásica - 380V'!F336","v":0},"00","00",{"$f":"IF(E287=\"\",'QT Rede Trifásica - 380V'!O336,SUM('QT Rede Trifásica - 380V'!O336,VLOOKUP(E287,D:F,3,0)))","v":0.70688088527263204}]
[null,{"$f":"'QT Rede Trifásica - 380V'!D337","v":0},{"$f":"'QT Rede Trifásica - 380V'!F337","v":0},"00","00",{"$f":"IF(E288=\"\",'QT Rede Trifásica - 380V'!O337,SUM('QT Rede Trifásica - 380V'!O337,VLOOKUP(E288,D:F,3,0)))","v":0.70688088527263204}]
[null,{"$f":"'QT Rede Trifásica - 380V'!D338","v":0},{"$f":"'QT Rede Trifásica - 380V'!F338","v":0},"00","00",{"$f":"IF(E289=\"\",'QT Rede Trifásica - 380V'!O338,SUM('QT Rede Trifásica - 380V'!O338,VLOOKUP(E289,D:F,3,0)))","v":0.70688088527263204}]
[null,{"$f":"'QT Rede Trifásica - 380V'!D339","v":0},{"$f":"'QT Rede Trifásica - 380V'!F339","v":0},"00","00",{"$f":"IF(E290=\"\",'QT Rede Trifásica - 380V'!O339,SUM('QT Rede Trifásica - 380V'!O339,VLOOKUP(E290,D:F,3,0)))","v":0.70688088527263204}]
[null,{"$f":"'QT Rede Trifásica - 380V'!D340","v":0},{"$f":"'QT Rede Trifásica - 380V'!F340","v":0},"00","00",{"$f":"IF(E291=\"\",'QT Rede Trifásica - 380V'!O340,SUM('QT Rede Trifásica - 380V'!O340,VLOOKUP(E291,D:F,3,0)))","v":0.70688088527263204}]
[null,{"$f":"'QT Rede Trifásica - 380V'!D341","v":0},{"$f":"'QT Rede Trifásica - 380V'!F341","v":0},"00","00",{"$f":"IF(E292=\"\",'QT Rede Trifásica - 380V'!O341,SUM('QT Rede Trifásica - 380V'!O341,VLOOKUP(E292,D:F,3,0)))","v":0.70688088527263204}]
[null,{"$f":"'QT Rede Trifásica - 380V'!D342","v":0},{"$f":"'QT Rede Trifásica - 380V'!F342","v":0},"00","00",{"$f":"IF(E293=\"\",'QT Rede Trifásica - 380V'!O342,SUM('QT Rede Trifásica - 380V'!O342,VLOOKUP(E293,D:F,3,0)))","v":0.70688088527263204}]
[null,{"$f":"'QT Rede Trifásica - 380V'!D343","v":0},{"$f":"'QT Rede Trifásica - 380V'!F343","v":0},"00","00",{"$f":"IF(E294=\"\",'QT Rede Trifásica - 380V'!O343,SUM('QT Rede Trifásica - 380V'!O343,VLOOKUP(E294,D:F,3,0)))","v":0.70688088527263204}]
[null,{"$f":"'QT Rede Trifásica - 380V'!D344","v":0},{"$f":"'QT Rede Trifásica - 380V'!F344","v":0},"00","00",{"$f":"IF(E295=\"\",'QT Rede Trifásica - 380V'!O344,SUM('QT Rede Trifásica - 380V'!O344,VLOOKUP(E295,D:F,3,0)))","v":0.70688088527263204}]
[null,{"$f":"'QT Rede Trifásica - 380V'!D345","v":0},{"$f":"'QT Rede Trifásica - 380V'!F345","v":0},"00","00",{"$f":"IF(E296=\"\",'QT Rede Trifásica - 380V'!O345,SUM('QT Rede Trifásica - 380V'!O345,VLOOKUP(E296,D:F,3,0)))","v":0.70688088527263204}]
[null,{"$f":"'QT Rede Trifásica - 380V'!D346","v":0},{"$f":"'QT Rede Trifásica - 380V'!F346","v":0},"00","00",{"$f":"IF(E297=\"\",'QT Rede Trifásica - 380V'!O346,SUM('QT Rede Trifásica - 380V'!O346,VLOOKUP(E297,D:F,3,0)))","v":0.70688088527263204}]
[null,{"$f":"'QT Rede Trifásica - 380V'!D347","v":0},{"$f":"'QT Rede Trifásica - 380V'!F347","v":0},"00","00",{"$f":"IF(E298=\"\",'QT Rede Trifásica - 380V'!O347,SUM('QT Rede Trifásica - 380V'!O347,VLOOKUP(E298,D:F,3,0)))","v":0.70688088527263204}]
[null,{"$f":"'QT Rede Trifásica - 380V'!D348","v":0},{"$f":"'QT Rede Trifásica - 380V'!F348","v":0},"00","00",{"$f":"IF(E299=\"\",'QT Rede Trifásica - 380V'!O348,SUM('QT Rede Trifásica - 380V'!O348,VLOOKUP(E299,D:F,3,0)))","v":0.70688088527263204}]
[null,{"$f":"'QT Rede Trifásica - 380V'!D349","v":0},{"$f":"'QT Rede Trifásica - 380V'!F349","v":0},"00","00",{"$f":"IF(E300=\"\",'QT Rede Trifásica - 380V'!O349,SUM('QT Rede Trifásica - 380V'!O349,VLOOKUP(E300,D:F,3,0)))","v":0.70688088527263204}]
[null,{"$f":"'QT Rede Trifásica - 380V'!D350","v":0},{"$f":"'QT Rede Trifásica - 380V'!F350","v":0},"00","00",{"$f":"IF(E301=\"\",'QT Rede Trifásica - 380V'!O350,SUM('QT Rede Trifásica - 380V'!O350,VLOOKUP(E301,D:F,3,0)))","v":0.70688088527263204}]
[null,{"$f":"'QT Rede Trifásica - 380V'!D351","v":0},{"$f":"'QT Rede Trifásica - 380V'!F351","v":0},"00","00",{"$f":"IF(E302=\"\",'QT Rede Trifásica - 380V'!O351,SUM('QT Rede Trifásica - 380V'!O351,VLOOKUP(E302,D:F,3,0)))","v":0.70688088527263204}]
[null,{"$f":"'QT Rede Trifásica - 380V'!D352","v":0},{"$f":"'QT Rede Trifásica - 380V'!F352","v":0},"00","00",{"$f":"IF(E303=\"\",'QT Rede Trifásica - 380V'!O352,SUM('QT Rede Trifásica - 380V'!O352,VLOOKUP(E303,D:F,3,0)))","v":0.70688088527263204}]
[null,{"$f":"'QT Rede Trifásica - 380V'!D353","v":0},{"$f":"'QT Rede Trifásica - 380V'!F353","v":0},"00","00",{"$f":"IF(E304=\"\",'QT Rede Trifásica - 380V'!O353,SUM('QT Rede Trifásica - 380V'!O353,VLOOKUP(E304,D:F,3,0)))","v":0.70688088527263204}]
[null,{"$f":"'QT Rede Trifásica - 380V'!D354","v":0},{"$f":"'QT Rede Trifásica - 380V'!F354","v":0},"00","00",{"$f":"IF(E305=\"\",'QT Rede Trifásica - 380V'!O354,SUM('QT Rede Trifásica - 380V'!O354,VLOOKUP(E305,D:F,3,0)))","v":0.70688088527263204}]
[null,{"$f":"'QT Rede Trifásica - 380V'!D355","v":0},{"$f":"'QT Rede Trifásica - 380V'!F355","v":0},"00","00",{"$f":"IF(E306=\"\",'QT Rede Trifásica - 380V'!O355,SUM('QT Rede Trifásica - 380V'!O355,VLOOKUP(E306,D:F,3,0)))","v":0.70688088527263204}]
[null,{"$f":"'QT Rede Trifásica - 380V'!D356","v":0},{"$f":"'QT Rede Trifásica - 380V'!F356","v":0},"00","00",{"$f":"IF(E307=\"\",'QT Rede Trifásica - 380V'!O356,SUM('QT Rede Trifásica - 380V'!O356,VLOOKUP(E307,D:F,3,0)))","v":0.70688088527263204}]
[null,{"$f":"'QT Rede Trifásica - 380V'!D357","v":0},{"$f":"'QT Rede Trifásica - 380V'!F357","v":0},"00","00",{"$f":"IF(E308=\"\",'QT Rede Trifásica - 380V'!O357,SUM('QT Rede Trifásica - 380V'!O357,VLOOKUP(E308,D:F,3,0)))","v":0.70688088527263204}]
[null,{"$f":"'QT Rede Trifásica - 380V'!D358","v":0},{"$f":"'QT Rede Trifásica - 380V'!F358","v":0},"00","00",{"$f":"IF(E309=\"\",'QT Rede Trifásica - 380V'!O358,SUM('QT Rede Trifásica - 380V'!O358,VLOOKUP(E309,D:F,3,0)))","v":0.70688088527263204}]
[null,{"$f":"'QT Rede Trifásica - 380V'!D359","v":0},{"$f":"'QT Rede Trifásica - 380V'!F359","v":0},"00","00",{"$f":"IF(E310=\"\",'QT Rede Trifásica - 380V'!O359,SUM('QT Rede Trifásica - 380V'!O359,VLOOKUP(E310,D:F,3,0)))","v":0.70688088527263204}]
[null,{"$f":"'QT Rede Trifásica - 380V'!D360","v":0},{"$f":"'QT Rede Trifásica - 380V'!F360","v":0},"00","00",{"$f":"IF(E311=\"\",'QT Rede Trifásica - 380V'!O360,SUM('QT Rede Trifásica - 380V'!O360,VLOOKUP(E311,D:F,3,0)))","v":0.70688088527263204}]
[null,{"$f":"'QT Rede Trifásica - 380V'!D361","v":0},{"$f":"'QT Rede Trifásica - 380V'!F361","v":0},"00","00",{"$f":"IF(E312=\"\",'QT Rede Trifásica - 380V'!O361,SUM('QT Rede Trifásica - 380V'!O361,VLOOKUP(E312,D:F,3,0)))","v":0.70688088527263204}]
[null,{"$f":"'QT Rede Trifásica - 380V'!D362","v":0},{"$f":"'QT Rede Trifásica - 380V'!F362","v":0},"00","00",{"$f":"IF(E313=\"\",'QT Rede Trifásica - 380V'!O362,SUM('QT Rede Trifásica - 380V'!O362,VLOOKUP(E313,D:F,3,0)))","v":0.70688088527263204}]
[null,{"$f":"'QT Rede Trifásica - 380V'!D363","v":0},{"$f":"'QT Rede Trifásica - 380V'!F363","v":0},"00","00",{"$f":"IF(E314=\"\",'QT Rede Trifásica - 380V'!O363,SUM('QT Rede Trifásica - 380V'!O363,VLOOKUP(E314,D:F,3,0)))","v":0.70688088527263204}]
[null,{"$f":"'QT Rede Trifásica - 380V'!D364","v":0},{"$f":"'QT Rede Trifásica - 380V'!F364","v":0},"00","00",{"$f":"IF(E315=\"\",'QT Rede Trifásica - 380V'!O364,SUM('QT Rede Trifásica - 380V'!O364,VLOOKUP(E315,D:F,3,0)))","v":0.70688088527263204}]
[null,{"$f":"'QT Rede Trifásica - 380V'!D365","v":0},{"$f":"'QT Rede Trifásica - 380V'!F365","v":0},"00","00",{"$f":"IF(E316=\"\",'QT Rede Trifásica - 380V'!O365,SUM('QT Rede Trifásica - 380V'!O365,VLOOKUP(E316,D:F,3,0)))","v":0.70688088527263204}]
[null,{"$f":"'QT Rede Trifásica - 380V'!D366","v":0},{"$f":"'QT Rede Trifásica - 380V'!F366","v":0},"00","00",{"$f":"IF(E317=\"\",'QT Rede Trifásica - 380V'!O366,SUM('QT Rede Trifásica - 380V'!O366,VLOOKUP(E317,D:F,3,0)))","v":0.70688088527263204}]
[null,{"$f":"'QT Rede Trifásica - 380V'!D367","v":0},{"$f":"'QT Rede Trifásica - 380V'!F367","v":0},"00","00",{"$f":"IF(E318=\"\",'QT Rede Trifásica - 380V'!O367,SUM('QT Rede Trifásica - 380V'!O367,VLOOKUP(E318,D:F,3,0)))","v":0.70688088527263204}]
[null,{"$f":"'QT Rede Trifásica - 380V'!D368","v":0},{"$f":"'QT Rede Trifásica - 380V'!F368","v":0},"00","00",{"$f":"IF(E319=\"\",'QT Rede Trifásica - 380V'!O368,SUM('QT Rede Trifásica - 380V'!O368,VLOOKUP(E319,D:F,3,0)))","v":0.70688088527263204}]
[null,{"$f":"'QT Rede Trifásica - 380V'!D369","v":0},{"$f":"'QT Rede Trifásica - 380V'!F369","v":0},"00","00",{"$f":"IF(E320=\"\",'QT Rede Trifásica - 380V'!O369,SUM('QT Rede Trifásica - 380V'!O369,VLOOKUP(E320,D:F,3,0)))","v":0.70688088527263204}]
[null,{"$f":"'QT Rede Trifásica - 380V'!D370","v":0},{"$f":"'QT Rede Trifásica - 380V'!F370","v":0},"00","00",{"$f":"IF(E321=\"\",'QT Rede Trifásica - 380V'!O370,SUM('QT Rede Trifásica - 380V'!O370,VLOOKUP(E321,D:F,3,0)))","v":0.70688088527263204}]
[null,{"$f":"'QT Rede Trifásica - 380V'!D371","v":0},{"$f":"'QT Rede Trifásica - 380V'!F371","v":0},"00","00",{"$f":"IF(E322=\"\",'QT Rede Trifásica - 380V'!O371,SUM('QT Rede Trifásica - 380V'!O371,VLOOKUP(E322,D:F,3,0)))","v":0.70688088527263204}]
[null,{"$f":"'QT Rede Trifásica - 380V'!D372","v":0},{"$f":"'QT Rede Trifásica - 380V'!F372","v":0},"00",{"$f":"IFERROR(VLOOKUP(B323,C:D,2,0),\"\")","v":"00"},{"$f":"IF(E323=\"\",'QT Rede Trifásica - 380V'!O372,SUM('QT Rede Trifásica - 380V'!O372,VLOOKUP(E323,D:F,3,0)))","v":0.70688088527263204}]
[null,{"$f":"'QT Rede Trifásica - 380V'!D373","v":0},{"$f":"'QT Rede Trifásica - 380V'!F373","v":0},"00","00",{"$f":"IF(E324=\"\",'QT Rede Trifásica - 380V'!O373,SUM('QT Rede Trifásica - 380V'!O373,VLOOKUP(E324,D:F,3,0)))","v":0.70688088527263204}]
[null,{"$f":"'QT Rede Trifásica - 380V'!D374","v":0},{"$f":"'QT Rede Trifásica - 380V'!F374","v":0},{"$f":"B325&C325","v":"00"},"00",{"$f":"IF(E325=\"\",'QT Rede Trifásica - 380V'!O374,SUM('QT Rede Trifásica - 380V'!O374,VLOOKUP(E325,D:F,3,0)))","v":0.70688088527263204}]
[null,{"$f":"'QT Rede Trifásica - 380V'!D375","v":0},{"$f":"'QT Rede Trifásica - 380V'!F375","v":0},"00","00",{"$f":"IF(E326=\"\",'QT Rede Trifásica - 380V'!O375,SUM('QT Rede Trifásica - 380V'!O375,VLOOKUP(E326,D:F,3,0)))","v":0.70688088527263204}]
[null,{"$f":"'QT Rede Trifásica - 380V'!D376","v":0},{"$f":"'QT Rede Trifásica - 380V'!F376","v":0},"00","00",{"$f":"IF(E327=\"\",'QT Rede Trifásica - 380V'!O376,SUM('QT Rede Trifásica - 380V'!O376,VLOOKUP(E327,D:F,3,0)))","v":0.70688088527263204}]
[null,{"$f":"'QT Rede Trifásica - 380V'!D377","v":0},{"$f":"'QT Rede Trifásica - 380V'!F377","v":0},"00","00",{"$f":"IF(E328=\"\",'QT Rede Trifásica - 380V'!O377,SUM('QT Rede Trifásica - 380V'!O377,VLOOKUP(E328,D:F,3,0)))","v":0.70688088527263204}]
[null,{"$f":"'QT Rede Trifásica - 380V'!D378","v":0},{"$f":"'QT Rede Trifásica - 380V'!F378","v":0},"00","00",{"$f":"IF(E329=\"\",'QT Rede Trifásica - 380V'!O378,SUM('QT Rede Trifásica - 380V'!O378,VLOOKUP(E329,D:F,3,0)))","v":0.70688088527263204}]
[null,{"$f":"'QT Rede Trifásica - 380V'!D379","v":0},{"$f":"'QT Rede Trifásica - 380V'!F379","v":0},"00","00",{"$f":"IF(E330=\"\",'QT Rede Trifásica - 380V'!O379,SUM('QT Rede Trifásica - 380V'!O379,VLOOKUP(E330,D:F,3,0)))","v":0.70688088527263204}]
[null,{"$f":"'QT Rede Trifásica - 380V'!D380","v":0},{"$f":"'QT Rede Trifásica - 380V'!F380","v":0},"00","00",{"$f":"IF(E331=\"\",'QT Rede Trifásica - 380V'!O380,SUM('QT Rede Trifásica - 380V'!O380,VLOOKUP(E331,D:F,3,0)))","v":0.70688088527263204}]
[null,{"$f":"'QT Rede Trifásica - 380V'!D381","v":0},{"$f":"'QT Rede Trifásica - 380V'!F381","v":0},"00","00",{"$f":"IF(E332=\"\",'QT Rede Trifásica - 380V'!O381,SUM('QT Rede Trifásica - 380V'!O381,VLOOKUP(E332,D:F,3,0)))","v":0.70688088527263204}]
[null,{"$f":"'QT Rede Trifásica - 380V'!D382","v":0},{"$f":"'QT Rede Trifásica - 380V'!F382","v":0},"00","00",{"$f":"IF(E333=\"\",'QT Rede Trifásica - 380V'!O382,SUM('QT Rede Trifásica - 380V'!O382,VLOOKUP(E333,D:F,3,0)))","v":0.70688088527263204}]
[null,{"$f":"'QT Rede Trifásica - 380V'!D383","v":0},{"$f":"'QT Rede Trifásica - 380V'!F383","v":0},"00","00",{"$f":"IF(E334=\"\",'QT Rede Trifásica - 380V'!O383,SUM('QT Rede Trifásica - 380V'!O383,VLOOKUP(E334,D:F,3,0)))","v":0.70688088527263204}]
[null,{"$f":"'QT Rede Trifásica - 380V'!D384","v":0},{"$f":"'QT Rede Trifásica - 380V'!F384","v":0},"00","00",{"$f":"IF(E335=\"\",'QT Rede Trifásica - 380V'!O384,SUM('QT Rede Trifásica - 380V'!O384,VLOOKUP(E335,D:F,3,0)))","v":0.70688088527263204}]
[null,{"$f":"'QT Rede Trifásica - 380V'!D385","v":0},{"$f":"'QT Rede Trifásica - 380V'!F385","v":0},"00","00",{"$f":"IF(E336=\"\",'QT Rede Trifásica - 380V'!O385,SUM('QT Rede Trifásica - 380V'!O385,VLOOKUP(E336,D:F,3,0)))","v":0.70688088527263204}]
[null,{"$f":"'QT Rede Trifásica - 380V'!D386","v":0},{"$f":"'QT Rede Trifásica - 380V'!F386","v":0},"00","00",{"$f":"IF(E337=\"\",'QT Rede Trifásica - 380V'!O386,SUM('QT Rede Trifásica - 380V'!O386,VLOOKUP(E337,D:F,3,0)))","v":0.70688088527263204}]
[null,{"$f":"'QT Rede Trifásica - 380V'!D387","v":0},{"$f":"'QT Rede Trifásica - 380V'!F387","v":0},"00","00",{"$f":"IF(E338=\"\",'QT Rede Trifásica - 380V'!O387,SUM('QT Rede Trifásica - 380V'!O387,VLOOKUP(E338,D:F,3,0)))","v":0.70688088527263204}]
[null,{"$f":"'QT Rede Trifásica - 380V'!D388","v":0},{"$f":"'QT Rede Trifásica - 380V'!F388","v":0},"00","00",{"$f":"IF(E339=\"\",'QT Rede Trifásica - 380V'!O388,SUM('QT Rede Trifásica - 380V'!O388,VLOOKUP(E339,D:F,3,0)))","v":0.70688088527263204}]
[null,{"$f":"'QT Rede Trifásica - 380V'!D389","v":0},{"$f":"'QT Rede Trifásica - 380V'!F389","v":0},"00","00",{"$f":"IF(E340=\"\",'QT Rede Trifásica - 380V'!O389,SUM('QT Rede Trifásica - 380V'!O389,VLOOKUP(E340,D:F,3,0)))","v":0.70688088527263204}]
[null,{"$f":"'QT Rede Trifásica - 380V'!D390","v":0},{"$f":"'QT Rede Trifásica - 380V'!F390","v":0},"00","00",{"$f":"IF(E341=\"\",'QT Rede Trifásica - 380V'!O390,SUM('QT Rede Trifásica - 380V'!O390,VLOOKUP(E341,D:F,3,0)))","v":0.70688088527263204}]
[null,{"$f":"'QT Rede Trifásica - 380V'!D391","v":0},{"$f":"'QT Rede Trifásica - 380V'!F391","v":0},"00","00",{"$f":"IF(E342=\"\",'QT Rede Trifásica - 380V'!O391,SUM('QT Rede Trifásica - 380V'!O391,VLOOKUP(E342,D:F,3,0)))","v":0.70688088527263204}]
[null,{"$f":"'QT Rede Trifásica - 380V'!D392","v":0},{"$f":"'QT Rede Trifásica - 380V'!F392","v":0},"00","00",{"$f":"IF(E343=\"\",'QT Rede Trifásica - 380V'!O392,SUM('QT Rede Trifásica - 380V'!O392,VLOOKUP(E343,D:F,3,0)))","v":0.70688088527263204}]
[null,{"$f":"'QT Rede Trifásica - 380V'!D393","v":0},{"$f":"'QT Rede Trifásica - 380V'!F393","v":0},"00","00",{"$f":"IF(E344=\"\",'QT Rede Trifásica - 380V'!O393,SUM('QT Rede Trifásica - 380V'!O393,VLOOKUP(E344,D:F,3,0)))","v":0.70688088527263204}]
[null,{"$f":"'QT Rede Trifásica - 380V'!D394","v":0},{"$f":"'QT Rede Trifásica - 380V'!F394","v":0},"00","00",{"$f":"IF(E345=\"\",'QT Rede Trifásica - 380V'!O394,SUM('QT Rede Trifásica - 380V'!O394,VLOOKUP(E345,D:F,3,0)))","v":0.70688088527263204}]
[null,{"$f":"'QT Rede Trifásica - 380V'!D395","v":0},{"$f":"'QT Rede Trifásica - 380V'!F395","v":0},"00","00",{"$f":"IF(E346=\"\",'QT Rede Trifásica - 380V'!O395,SUM('QT Rede Trifásica - 380V'!O395,VLOOKUP(E346,D:F,3,0)))","v":0.70688088527263204}]
[null,{"$f":"'QT Rede Trifásica - 380V'!D396","v":0},{"$f":"'QT Rede Trifásica - 380V'!F396","v":0},"00","00",{"$f":"IF(E347=\"\",'QT Rede Trifásica - 380V'!O396,SUM('QT Rede Trifásica - 380V'!O396,VLOOKUP(E347,D:F,3,0)))","v":0.70688088527263204}]
[null,{"$f":"'QT Rede Trifásica - 380V'!D397","v":0},{"$f":"'QT Rede Trifásica - 380V'!F397","v":0},"00","00",{"$f":"IF(E348=\"\",'QT Rede Trifásica - 380V'!O397,SUM('QT Rede Trifásica - 380V'!O397,VLOOKUP(E348,D:F,3,0)))","v":0.70688088527263204}]
[null,{"$f":"'QT Rede Trifásica - 380V'!D398","v":0},{"$f":"'QT Rede Trifásica - 380V'!F398","v":0},"00","00",{"$f":"IF(E349=\"\",'QT Rede Trifásica - 380V'!O398,SUM('QT Rede Trifásica - 380V'!O398,VLOOKUP(E349,D:F,3,0)))","v":0.70688088527263204}]
[null,{"$f":"'QT Rede Trifásica - 380V'!D399","v":0},{"$f":"'QT Rede Trifásica - 380V'!F399","v":0},"00","00",{"$f":"IF(E350=\"\",'QT Rede Trifásica - 380V'!O399,SUM('QT Rede Trifásica - 380V'!O399,VLOOKUP(E350,D:F,3,0)))","v":0.70688088527263204}]
[null,{"$f":"'QT Rede Trifásica - 380V'!D400","v":0},{"$f":"'QT Rede Trifásica - 380V'!F400","v":0},"00","00",{"$f":"IF(E351=\"\",'QT Rede Trifásica - 380V'!O400,SUM('QT Rede Trifásica - 380V'!O400,VLOOKUP(E351,D:F,3,0)))","v":0.70688088527263204}]
[null,{"$f":"'QT Rede Trifásica - 380V'!D401","v":0},{"$f":"'QT Rede Trifásica - 380V'!F401","v":0},"00","00",{"$f":"IF(E352=\"\",'QT Rede Trifásica - 380V'!O401,SUM('QT Rede Trifásica - 380V'!O401,VLOOKUP(E352,D:F,3,0)))","v":0.70688088527263204}]
[null,{"$f":"'QT Rede Trifásica - 380V'!D402","v":0},{"$f":"'QT Rede Trifásica - 380V'!F402","v":0},"00","00",{"$f":"IF(E353=\"\",'QT Rede Trifásica - 380V'!O402,SUM('QT Rede Trifásica - 380V'!O402,VLOOKUP(E353,D:F,3,0)))","v":0.70688088527263204}]
[null,{"$f":"'QT Rede Trifásica - 380V'!D403","v":0},{"$f":"'QT Rede Trifásica - 380V'!F403","v":0},"00","00",{"$f":"IF(E354=\"\",'QT Rede Trifásica - 380V'!O403,SUM('QT Rede Trifásica - 380V'!O403,VLOOKUP(E354,D:F,3,0)))","v":0.70688088527263204}]
[null,{"$f":"'QT Rede Trifásica - 380V'!D404","v":0},{"$f":"'QT Rede Trifásica - 380V'!F404","v":0},"00","00",{"$f":"IF(E355=\"\",'QT Rede Trifásica - 380V'!O404,SUM('QT Rede Trifásica - 380V'!O404,VLOOKUP(E355,D:F,3,0)))","v":0.70688088527263204}]
[null,{"$f":"'QT Rede Trifásica - 380V'!D405","v":0},{"$f":"'QT Rede Trifásica - 380V'!F405","v":0},"00","00",{"$f":"IF(E356=\"\",'QT Rede Trifásica - 380V'!O405,SUM('QT Rede Trifásica - 380V'!O405,VLOOKUP(E356,D:F,3,0)))","v":0.70688088527263204}]
[null,{"$f":"'QT Rede Trifásica - 380V'!D406","v":0},{"$f":"'QT Rede Trifásica - 380V'!F406","v":0},"00","00",{"$f":"IF(E357=\"\",'QT Rede Trifásica - 380V'!O406,SUM('QT Rede Trifásica - 380V'!O406,VLOOKUP(E357,D:F,3,0)))","v":0.70688088527263204}]
[null,{"$f":"'QT Rede Trifásica - 380V'!D407","v":0},{"$f":"'QT Rede Trifásica - 380V'!F407","v":0},"00","00",{"$f":"IF(E358=\"\",'QT Rede Trifásica - 380V'!O407,SUM('QT Rede Trifásica - 380V'!O407,VLOOKUP(E358,D:F,3,0)))","v":0.70688088527263204}]
[null,{"$f":"'QT Rede Trifásica - 380V'!D408","v":0},{"$f":"'QT Rede Trifásica - 380V'!F408","v":0},"00","00",{"$f":"IF(E359=\"\",'QT Rede Trifásica - 380V'!O408,SUM('QT Rede Trifásica - 380V'!O408,VLOOKUP(E359,D:F,3,0)))","v":0.70688088527263204}]
[null,{"$f":"'QT Rede Trifásica - 380V'!D409","v":0},{"$f":"'QT Rede Trifásica - 380V'!F409","v":0},"00","00",{"$f":"IF(E360=\"\",'QT Rede Trifásica - 380V'!O409,SUM('QT Rede Trifásica - 380V'!O409,VLOOKUP(E360,D:F,3,0)))","v":0.70688088527263204}]
[null,{"$f":"'QT Rede Trifásica - 380V'!D410","v":0},{"$f":"'QT Rede Trifásica - 380V'!F410","v":0},"00","00",{"$f":"IF(E361=\"\",'QT Rede Trifásica - 380V'!O410,SUM('QT Rede Trifásica - 380V'!O410,VLOOKUP(E361,D:F,3,0)))","v":0.70688088527263204}]
[null,{"$f":"'QT Rede Trifásica - 380V'!D411","v":0},{"$f":"'QT Rede Trifásica - 380V'!F411","v":0},"00","00",{"$f":"IF(E362=\"\",'QT Rede Trifásica - 380V'!O411,SUM('QT Rede Trifásica - 380V'!O411,VLOOKUP(E362,D:F,3,0)))","v":0.70688088527263204}]
[null,{"$f":"'QT Rede Trifásica - 380V'!D412","v":0},{"$f":"'QT Rede Trifásica - 380V'!F412","v":0},"00","00",{"$f":"IF(E363=\"\",'QT Rede Trifásica - 380V'!O412,SUM('QT Rede Trifásica - 380V'!O412,VLOOKUP(E363,D:F,3,0)))","v":0.70688088527263204}]
[null,{"$f":"'QT Rede Trifásica - 380V'!D413","v":0},{"$f":"'QT Rede Trifásica - 380V'!F413","v":0},"00","00",{"$f":"IF(E364=\"\",'QT Rede Trifásica - 380V'!O413,SUM('QT Rede Trifásica - 380V'!O413,VLOOKUP(E364,D:F,3,0)))","v":0.70688088527263204}]
[null,{"$f":"'QT Rede Trifásica - 380V'!D414","v":0},{"$f":"'QT Rede Trifásica - 380V'!F414","v":0},"00","00",{"$f":"IF(E365=\"\",'QT Rede Trifásica - 380V'!O414,SUM('QT Rede Trifásica - 380V'!O414,VLOOKUP(E365,D:F,3,0)))","v":0.70688088527263204}]
[null,{"$f":"'QT Rede Trifásica - 380V'!D415","v":0},{"$f":"'QT Rede Trifásica - 380V'!F415","v":0},"00","00",{"$f":"IF(E366=\"\",'QT Rede Trifásica - 380V'!O415,SUM('QT Rede Trifásica - 380V'!O415,VLOOKUP(E366,D:F,3,0)))","v":0.70688088527263204}]
[null,{"$f":"'QT Rede Trifásica - 380V'!D416","v":0},{"$f":"'QT Rede Trifásica - 380V'!F416","v":0},"00","00",{"$f":"IF(E367=\"\",'QT Rede Trifásica - 380V'!O416,SUM('QT Rede Trifásica - 380V'!O416,VLOOKUP(E367,D:F,3,0)))","v":0.70688088527263204}]
[null,{"$f":"'QT Rede Trifásica - 380V'!D417","v":0},{"$f":"'QT Rede Trifásica - 380V'!F417","v":0},"00","00",{"$f":"IF(E368=\"\",'QT Rede Trifásica - 380V'!O417,SUM('QT Rede Trifásica - 380V'!O417,VLOOKUP(E368,D:F,3,0)))","v":0.70688088527263204}]
[null,{"$f":"'QT Rede Trifásica - 380V'!D418","v":0},{"$f":"'QT Rede Trifásica - 380V'!F418","v":0},"00","00",{"$f":"IF(E369=\"\",'QT Rede Trifásica - 380V'!O418,SUM('QT Rede Trifásica - 380V'!O418,VLOOKUP(E369,D:F,3,0)))","v":0.70688088527263204}]
[null,{"$f":"'QT Rede Trifásica - 380V'!D419","v":0},{"$f":"'QT Rede Trifásica - 380V'!F419","v":0},"00","00",{"$f":"IF(E370=\"\",'QT Rede Trifásica - 380V'!O419,SUM('QT Rede Trifásica - 380V'!O419,VLOOKUP(E370,D:F,3,0)))","v":0.70688088527263204}]
[null,{"$f":"'QT Rede Trifásica - 380V'!D420","v":0},{"$f":"'QT Rede Trifásica - 380V'!F420","v":0},"00","00",{"$f":"IF(E371=\"\",'QT Rede Trifásica - 380V'!O420,SUM('QT Rede Trifásica - 380V'!O420,VLOOKUP(E371,D:F,3,0)))","v":0.70688088527263204}]
[null,{"$f":"'QT Rede Trifásica - 380V'!D421","v":0},{"$f":"'QT Rede Trifásica - 380V'!F421","v":0},"00","00",{"$f":"IF(E372=\"\",'QT Rede Trifásica - 380V'!O421,SUM('QT Rede Trifásica - 380V'!O421,VLOOKUP(E372,D:F,3,0)))","v":0.70688088527263204}]
[null,{"$f":"'QT Rede Trifásica - 380V'!D422","v":0},{"$f":"'QT Rede Trifásica - 380V'!F422","v":0},"00","00",{"$f":"IF(E373=\"\",'QT Rede Trifásica - 380V'!O422,SUM('QT Rede Trifásica - 380V'!O422,VLOOKUP(E373,D:F,3,0)))","v":0.70688088527263204}]
[null,{"$f":"'QT Rede Trifásica - 380V'!D423","v":0},{"$f":"'QT Rede Trifásica - 380V'!F423","v":0},"00","00",{"$f":"IF(E374=\"\",'QT Rede Trifásica - 380V'!O423,SUM('QT Rede Trifásica - 380V'!O423,VLOOKUP(E374,D:F,3,0)))","v":0.70688088527263204}]
[null,{"$f":"'QT Rede Trifásica - 380V'!D424","v":0},{"$f":"'QT Rede Trifásica - 380V'!F424","v":0},"00","00",{"$f":"IF(E375=\"\",'QT Rede Trifásica - 380V'!O424,SUM('QT Rede Trifásica - 380V'!O424,VLOOKUP(E375,D:F,3,0)))","v":0.70688088527263204}]
[null,{"$f":"'QT Rede Trifásica - 380V'!D425","v":0},{"$f":"'QT Rede Trifásica - 380V'!F425","v":0},"00","00",{"$f":"IF(E376=\"\",'QT Rede Trifásica - 380V'!O425,SUM('QT Rede Trifásica - 380V'!O425,VLOOKUP(E376,D:F,3,0)))","v":0.70688088527263204}]
[null,{"$f":"'QT Rede Trifásica - 380V'!D426","v":0},{"$f":"'QT Rede Trifásica - 380V'!F426","v":0},"00","00",{"$f":"IF(E377=\"\",'QT Rede Trifásica - 380V'!O426,SUM('QT Rede Trifásica - 380V'!O426,VLOOKUP(E377,D:F,3,0)))","v":0.70688088527263204}]
[null,{"$f":"'QT Rede Trifásica - 380V'!D427","v":0},{"$f":"'QT Rede Trifásica - 380V'!F427","v":0},"00","00",{"$f":"IF(E378=\"\",'QT Rede Trifásica - 380V'!O427,SUM('QT Rede Trifásica - 380V'!O427,VLOOKUP(E378,D:F,3,0)))","v":0.70688088527263204}]
[null,{"$f":"'QT Rede Trifásica - 380V'!D428","v":0},{"$f":"'QT Rede Trifásica - 380V'!F428","v":0},"00","00",{"$f":"IF(E379=\"\",'QT Rede Trifásica - 380V'!O428,SUM('QT Rede Trifásica - 380V'!O428,VLOOKUP(E379,D:F,3,0)))","v":0.70688088527263204}]
[null,{"$f":"'QT Rede Trifásica - 380V'!D429","v":0},{"$f":"'QT Rede Trifásica - 380V'!F429","v":0},"00","00",{"$f":"IF(E380=\"\",'QT Rede Trifásica - 380V'!O429,SUM('QT Rede Trifásica - 380V'!O429,VLOOKUP(E380,D:F,3,0)))","v":0.70688088527263204}]
[null,{"$f":"'QT Rede Trifásica - 380V'!D430","v":0},{"$f":"'QT Rede Trifásica - 380V'!F430","v":0},"00","00",{"$f":"IF(E381=\"\",'QT Rede Trifásica - 380V'!O430,SUM('QT Rede Trifásica - 380V'!O430,VLOOKUP(E381,D:F,3,0)))","v":0.70688088527263204}]
[null,{"$f":"'QT Rede Trifásica - 380V'!D431","v":0},{"$f":"'QT Rede Trifásica - 380V'!F431","v":0},"00","00",{"$f":"IF(E382=\"\",'QT Rede Trifásica - 380V'!O431,SUM('QT Rede Trifásica - 380V'!O431,VLOOKUP(E382,D:F,3,0)))","v":0.70688088527263204}]
[null,{"$f":"'QT Rede Trifásica - 380V'!D432","v":0},{"$f":"'QT Rede Trifásica - 380V'!F432","v":0},"00","00",{"$f":"IF(E383=\"\",'QT Rede Trifásica - 380V'!O432,SUM('QT Rede Trifásica - 380V'!O432,VLOOKUP(E383,D:F,3,0)))","v":0.70688088527263204}]
[null,{"$f":"'QT Rede Trifásica - 380V'!D433","v":0},{"$f":"'QT Rede Trifásica - 380V'!F433","v":0},"00","00",{"$f":"IF(E384=\"\",'QT Rede Trifásica - 380V'!O433,SUM('QT Rede Trifásica - 380V'!O433,VLOOKUP(E384,D:F,3,0)))","v":0.70688088527263204}]
[null,{"$f":"'QT Rede Trifásica - 380V'!D434","v":0},{"$f":"'QT Rede Trifásica - 380V'!F434","v":0},"00","00",{"$f":"IF(E385=\"\",'QT Rede Trifásica - 380V'!O434,SUM('QT Rede Trifásica - 380V'!O434,VLOOKUP(E385,D:F,3,0)))","v":0.70688088527263204}]
[null,{"$f":"'QT Rede Trifásica - 380V'!D435","v":0},{"$f":"'QT Rede Trifásica - 380V'!F435","v":0},"00","00",{"$f":"IF(E386=\"\",'QT Rede Trifásica - 380V'!O435,SUM('QT Rede Trifásica - 380V'!O435,VLOOKUP(E386,D:F,3,0)))","v":0.70688088527263204}]
[null,{"$f":"'QT Rede Trifásica - 380V'!D436","v":0},{"$f":"'QT Rede Trifásica - 380V'!F436","v":0},"00",{"$f":"IFERROR(VLOOKUP(B387,C:D,2,0),\"\")","v":"00"},{"$f":"IF(E387=\"\",'QT Rede Trifásica - 380V'!O436,SUM('QT Rede Trifásica - 380V'!O436,VLOOKUP(E387,D:F,3,0)))","v":0.70688088527263204}]
[null,{"$f":"'QT Rede Trifásica - 380V'!D437","v":0},{"$f":"'QT Rede Trifásica - 380V'!F437","v":0},"00","00",{"$f":"IF(E388=\"\",'QT Rede Trifásica - 380V'!O437,SUM('QT Rede Trifásica - 380V'!O437,VLOOKUP(E388,D:F,3,0)))","v":0.70688088527263204}]

{"sheet":"Coeficientes","index":3,"n_rows":17,"n_cols":9,"rows_kept":17,"cut":false,"hidden":false,"merged":[[1,1,1,3],[1,4,1,6],[0,1,0,6],[0,0,2,0]]}
["Cabos","Coeficiente de queda de tensão % / kVA x 100 m"]
[null,"220/127  V",null,null,"380/220 V"]
[null,"1F","2F","3F","1F","2F","3F"]
["3x35+1x35 NI",0.44215498861588143,0.43971887297612455,0.21985943648806228,0.44215498861588143,0.1473849962052938,7.3692498102646914E-2,"Cabos Padronizados","Cabo Multiplexado"]
["3x70+1x50 NI",0.21206426558178956,0.21089586742431418,0.10544793371215709,0.21206426558178956,7.0688088527263188E-2,3.5344044263631601E-2,"Cabos Padronizados","Cabo Multiplexado"]
["3x120+1x70 NI",0.1272154465579578,0.12651453500667428,6.3257267503337142E-2,0.1272154465579578,4.2405148852652591E-2,2.1202574426326302E-2,"Cabos Padronizados","Cabo Multiplexado"]
["4 CA",0.63949999999999996,0.72450000000000003,0.32290000000000002,0.63949999999999996,0.24279999999999999,0.1079,"Somente Existente","Cabo Nu"]
["1/0 CA",0.29409999999999997,0.3407,0.15140000000000001,0.29409999999999997,0.1142,5.0700000000000002E-2,"Somente Existente","Cabo Nu"]
["16 mm² - Cobre",0.52310000000000001,0.59340000000000004,0.26369999999999999,0.52310000000000001,0.19889999999999999,8.8400000000000006E-2,"Somente Existente","Cabo Nu"]
["35 mm² - Cobre",0.2848,0.3251,0.14449999999999999,0.2848,0.109,4.8399999999999999E-2,"Somente Existente","Cabo Nu"]
["70 mm² - Cobre",0.17660000000000001,0.20349999999999999,9.0399999999999994E-2,0.17660000000000001,6.8199999999999997E-2,3.0300000000000001E-2,"Somente Existente","Cabo Nu"]
[]
[]
["tipo de circuito"]
["Novo"]
["Existente"]
[" "]

{"sheet":"Coeficientes Mono","index":4,"n_rows":7,"n_cols":4,"rows_kept":7,"cut":false,"hidden":true,"merged":[[0,0,2,0]]}
["Cabos","Coeficiente de queda de tensão % / kVA x 100 m"]
[null,"220  V"]
[null,"1F"]
["1x25+1x25 NI",0.60361651838367436,"Somente Existente","Cabo Multiplexado"]
["4 CA",0.63949999999999996,"Somente Existente","Cabo Nu"]
["1/0 CA",0.29409999999999997,"Somente Existente","Cabo Nu"]
["16 mm² - Cobre",0.52310000000000001,"Somente Existente","Cabo Nu"]